Workbook
Name countries: #REF!
Name countries: #REF!
Name countries_big: #REF!,#REF!
Name countries_big: #REF!,#REF!
Name countries_big1: #REF!
Name countries_big1: #REF!
Name countries_big2: #REF!,#REF!
Name countries_big2: #REF!,#REF!
Name Laender: #REF!
Name Laender: #REF!
Name Zellenfarbe: #REF!
Name Zellenfarbe: #REF!
Name Zellenfarbe2: #REF!
Name Zellenfarbe2: #REF!

Sheet web app
B2: Calculation of national CO2 budgets | J2: Drop-down menus
B3: - mobile version -
B5: input fields | C5: Gt CO2 | H5: limiting | J5: budget | K5: LUC | L5: ISA | M5: Weighting P
B7: limiting global warming | C7: 1.8 | H7: 1.5 | I7: 300 | J7: 300 | K7: -100 | L7: 0 | M7: 0 | Q7: info
B8: global budget from 2020 | C8: =VLOOKUP(C7,H7:I10,2,FALSE) -> 650 | H8: =H7+0.1 -> 1.6 | I8: 400 | J8: =J7+100 -> 400 | K8: -75 | L8: =L7+0.01 -> 0.01 | M8: =M7+0.1 -> 0.1
B9: - LUC budget | C9: =-C14 -> 0 | H9: =H8+0.1 -> 1.7 | I9: 550 | J9: =J8+100 -> 500 | K9: =K7+50 -> -50 | L9: =L8+0.01 -> 0.02 | M9: 0.15
B10: - ISA budget | C10: =C8*C15*-1 -> -21.45 | H10: =H9+0.1 -> 1.8 | I10: 650 | J10: 550 | K10: -25 | L10: =L9+0.01 -> 0.03 | M10: =M8+0.1 -> 0.2
B11: + CeCS | C11: 40
B12: budget to distribute | C12: =SUM(C8:C11) -> 668.55 | J12: 600 | K12: =K9+50 -> 0 | L12: =L10+0.01 -> 0.04 | M12: =M10+0.1 -> 0.3
J13: 650 | K13: 25 | L13: =L12+0.01 -> 0.05 | M13: =M12+0.1 -> 0.4
B14: LUC budget | C14: 0 | K14: =K12+50 -> 50 | M14: =M13+0.1 -> 0.5
B15: ISA budget | C15: 0.033 | K15: 75 | M15: =M14+0.1 -> 0.6
K16: =K14+50 -> 100 | M16: =M15+0.1 -> 0.7
B17: select a country or global | M17: =M16+0.1 -> 0.8
B18: China | M18: =M17+0.1 -> 0.9
B20: weighting population | C20: 0.5 | K20: global budget distributed | M20: =M18+0.1 -> 1 | Q20: The weighted key reflects the two most important factors, ‘current reality’ and ‘justice’.
B22: share population 2019 | C22: ='data countries EDGAR'!Z4 -> 0.18414259 | E22: 0.0001 | F22: =E22/10 -> 1e-05 | G22: =F22/10 -> 1e-06 | H22: =G22/10 -> 1e-07 | I22: Roundings
B23: share emissions 2019 | C23: ='data countries EDGAR'!Y4 -> 0.32196462 | E23: 15 | F23: Integer
B24: weighted key | C24: =C22*C20+(1-C20)*C23 -> 0.2530536
B26: =IF(B18="Global",K20,"national budget from 2020") -> national budget from 2020 | C26: =C12*C24 -> 169.17899 | E26: Bi_cor | F26: =C26+0.5*C30 -> 175.08552 | G26: B_cor = B +0.5 * E_BY | K26: GLPM | L26: SLPM | M26: Deviation
B27: year emissions neutrality | C27: =ROUNDUP(0.5+F26/C30*2,0)+2019 -> 2050 | F27: =0.5*1+F26/C30*2+2019 -> 2049.1427 | G27: T without rounding | J27: =B18 -> China | K27: 2041.2994 | L27: =F27 -> 2049.1427 | M27: =L27/K27-1 -> 0.0038422976 | Q27: linear emissions path start 2020 without net negative emissions
B28: emissions 2030 | C28: =IF(C27>2030,-(C30^2/(2*F26))*(2030-2019)+C30,0) -> 7.4293952 | E28: =E30 -> 0.01 | F28: =F30 -> 0.001 | G28: =G30 -> 0.0001 | H28: =H30 -> 1e-05
B29: change 2030 vs. 2019 | C29: =C28/C30-1 -> -0.37108621 | K29: T - 0.5 | L29: =F27-0.5 -> 2048.6427 | M29: E_t; T | N29: =-(C30^2/(2*F26))*(L29-2019)+C30 -> 4.9737992e-14
B30: actual emissions 2019 | C30: ='data countries EDGAR'!N4/1000 -> 11.813058 | E30: =E22*100 -> 0.01 | F30: =E30/10 -> 0.001 | G30: =F30/10 -> 0.0001 | H30: =G30/10 -> 1e-05 | I30: =I22 -> Roundings
Q32: blue points: actual emissions red points: linear emissions path from 2020 that adheres to the budget
B40: instructions and background | C40: detailed version | Q40: main page

Sheet _xltb_storage_
A1: XL Toolbox Settings
B2: export_preset | C2: <?xml version="1.0" encoding="utf-16"?>_x000D_ <Preset xmlns:xsi="http://www.w3.org/2001/XMLSchema-instance" xmlns:xsd="http://www.w3.org/2001/XMLSchema">_x000D_ <Name>Tiff, 300 dpi, RGB, Transparente Leinwand</Name>_x000D_ <Dpi>300</Dpi>_x000D_ <FileType>Tiff</FileType>_x000D_ <ColorSpace>Rgb</ColorSpace>_x000D_ <Transparency>TransparentCanvas</Transparency>_x000D_ <UseColorProfile>false</UseColorProfile>_x000D_ <ColorProfile>sRGB Color Space Profile</ColorProfile>_x000D_ </Preset>
B3: export_path | C3: E:\Klima\Veröffentlichungen\Website\Hilfsdatein_Paris_konkret\EU27l\ESPM_EU27_woLUC_EP40.tif

Sheet path
L2: B_i_cor | M2: ='web app'!F26 -> 175.08552
C3: 2010 | H3: 2015 | M3: 2020 | R3: 2025 | W3: 2030
B4: formula | C4: ='data countries EDGAR'!E4/1000 -> 9.1060051 | D4: ='data countries EDGAR'!F4/1000 -> 9.9557482 | E4: ='data countries EDGAR'!G4/1000 -> 10.270741 | F4: ='data countries EDGAR'!H4/1000 -> 10.76043 | G4: ='data countries EDGAR'!I4/1000 -> 10.881104 | H4: ='data countries EDGAR'!J4/1000 -> 10.749897 | I4: ='data countries EDGAR'!K4/1000 -> 10.773726 | J4: ='data countries EDGAR'!L4/1000 -> 10.999419 | ... L4: ='data countries EDGAR'!N4/1000 -> 11.813058 | M4: =MAX(-($L$4^2/(2*$M$2))*(M6-$L$6)+$L$4,0) -> 11.414543 | N4: =MAX(-($L$4^2/(2*$M$2))*(N6-$L$6)+$L$4,0) -> 11.016029 | O4: =MAX(-($L$4^2/(2*$M$2))*(O6-$L$6)+$L$4,0) -> 10.617514 | P4: =MAX(-($L$4^2/(2*$M$2))*(P6-$L$6)+$L$4,0) -> 10.218999 | Q4: =MAX(-($L$4^2/(2*$M$2))*(Q6-$L$6)+$L$4,0) -> 9.8204841 | R4: =MAX(-($L$4^2/(2*$M$2))*(R6-$L$6)+$L$4,0) -> 9.4219693 | S4: =MAX(-($L$4^2/(2*$M$2))*(S6-$L$6)+$L$4,0) -> 9.0234545 | T4: =MAX(-($L$4^2/(2*$M$2))*(T6-$L$6)+$L$4,0) -> 8.6249397 | ... CO4: =MAX(-($L$4^2/(2*$M$2))*(CO6-$L$6)+$L$4,0) -> 0
B5: actual | L5: ='data countries EDGAR'!N4/1000 -> 11.813058 | M5: ='data countries EDGAR'!O4/1000 -> 11.964129 | N5: ='data countries EDGAR'!P4/1000 -> 12.551865 | O5: ='data countries EDGAR'!Q4/1000 -> 12.518684 | P5: ='data countries EDGAR'!R4/1000 -> 13.021242 | Q5: ='data countries EDGAR'!S4/1000 -> 13.124728
C6: 2010 | D6: =C6+1 -> 2011 | E6: =D6+1 -> 2012 | F6: =E6+1 -> 2013 | G6: =F6+1 -> 2014 | H6: =G6+1 -> 2015 | I6: =H6+1 -> 2016 | J6: =I6+1 -> 2017 | K6: =J6+1 -> 2018 | ... CO6: =CN6+1 -> 2100
W7: ='web app'!C28 -> 7.4293952
C9: annual reduction amount | M9: =M4-L4 -> -0.39851481 | N9: =N4-M4 -> -0.39851481 | O9: =O4-N4 -> -0.39851481 | P9: =P4-O4 -> -0.39851481 | Q9: =Q4-P4 -> -0.39851481 | R9: =R4-Q4 -> -0.39851481 | S9: =S4-R4 -> -0.39851481 | T9: =T4-S4 -> -0.39851481 | ... W9: =W4-V4 -> -0.39851481
C13: Year Emission neutrality via formula: | S13: ='web app'!C27 -> 2050
C16: B | D16: wP | E16: Pi/P | F16: Ei/E | G16: Bi | H16: 2019 | I16: 2020 | J16: 2021 | K16: country | L16: BY | M16: Bi | N16: SY - 2100 | O16: Control | P16: E_BY | Q16: E_min
R17: a | S17: b | T17: c | U17: x_1 | V17: x_2 | W17: U | X17: T | Y17: U | Z17: [U] | AA17: Year minimum positive emissions or zero.
B18: exact | C18: ='web app'!C12 -> 668.55 | D18: ='web app'!C20 -> 0.5 | E18: ='web app'!C22 -> 0.18414259 | F18: ='web app'!C23 -> 0.32196462 | G18: =C18*(D18*E18+(1-D18)*F18) -> 169.17899 | H18: ='data countries EDGAR'!N4/1000 -> 11.813058 | I18: ='data countries EDGAR'!O4/1000 -> 11.964129 | J18: ='data countries EDGAR'!P4/1000 -> 12.551865 | K18: ='web app'!B18 -> China | L18: 2019 | M18: =G18 -> 169.17899 | N18: =SUM(M21:CO21) -> 169.17899 | O18: =ROUND(N18/M18-1,4) -> 0 | P18: =H18 -> 11.813058 | Q18: 0 | R18: =P18-Q18 -> 11.813058 | S18: =-2*P18*(L18+1)+Q18*4202-2*M18 -> -48063.113 | T18: =P18*(L18+1)*(L18+1)+Q18*(L18*(L18+1)-2101*(2*L18+1))+M18*(2*L18+1) -> 48885316 | U18: =(-S18-SQRT(S18^2-4*R18*T18))/(2*R18) -> 2019.5084 | V18: =(-S18+SQRT(S18^2-4*R18*T18))/(2*R18) -> 2049.1343 | W18: =V18 -> 2049.1343 | X18: =(Q18*(L18+0.5)-P18*Y18)/(Q18-P18) -> 2049.1343 | Y18: =V18 -> 2049.1343 | Z18: =ROUNDDOWN(Y18,0) -> 2049 | AA18: {=INDEX(M20:CO20,MATCH(_xlfn.AGGREGATE(15,6,(M21:CO21)/(M21:CO21>=0),1),M21:CO21,0))} -> 2050
K20: t | L20: 2019 | M20: 2020 | N20: 2021 | O20: 2022 | P20: 2023 | Q20: 2024 | R20: 2025 | S20: 2026 | T20: 2027 | U20: 2028 | V20: 2029 | W20: 2030 | X20: 2031 | Y20: 2032 | Z20: 2033 | AA20: 2034 | AB20: 2035 | AC20: 2036 | AD20: 2037 | AE20: 2038 | AF20: 2039 | AG20: 2040 | AH20: 2041 | AI20: 2042 | AJ20: 2043 | AK20: 2044 | AL20: 2045 | AM20: 2046 | AN20: 2047 | AO20: 2048 | AP20: 2049 | AQ20: 2050 | AR20: 2051 | AS20: 2052 | AT20: 2053 | AU20: 2054 | AV20: 2055 | AW20: 2056 | AX20: 2057 | AY20: 2058 | AZ20: 2059 | BA20: 2060 | BB20: 2061 | BC20: 2062 | BD20: 2063 | BE20: 2064 | BF20: 2065 | BG20: 2066 | BH20: 2067 | BI20: 2068 | BJ20: 2069 | BK20: 2070 | BL20: 2071 | BM20: 2072 | BN20: 2073 | BO20: 2074 | BP20: 2075 | BQ20: 2076 | BR20: 2077 | BS20: 2078 | BT20: 2079 | BU20: 2080 | BV20: 2081 | BW20: 2082 | BX20: 2083 | BY20: 2084 | BZ20: 2085 | CA20: 2086 | CB20: 2087 | CC20: 2088 | CD20: 2089 | CE20: 2090 | CF20: 2091 | CG20: 2092 | CH20: 2093 | CI20: 2094 | CJ20: 2095 | CK20: 2096 | CL20: 2097 | CM20: 2098 | CN20: 2099 | CO20: 2100
K21: E(t) | L21: =H18 -> 11.813058 | M21: =IF(M$20<=$L18,0,IF(M$20<$Z18,$P18+($Q18-$P18)/($Y18-($L18+0.5))*(M$20+0.5-($L18+0.5)), IF(M$20=$Z18,($P18+($Q18-$P18)/($Y18-($L18+0.5))*(0.5*($Y18+$Z18)-($L18+0.5)))*($Y18-$Z18)+$Q18*($Z18+1-$Y18), $Q18))) -> 11.41443 | N21: =IF(N$20<=$L18,0,IF(N$20<$Z18,$P18+($Q18-$P18)/($Y18-($L18+0.5))*(N$20+0.5-($L18+0.5)), IF(N$20=$Z18,($P18+($Q18-$P18)/($Y18-($L18+0.5))*(0.5*($Y18+$Z18)-($L18+0.5)))*($Y18-$Z18)+$Q18*($Z18+1-$Y18), $Q18))) -> 11.015802 | O21: =IF(O$20<=$L18,0,IF(O$20<$Z18,$P18+($Q18-$P18)/($Y18-($L18+0.5))*(O$20+0.5-($L18+0.5)), IF(O$20=$Z18,($P18+($Q18-$P18)/($Y18-($L18+0.5))*(0.5*($Y18+$Z18)-($L18+0.5)))*($Y18-$Z18)+$Q18*($Z18+1-$Y18), $Q18))) -> 10.617173 | P21: =IF(P$20<=$L18,0,IF(P$20<$Z18,$P18+($Q18-$P18)/($Y18-($L18+0.5))*(P$20+0.5-($L18+0.5)), IF(P$20=$Z18,($P18+($Q18-$P18)/($Y18-($L18+0.5))*(0.5*($Y18+$Z18)-($L18+0.5)))*($Y18-$Z18)+$Q18*($Z18+1-$Y18), $Q18))) -> 10.218545 | Q21: =IF(Q$20<=$L18,0,IF(Q$20<$Z18,$P18+($Q18-$P18)/($Y18-($L18+0.5))*(Q$20+0.5-($L18+0.5)), IF(Q$20=$Z18,($P18+($Q18-$P18)/($Y18-($L18+0.5))*(0.5*($Y18+$Z18)-($L18+0.5)))*($Y18-$Z18)+$Q18*($Z18+1-$Y18), $Q18))) -> 9.8199169 | R21: =IF(R$20<=$L18,0,IF(R$20<$Z18,$P18+($Q18-$P18)/($Y18-($L18+0.5))*(R$20+0.5-($L18+0.5)), IF(R$20=$Z18,($P18+($Q18-$P18)/($Y18-($L18+0.5))*(0.5*($Y18+$Z18)-($L18+0.5)))*($Y18-$Z18)+$Q18*($Z18+1-$Y18), $Q18))) -> 9.4212886 | S21: =IF(S$20<=$L18,0,IF(S$20<$Z18,$P18+($Q18-$P18)/($Y18-($L18+0.5))*(S$20+0.5-($L18+0.5)), IF(S$20=$Z18,($P18+($Q18-$P18)/($Y18-($L18+0.5))*(0.5*($Y18+$Z18)-($L18+0.5)))*($Y18-$Z18)+$Q18*($Z18+1-$Y18), $Q18))) -> 9.0226603 | T21: =IF(T$20<=$L18,0,IF(T$20<$Z18,$P18+($Q18-$P18)/($Y18-($L18+0.5))*(T$20+0.5-($L18+0.5)), IF(T$20=$Z18,($P18+($Q18-$P18)/($Y18-($L18+0.5))*(0.5*($Y18+$Z18)-($L18+0.5)))*($Y18-$Z18)+$Q18*($Z18+1-$Y18), $Q18))) -> 8.6240321 | ... CO21: =IF(CO$20<=$L18,0,IF(CO$20<$Z18,$P18+($Q18-$P18)/($Y18-($L18+0.5))*(CO$20+0.5-($L18+0.5)), IF(CO$20=$Z18,($P18+($Q18-$P18)/($Y18-($L18+0.5))*(0.5*($Y18+$Z18)-($L18+0.5)))*($Y18-$Z18)+$Q18*($Z18+1-$Y18), $Q18))) -> 0
L23: =IF(L21<>0,L4/L21-1,0) -> 0 | M23: =IF(M21<>0,M4/M21-1,0) -> 9.9389782e-06 | N23: =IF(N21<>0,N4/N21-1,0) -> 2.0597279e-05 | O23: =IF(O21<>0,O4/O21-1,0) -> 3.2055925e-05 | P23: =IF(P21<>0,P4/P21-1,0) -> 4.440858e-05 | Q23: =IF(Q21<>0,Q4/Q21-1,0) -> 5.776412e-05 | R23: =IF(R21<>0,R4/R21-1,0) -> 7.2249843e-05 | S23: =IF(S21<>0,S4/S21-1,0) -> 8.8015548e-05 | ... CO23: =IF(CO21<>0,CO4/CO21-1,0) -> 0

Sheet data countries EDGAR
B2: Country | C2: =C11 -> 1990 | D2: =D11 -> 2005 | E2: =E11 -> 2010 | F2: =F11 -> 2011 | G2: =G11 -> 2012 | H2: =H11 -> 2013 | I2: =I11 -> 2014 | J2: =J11 -> 2015 | ... Z2: =Z11 -> share population 2019
B3: Selected country | C3: =C12 -> Mill. t | D3: =D12 -> Mill. t | E3: =E12 -> Mill. t | F3: =F12 -> Mill. t | G3: =G12 -> Mill. t | H3: =H12 -> Mill. t | I3: =I12 -> Mill. t | J3: =J12 -> Mill. t | ... Z3: =Z12 -> %
B4: ='web app'!B18 -> China | C4: =VLOOKUP($B$4,$B$13:$Z$224,C10,FALSE) -> 2414.2762 | D4: =VLOOKUP($B$4,$B$13:$Z$224,D10,FALSE) -> 6235.6852 | E4: =VLOOKUP($B$4,$B$13:$Z$224,E10,FALSE) -> 9106.0051 | F4: =VLOOKUP($B$4,$B$13:$Z$224,F10,FALSE) -> 9955.7482 | G4: =VLOOKUP($B$4,$B$13:$Z$224,G10,FALSE) -> 10270.741 | H4: =VLOOKUP($B$4,$B$13:$Z$224,H10,FALSE) -> 10760.43 | I4: =VLOOKUP($B$4,$B$13:$Z$224,I10,FALSE) -> 10881.104 | J4: =VLOOKUP($B$4,$B$13:$Z$224,J10,FALSE) -> 10749.897 | ... Z4: =VLOOKUP($B$4,$B$13:$Z$224,Z10,FALSE) -> 0.18414259
B9: column EDGAR | C9: 22 | D9: 37 | E9: 42 | F9: =E9+1 -> 43 | G9: =F9+1 -> 44 | H9: =G9+1 -> 45 | I9: =H9+1 -> 46 | J9: =I9+1 -> 47 | K9: =J9+1 -> 48 | L9: =K9+1 -> 49 | M9: =L9+1 -> 50 | ... S9: =R9+1 -> 56 | W9: 51
B10: 1 | C10: =B10+1 -> 2 | D10: =C10+1 -> 3 | E10: =D10+1 -> 4 | F10: =E10+1 -> 5 | G10: =F10+1 -> 6 | H10: =G10+1 -> 7 | I10: =H10+1 -> 8 | J10: =I10+1 -> 9 | ... Z10: =Y10+1 -> 25
B11: Country | C11: 1990 | D11: 2005 | E11: 2010 | F11: =E11+1 -> 2011 | G11: =F11+1 -> 2012 | H11: =G11+1 -> 2013 | I11: =H11+1 -> 2014 | J11: =I11+1 -> 2015 | K11: =J11+1 -> 2016 | L11: =K11+1 -> 2017 | M11: =L11+1 -> 2018 | ... S11: =R11+1 -> 2024 | T11: change rate 2019 | U11: average annual change rate 2018 - 2019 | V11: change rate 2020 | W11: population 2019 | X11: per capita 2019 | Y11: share emissions 2019 | Z11: share population 2019
C12: Mill. t | D12: Mill. t | E12: =C12 -> Mill. t | F12: =D12 -> Mill. t | G12: =E12 -> Mill. t | H12: =F12 -> Mill. t | I12: =G12 -> Mill. t | J12: =I12 -> Mill. t | K12: =J12 -> Mill. t | L12: =K12 -> Mill. t | M12: =L12 -> Mill. t | N12: =M12 -> Mill. t | O12: =N12 -> Mill. t | P12: =O12 -> Mill. t | Q12: =P12 -> Mill. t | ... S12: =R12 -> Mill. t | T12: % | U12: % | V12: % | W12: Mill. | X12: t | Y12: % | Z12: %
B13: Afghanistan | C13: =VLOOKUP($B13,'EDGAR-2025'!$A$3:$BG$214,C$9,FALSE) -> 2.9083817 | D13: =VLOOKUP($B13,'EDGAR-2025'!$A$3:$BG$214,D$9,FALSE) -> 1.2762845 | E13: =VLOOKUP($B13,'EDGAR-2025'!$A$3:$BG$214,E$9,FALSE) -> 7.8683584 | F13: =VLOOKUP($B13,'EDGAR-2025'!$A$3:$BG$214,F$9,FALSE) -> 11.523075 | G13: =VLOOKUP($B13,'EDGAR-2025'!$A$3:$BG$214,G$9,FALSE) -> 9.8844272 | H13: =VLOOKUP($B13,'EDGAR-2025'!$A$3:$BG$214,H$9,FALSE) -> 8.428701 | I13: =VLOOKUP($B13,'EDGAR-2025'!$A$3:$BG$214,I$9,FALSE) -> 7.9587855 | J13: =VLOOKUP($B13,'EDGAR-2025'!$A$3:$BG$214,J$9,FALSE) -> 8.4271555 | ... S13: =VLOOKUP($B13,'EDGAR-2025'!$A$3:$BG$214,S$9,FALSE) -> 12.068415 | T13: =N13/M13-1 -> 0.024954443 | U13: =AVERAGE(N13/M13-1,M13/L13-1) -> 0.080412492 | V13: =O13/N13-1 -> 0.0032161079 | W13: =VLOOKUP($B13,'EDGAR-P-2025'!$A$3:$BI$214,W$9,FALSE) -> 37.209007 | X13: =N13/W13 -> 0.32531472 | Y13: =N13/$N$224 -> 0.00032991161 | Z13: =W13/$W$224 -> 0.0048249744
B14: Albania | C14: =VLOOKUP($B14,'EDGAR-2025'!$A$3:$BG$214,C$9,FALSE) -> 6.6451015 | D14: =VLOOKUP($B14,'EDGAR-2025'!$A$3:$BG$214,D$9,FALSE) -> 4.148877 | E14: =VLOOKUP($B14,'EDGAR-2025'!$A$3:$BG$214,E$9,FALSE) -> 4.5669698 | F14: =VLOOKUP($B14,'EDGAR-2025'!$A$3:$BG$214,F$9,FALSE) -> 5.0006528 | G14: =VLOOKUP($B14,'EDGAR-2025'!$A$3:$BG$214,G$9,FALSE) -> 4.5384526 | H14: =VLOOKUP($B14,'EDGAR-2025'!$A$3:$BG$214,H$9,FALSE) -> 4.7703176 | I14: =VLOOKUP($B14,'EDGAR-2025'!$A$3:$BG$214,I$9,FALSE) -> 5.1021911 | J14: =VLOOKUP($B14,'EDGAR-2025'!$A$3:$BG$214,J$9,FALSE) -> 4.8756183 | ... S14: =VLOOKUP($B14,'EDGAR-2025'!$A$3:$BG$214,S$9,FALSE) -> 4.2437062 | T14: =N14/M14-1 -> -0.065638741 | U14: =AVERAGE(N14/M14-1,M14/L14-1) -> -0.035359076 | V14: =O14/N14-1 -> -0.083535856 | W14: =VLOOKUP($B14,'EDGAR-P-2025'!$A$3:$BI$214,W$9,FALSE) -> 2.938428 | X14: =N14/W14 -> 1.6961415 | Y14: =N14/$N$224 -> 0.00013583852 | Z14: =W14/$W$224 -> 0.00038103247
B15: Algeria | C15: =VLOOKUP($B15,'EDGAR-2025'!$A$3:$BG$214,C$9,FALSE) -> 72.159927 | D15: =VLOOKUP($B15,'EDGAR-2025'!$A$3:$BG$214,D$9,FALSE) -> 101.40017 | E15: =VLOOKUP($B15,'EDGAR-2025'!$A$3:$BG$214,E$9,FALSE) -> 118.61683 | F15: =VLOOKUP($B15,'EDGAR-2025'!$A$3:$BG$214,F$9,FALSE) -> 124.80345 | G15: =VLOOKUP($B15,'EDGAR-2025'!$A$3:$BG$214,G$9,FALSE) -> 140.2699 | H15: =VLOOKUP($B15,'EDGAR-2025'!$A$3:$BG$214,H$9,FALSE) -> 145.72864 | I15: =VLOOKUP($B15,'EDGAR-2025'!$A$3:$BG$214,I$9,FALSE) -> 155.03301 | J15: =VLOOKUP($B15,'EDGAR-2025'!$A$3:$BG$214,J$9,FALSE) -> 164.57846 | ... S15: =VLOOKUP($B15,'EDGAR-2025'!$A$3:$BG$214,S$9,FALSE) -> 186.35838 | T15: =N15/M15-1 -> 0.039364364 | U15: =AVERAGE(N15/M15-1,M15/L15-1) -> 0.04519021 | V15: =O15/N15-1 -> -0.053586066 | W15: =VLOOKUP($B15,'EDGAR-P-2025'!$A$3:$BI$214,W$9,FALSE) -> 42.679018 | X15: =N15/W15 -> 4.2570416 | Y15: =N15/$N$224 -> 0.0049518573 | Z15: =W15/$W$224 -> 0.0055342828
B16: Angola | C16: =VLOOKUP($B16,'EDGAR-2025'!$A$3:$BG$214,C$9,FALSE) -> 11.230777 | D16: =VLOOKUP($B16,'EDGAR-2025'!$A$3:$BG$214,D$9,FALSE) -> 15.638895 | E16: =VLOOKUP($B16,'EDGAR-2025'!$A$3:$BG$214,E$9,FALSE) -> 22.739935 | F16: =VLOOKUP($B16,'EDGAR-2025'!$A$3:$BG$214,F$9,FALSE) -> 23.650082 | G16: =VLOOKUP($B16,'EDGAR-2025'!$A$3:$BG$214,G$9,FALSE) -> 24.716221 | H16: =VLOOKUP($B16,'EDGAR-2025'!$A$3:$BG$214,H$9,FALSE) -> 28.534264 | I16: =VLOOKUP($B16,'EDGAR-2025'!$A$3:$BG$214,I$9,FALSE) -> 30.887308 | J16: =VLOOKUP($B16,'EDGAR-2025'!$A$3:$BG$214,J$9,FALSE) -> 33.086543 | ... S16: =VLOOKUP($B16,'EDGAR-2025'!$A$3:$BG$214,S$9,FALSE) -> 28.100364 | T16: =N16/M16-1 -> 0.045790358 | U16: =AVERAGE(N16/M16-1,M16/L16-1) -> -0.016055189 | V16: =O16/N16-1 -> -0.23922651 | W16: =VLOOKUP($B16,'EDGAR-P-2025'!$A$3:$BI$214,W$9,FALSE) -> 31.787566 | X16: =N16/W16 -> 0.84927106 | Y16: =N16/$N$224 -> 0.00073578242 | Z16: =W16/$W$224 -> 0.0041219641
B17: Anguilla | C17: =VLOOKUP($B17,'EDGAR-2025'!$A$3:$BG$214,C$9,FALSE) -> 0.0061518886 | D17: =VLOOKUP($B17,'EDGAR-2025'!$A$3:$BG$214,D$9,FALSE) -> 0.01371325 | E17: =VLOOKUP($B17,'EDGAR-2025'!$A$3:$BG$214,E$9,FALSE) -> 0.024096985 | F17: =VLOOKUP($B17,'EDGAR-2025'!$A$3:$BG$214,F$9,FALSE) -> 0.026100808 | G17: =VLOOKUP($B17,'EDGAR-2025'!$A$3:$BG$214,G$9,FALSE) -> 0.026116239 | H17: =VLOOKUP($B17,'EDGAR-2025'!$A$3:$BG$214,H$9,FALSE) -> 0.02803377 | I17: =VLOOKUP($B17,'EDGAR-2025'!$A$3:$BG$214,I$9,FALSE) -> 0.027989551 | J17: =VLOOKUP($B17,'EDGAR-2025'!$A$3:$BG$214,J$9,FALSE) -> 0.028099137 | ... S17: =VLOOKUP($B17,'EDGAR-2025'!$A$3:$BG$214,S$9,FALSE) -> 0.022768634 | T17: =N17/M17-1 -> -0.022700474 | U17: =AVERAGE(N17/M17-1,M17/L17-1) -> -0.025742415 | V17: =O17/N17-1 -> -0.17345739 | W17: =VLOOKUP($B17,'EDGAR-P-2025'!$A$3:$BI$214,W$9,FALSE) -> 0.015174 | X17: =N17/W17 -> 1.8239702 | Y17: =N17/$N$224 -> 7.5433389e-07 | Z17: =W17/$W$224 -> 1.9676462e-06
B18: Antigua and Barbuda | C18: =VLOOKUP($B18,'EDGAR-2025'!$A$3:$BG$214,C$9,FALSE) -> 0.16398075 | D18: =VLOOKUP($B18,'EDGAR-2025'!$A$3:$BG$214,D$9,FALSE) -> 0.17248796 | E18: =VLOOKUP($B18,'EDGAR-2025'!$A$3:$BG$214,E$9,FALSE) -> 0.27886729 | F18: =VLOOKUP($B18,'EDGAR-2025'!$A$3:$BG$214,F$9,FALSE) -> 0.21280518 | G18: =VLOOKUP($B18,'EDGAR-2025'!$A$3:$BG$214,G$9,FALSE) -> 0.22684116 | H18: =VLOOKUP($B18,'EDGAR-2025'!$A$3:$BG$214,H$9,FALSE) -> 0.25982293 | I18: =VLOOKUP($B18,'EDGAR-2025'!$A$3:$BG$214,I$9,FALSE) -> 0.27973044 | J18: =VLOOKUP($B18,'EDGAR-2025'!$A$3:$BG$214,J$9,FALSE) -> 0.29100255 | ... S18: =VLOOKUP($B18,'EDGAR-2025'!$A$3:$BG$214,S$9,FALSE) -> 0.35618735 | T18: =N18/M18-1 -> 0.1928517 | U18: =AVERAGE(N18/M18-1,M18/L18-1) -> 0.11454396 | V18: =O18/N18-1 -> -0.048449253 | W18: =VLOOKUP($B18,'EDGAR-P-2025'!$A$3:$BI$214,W$9,FALSE) -> 0.104084 | X18: =N18/W18 -> 3.2917425 | Y18: =N18/$N$224 -> 9.3380381e-06 | Z18: =W18/$W$224 -> 1.3496803e-05
B19: Argentina | C19: =VLOOKUP($B19,'EDGAR-2025'!$A$3:$BG$214,C$9,FALSE) -> 100.19576 | D19: =VLOOKUP($B19,'EDGAR-2025'!$A$3:$BG$214,D$9,FALSE) -> 153.62892 | E19: =VLOOKUP($B19,'EDGAR-2025'!$A$3:$BG$214,E$9,FALSE) -> 177.31624 | F19: =VLOOKUP($B19,'EDGAR-2025'!$A$3:$BG$214,F$9,FALSE) -> 184.83419 | G19: =VLOOKUP($B19,'EDGAR-2025'!$A$3:$BG$214,G$9,FALSE) -> 188.83652 | H19: =VLOOKUP($B19,'EDGAR-2025'!$A$3:$BG$214,H$9,FALSE) -> 193.179 | I19: =VLOOKUP($B19,'EDGAR-2025'!$A$3:$BG$214,I$9,FALSE) -> 190.02642 | J19: =VLOOKUP($B19,'EDGAR-2025'!$A$3:$BG$214,J$9,FALSE) -> 196.19378 | ... S19: =VLOOKUP($B19,'EDGAR-2025'!$A$3:$BG$214,S$9,FALSE) -> 183.27199 | T19: =N19/M19-1 -> -0.034498633 | U19: =AVERAGE(N19/M19-1,M19/L19-1) -> -0.021315965 | V19: =O19/N19-1 -> -0.082683409 | W19: =VLOOKUP($B19,'EDGAR-P-2025'!$A$3:$BI$214,W$9,FALSE) -> 45.101781 | X19: =N19/W19 -> 4.0634474 | Y19: =N19/$N$224 -> 0.0049949845 | Z19: =W19/$W$224 -> 0.0058484478
B20: Armenia | C20: =VLOOKUP($B20,'EDGAR-2025'!$A$3:$BG$214,C$9,FALSE) -> 20.780133 | D20: =VLOOKUP($B20,'EDGAR-2025'!$A$3:$BG$214,D$9,FALSE) -> 4.4627222 | E20: =VLOOKUP($B20,'EDGAR-2025'!$A$3:$BG$214,E$9,FALSE) -> 4.2991343 | F20: =VLOOKUP($B20,'EDGAR-2025'!$A$3:$BG$214,F$9,FALSE) -> 4.9040968 | G20: =VLOOKUP($B20,'EDGAR-2025'!$A$3:$BG$214,G$9,FALSE) -> 5.6696015 | H20: =VLOOKUP($B20,'EDGAR-2025'!$A$3:$BG$214,H$9,FALSE) -> 5.4928541 | I20: =VLOOKUP($B20,'EDGAR-2025'!$A$3:$BG$214,I$9,FALSE) -> 5.7607423 | J20: =VLOOKUP($B20,'EDGAR-2025'!$A$3:$BG$214,J$9,FALSE) -> 5.6171864 | ... S20: =VLOOKUP($B20,'EDGAR-2025'!$A$3:$BG$214,S$9,FALSE) -> 7.4935904 | T20: =N20/M20-1 -> 0.079492157 | U20: =AVERAGE(N20/M20-1,M20/L20-1) -> 0.062804494 | V20: =O20/N20-1 -> 0.076248733 | W20: =VLOOKUP($B20,'EDGAR-P-2025'!$A$3:$BI$214,W$9,FALSE) -> 2.936706 | X20: =N20/W20 -> 2.1877083 | Y20: =N20/$N$224 -> 0.00017510385 | Z20: =W20/$W$224 -> 0.00038080917
B21: Aruba | C21: =VLOOKUP($B21,'EDGAR-2025'!$A$3:$BG$214,C$9,FALSE) -> 0.20101561 | D21: =VLOOKUP($B21,'EDGAR-2025'!$A$3:$BG$214,D$9,FALSE) -> 0.3853241 | E21: =VLOOKUP($B21,'EDGAR-2025'!$A$3:$BG$214,E$9,FALSE) -> 0.48279821 | F21: =VLOOKUP($B21,'EDGAR-2025'!$A$3:$BG$214,F$9,FALSE) -> 0.29073253 | G21: =VLOOKUP($B21,'EDGAR-2025'!$A$3:$BG$214,G$9,FALSE) -> 0.37536186 | H21: =VLOOKUP($B21,'EDGAR-2025'!$A$3:$BG$214,H$9,FALSE) -> 0.41275839 | I21: =VLOOKUP($B21,'EDGAR-2025'!$A$3:$BG$214,I$9,FALSE) -> 0.44111879 | J21: =VLOOKUP($B21,'EDGAR-2025'!$A$3:$BG$214,J$9,FALSE) -> 0.46252551 | ... S21: =VLOOKUP($B21,'EDGAR-2025'!$A$3:$BG$214,S$9,FALSE) -> 0.55596099 | T21: =N21/M21-1 -> 0.095105318 | U21: =AVERAGE(N21/M21-1,M21/L21-1) -> 0.045614767 | V21: =O21/N21-1 -> -0.040843702 | W21: =VLOOKUP($B21,'EDGAR-P-2025'!$A$3:$BI$214,W$9,FALSE) -> 0.106053 | X21: =N21/W21 -> 4.8046417 | Y21: =N21/$N$224 -> 1.3887682e-05 | Z21: =W21/$W$224 -> 1.3752127e-05
B22: Australia | C22: =VLOOKUP($B22,'EDGAR-2025'!$A$3:$BG$214,C$9,FALSE) -> 277.71499 | D22: =VLOOKUP($B22,'EDGAR-2025'!$A$3:$BG$214,D$9,FALSE) -> 384.12277 | E22: =VLOOKUP($B22,'EDGAR-2025'!$A$3:$BG$214,E$9,FALSE) -> 415.3195 | F22: =VLOOKUP($B22,'EDGAR-2025'!$A$3:$BG$214,F$9,FALSE) -> 412.86199 | G22: =VLOOKUP($B22,'EDGAR-2025'!$A$3:$BG$214,G$9,FALSE) -> 413.37283 | H22: =VLOOKUP($B22,'EDGAR-2025'!$A$3:$BG$214,H$9,FALSE) -> 405.74239 | I22: =VLOOKUP($B22,'EDGAR-2025'!$A$3:$BG$214,I$9,FALSE) -> 396.44232 | J22: =VLOOKUP($B22,'EDGAR-2025'!$A$3:$BG$214,J$9,FALSE) -> 400.63159 | ... S22: =VLOOKUP($B22,'EDGAR-2025'!$A$3:$BG$214,S$9,FALSE) -> 383.40311 | T22: =N22/M22-1 -> -0.0032717661 | U22: =AVERAGE(N22/M22-1,M22/L22-1) -> -0.004023642 | V22: =O22/N22-1 -> -0.037662416 | W22: =VLOOKUP($B22,'EDGAR-P-2025'!$A$3:$BI$214,W$9,FALSE) -> 25.088636 | X22: =N22/W22 -> 16.2587 | Y22: =N22/$N$224 -> 0.011117539 | Z22: =W22/$W$224 -> 0.003253299
B23: Austria | C23: =VLOOKUP($B23,'EDGAR-2025'!$A$3:$BG$214,C$9,FALSE) -> 61.563956 | D23: =VLOOKUP($B23,'EDGAR-2025'!$A$3:$BG$214,D$9,FALSE) -> 80.413743 | E23: =VLOOKUP($B23,'EDGAR-2025'!$A$3:$BG$214,E$9,FALSE) -> 73.799842 | F23: =VLOOKUP($B23,'EDGAR-2025'!$A$3:$BG$214,F$9,FALSE) -> 72.187168 | G23: =VLOOKUP($B23,'EDGAR-2025'!$A$3:$BG$214,G$9,FALSE) -> 69.020733 | H23: =VLOOKUP($B23,'EDGAR-2025'!$A$3:$BG$214,H$9,FALSE) -> 69.608837 | I23: =VLOOKUP($B23,'EDGAR-2025'!$A$3:$BG$214,I$9,FALSE) -> 65.926196 | J23: =VLOOKUP($B23,'EDGAR-2025'!$A$3:$BG$214,J$9,FALSE) -> 67.363215 | ... S23: =VLOOKUP($B23,'EDGAR-2025'!$A$3:$BG$214,S$9,FALSE) -> 58.030404 | T23: =N23/M23-1 -> 0.022689756 | U23: =AVERAGE(N23/M23-1,M23/L23-1) -> -0.0088755663 | V23: =O23/N23-1 -> -0.085211005 | W23: =VLOOKUP($B23,'EDGAR-P-2025'!$A$3:$BI$214,W$9,FALSE) -> 8.766201 | X23: =N23/W23 -> 7.8456658 | Y23: =N23/$N$224 -> 0.0018745069 | Z23: =W23/$W$224 -> 0.0011367327
B24: Azerbaijan | C24: =VLOOKUP($B24,'EDGAR-2025'!$A$3:$BG$214,C$9,FALSE) -> 56.124435 | D24: =VLOOKUP($B24,'EDGAR-2025'!$A$3:$BG$214,D$9,FALSE) -> 31.219335 | E24: =VLOOKUP($B24,'EDGAR-2025'!$A$3:$BG$214,E$9,FALSE) -> 26.636183 | F24: =VLOOKUP($B24,'EDGAR-2025'!$A$3:$BG$214,F$9,FALSE) -> 29.469206 | G24: =VLOOKUP($B24,'EDGAR-2025'!$A$3:$BG$214,G$9,FALSE) -> 32.281132 | H24: =VLOOKUP($B24,'EDGAR-2025'!$A$3:$BG$214,H$9,FALSE) -> 33.211823 | I24: =VLOOKUP($B24,'EDGAR-2025'!$A$3:$BG$214,I$9,FALSE) -> 34.724721 | J24: =VLOOKUP($B24,'EDGAR-2025'!$A$3:$BG$214,J$9,FALSE) -> 34.522933 | ... S24: =VLOOKUP($B24,'EDGAR-2025'!$A$3:$BG$214,S$9,FALSE) -> 38.887499 | T24: =N24/M24-1 -> 0.063846524 | U24: =AVERAGE(N24/M24-1,M24/L24-1) -> 0.039759917 | V24: =O24/N24-1 -> -0.042593683 | W24: =VLOOKUP($B24,'EDGAR-P-2025'!$A$3:$BI$214,W$9,FALSE) -> 10.014575 | X24: =N24/W24 -> 3.6928112 | Y24: =N24/$N$224 -> 0.0010079418 | Z24: =W24/$W$224 -> 0.0012986121
... B221: EU27 | C221: =VLOOKUP($B221,'EDGAR-2025'!$A$3:$BG$214,C$9,FALSE) -> 3805.5182 | D221: =VLOOKUP($B221,'EDGAR-2025'!$A$3:$BG$214,D$9,FALSE) -> 3685.7826 | E221: =VLOOKUP($B221,'EDGAR-2025'!$A$3:$BG$214,E$9,FALSE) -> 3409.4609 | F221: =VLOOKUP($B221,'EDGAR-2025'!$A$3:$BG$214,F$9,FALSE) -> 3313.1888 | G221: =VLOOKUP($B221,'EDGAR-2025'!$A$3:$BG$214,G$9,FALSE) -> 3247.539 | H221: =VLOOKUP($B221,'EDGAR-2025'!$A$3:$BG$214,H$9,FALSE) -> 3162.9572 | I221: =VLOOKUP($B221,'EDGAR-2025'!$A$3:$BG$214,I$9,FALSE) -> 3021.9098 | J221: =VLOOKUP($B221,'EDGAR-2025'!$A$3:$BG$214,J$9,FALSE) -> 3082.0531 | ... S221: =VLOOKUP($B221,'EDGAR-2025'!$A$3:$BG$214,S$9,FALSE) -> 2462.3896 | T221: =N221/M221-1 -> -0.046000486 | U221: =AVERAGE(N221/M221-1,M221/L221-1) -> -0.033606438 | V221: =O221/N221-1 -> -0.092826118 | W221: =VLOOKUP($B221,'EDGAR-P-2025'!$A$3:$BI$214,W$9,FALSE) -> 443.42236 | X221: =N221/W221 -> 6.5589454 | Y221: =N221/$N$224 -> 0.079267912 | Z221: =W221/$W$224 -> 0.05749956
B222: sub-total | C222: =SUMIFS(C13:C221,C13:C221,"<>#NV") -> 25833.661 | D222: =SUMIFS(D13:D221,D13:D221,"<>#NV") -> 32700.134 | E222: =SUMIFS(E13:E221,E13:E221,"<>#NV") -> 36247.692 | F222: =SUMIFS(F13:F221,F13:F221,"<>#NV") -> 37204.364 | G222: =SUMIFS(G13:G221,G13:G221,"<>#NV") -> 37634.602 | H222: =SUMIFS(H13:H221,H13:H221,"<>#NV") -> 38231.745 | I222: =SUMIFS(I13:I221,I13:I221,"<>#NV") -> 38274.889 | J222: =SUMIFS(J13:J221,J13:J221,"<>#NV") -> 38177.809 | ... S222: =SUMIFS(S13:S221,S13:S221,"<>#NV") -> 40783.001 | V222: =O222/N222-1 -> -0.042477419 | W222: =SUMIFS(W13:W221,W13:W221,"<>#NV") -> 8155.1747 | X222: =N222/W222 -> 4.8556815 | Y222: =N222/$N$224 -> 1.0792679 | Z222: =W222/$W$224 -> 1.0574996
B223: EU27 Correction | C223: =-C221 -> -3805.5182 | D223: =-D221 -> -3685.7826 | E223: =-E221 -> -3409.4609 | F223: =-F221 -> -3313.1888 | G223: =-G221 -> -3247.539 | H223: =-H221 -> -3162.9572 | I223: =-I221 -> -3021.9098 | J223: =-J221 -> -3082.0531 | ... S223: =-S221 -> -2462.3896 | V223: =O223/N223-1 -> -0.092826118 | W223: =-W221 -> -443.42236 | X223: =N223/W223 -> 6.5589454 | Y223: =N223/$N$224 -> -0.079267912 | Z223: =W223/$W$224 -> -0.05749956
B224: Global | C224: =SUM(C222:C223) -> 22028.143 | D224: =SUM(D222:D223) -> 29014.351 | E224: =SUM(E222:E223) -> 32838.231 | F224: =SUM(F222:F223) -> 33891.176 | G224: =SUM(G222:G223) -> 34387.063 | H224: =SUM(H222:H223) -> 35068.787 | I224: =SUM(I222:I223) -> 35252.98 | J224: =SUM(J222:J223) -> 35095.756 | ... S224: =SUM(S222:S223) -> 38320.611 | T224: =N224/M224-1 -> 0.0030167687 | U224: =AVERAGE(N224/M224-1,M224/L224-1) -> 0.013505835 | V224: =O224/N224-1 -> -0.038486383 | W224: =SUM(W222:W223) -> 7711.7523 | X224: =N224/W224 -> 4.7577446 | Y224: =N224/$N$224 -> 1 | Z224: =W224/$W$224 -> 1
B225: International Aviation | C225: =VLOOKUP($B225,'EDGAR-2025'!$A$3:$BG$214,C$9,FALSE) -> 260.6886 | D225: =VLOOKUP($B225,'EDGAR-2025'!$A$3:$BG$214,D$9,FALSE) -> 429.00459 | E225: =VLOOKUP($B225,'EDGAR-2025'!$A$3:$BG$214,E$9,FALSE) -> 469.08765 | F225: =VLOOKUP($B225,'EDGAR-2025'!$A$3:$BG$214,F$9,FALSE) -> 481.83779 | G225: =VLOOKUP($B225,'EDGAR-2025'!$A$3:$BG$214,G$9,FALSE) -> 483.97251 | H225: =VLOOKUP($B225,'EDGAR-2025'!$A$3:$BG$214,H$9,FALSE) -> 492.34408 | I225: =VLOOKUP($B225,'EDGAR-2025'!$A$3:$BG$214,I$9,FALSE) -> 507.10419 | J225: =VLOOKUP($B225,'EDGAR-2025'!$A$3:$BG$214,J$9,FALSE) -> 536.45229 | ... S225: =VLOOKUP($B225,'EDGAR-2025'!$A$3:$BG$214,S$9,FALSE) -> 614.15349 | T225: =N225/M225-1 -> 0.014876872 | U225: =AVERAGE(N225/M225-1,M225/L225-1) -> 0.029354181 | V225: =O225/N225-1 -> -0.52680372 | Y225: =N225/N227 -> 0.016440991
B226: International Shipping | C226: =VLOOKUP($B226,'EDGAR-2025'!$A$3:$BG$214,C$9,FALSE) -> 371.24803 | D226: =VLOOKUP($B226,'EDGAR-2025'!$A$3:$BG$214,D$9,FALSE) -> 572.58233 | E226: =VLOOKUP($B226,'EDGAR-2025'!$A$3:$BG$214,E$9,FALSE) -> 662.15542 | F226: =VLOOKUP($B226,'EDGAR-2025'!$A$3:$BG$214,F$9,FALSE) -> 663.72761 | G226: =VLOOKUP($B226,'EDGAR-2025'!$A$3:$BG$214,G$9,FALSE) -> 618.64064 | H226: =VLOOKUP($B226,'EDGAR-2025'!$A$3:$BG$214,H$9,FALSE) -> 616.19696 | I226: =VLOOKUP($B226,'EDGAR-2025'!$A$3:$BG$214,I$9,FALSE) -> 636.86881 | J226: =VLOOKUP($B226,'EDGAR-2025'!$A$3:$BG$214,J$9,FALSE) -> 660.31498 | ... S226: =VLOOKUP($B226,'EDGAR-2025'!$A$3:$BG$214,S$9,FALSE) -> 697.89963 | T226: =N226/M226-1 -> -0.023923799 | U226: =AVERAGE(N226/M226-1,M226/L226-1) -> -0.0099059753 | V226: =O226/N226-1 -> -0.082740489 | Y226: =N226/N227 -> 0.018233936
B227: sum | C227: =SUM(C224:C226:C226) -> 22660.079 | D227: =SUM(D224:D226:D226) -> 30015.938 | E227: =SUM(E224:E226:E226) -> 33969.474 | F227: =SUM(F224:F226:F226) -> 35036.741 | G227: =SUM(G224:G226:G226) -> 35489.676 | H227: =SUM(H224:H226:H226) -> 36177.329 | I227: =SUM(I224:I226:I226) -> 36396.953 | J227: =SUM(J224:J226:J226) -> 36292.523 | ... M227: =SUM(M224:M226:M226) -> 37905.962 | N227: =SUM(N224:N226) -> 38008.489 | O227: =SUM(O224:O226) -> 36209.862 | P227: =SUM(P224:P226) -> 38219.997 | Q227: =SUM(Q224:Q226) -> 38548.119 | R227: =SUM(R224:R226) -> 39112.689 | S227: =SUM(S224:S226) -> 39632.664 | V227: =O227/N227-1 -> -0.047321731 | W227: =W222+W223 -> 7711.7523 | X227: =N227/W227 -> 4.928645 | Z227: =W227/$W$224 -> 1
B228: GLOBAL TOTAL | C228: =VLOOKUP($B228,'EDGAR-2025'!$A$3:$BG$214,C$9,FALSE) -> 22660.079 | D228: =VLOOKUP($B228,'EDGAR-2025'!$A$3:$BG$214,D$9,FALSE) -> 30015.938 | E228: =VLOOKUP($B228,'EDGAR-2025'!$A$3:$BG$214,E$9,FALSE) -> 33969.474 | F228: =VLOOKUP($B228,'EDGAR-2025'!$A$3:$BG$214,F$9,FALSE) -> 35036.741 | G228: =VLOOKUP($B228,'EDGAR-2025'!$A$3:$BG$214,G$9,FALSE) -> 35489.676 | H228: =VLOOKUP($B228,'EDGAR-2025'!$A$3:$BG$214,H$9,FALSE) -> 36177.329 | I228: =VLOOKUP($B228,'EDGAR-2025'!$A$3:$BG$214,I$9,FALSE) -> 36396.953 | J228: =VLOOKUP($B228,'EDGAR-2025'!$A$3:$BG$214,J$9,FALSE) -> 36292.523 | ... S228: =VLOOKUP($B228,'EDGAR-2025'!$A$3:$BG$214,S$9,FALSE) -> 39632.664 | U228: EDGAR | V228: =O228/N228-1 -> -0.047321731 | W228: =VLOOKUP($B228,'EDGAR-P-2025'!$A$3:$BI$214,W$9,FALSE) -> 7711.7523 | X228: =N228/W228 -> 4.928645 | Z228: =W228/$W$224 -> 1
B229: difference | C229: =C228-C227 -> 1.2369128e-10 | D229: =D228-D227 -> -1.0186341e-10 | E229: =E228-E227 -> 6.9849193e-10 | F229: =F228-F227 -> 1.6007107e-10 | G229: =G228-G227 -> -2.6193447e-10 | H229: =H228-H227 -> -1.0186341e-10 | I229: =I228-I227 -> 5.0204108e-10 | J229: =J228-J227 -> 2.910383e-10 | ... S229: =S228-S227 -> -6.5483619e-11 | U229: difference | W229: =W228-W227 -> 6.5483619e-11
C230: =C229/C227 -> 5.4585546e-15 | D230: =D229/D227 -> -3.3936439e-15 | E230: =E229/E227 -> 2.0562341e-14 | F230: =F229/F227 -> 4.5686632e-15 | G230: =G229/G227 -> -7.3805822e-15 | H230: =H229/H227 -> -2.8156697e-15 | I230: =I229/I227 -> 1.3793492e-14 | J230: =J229/J227 -> 8.0192358e-15 | ... M230: =M229/M227 -> -1.2092698e-14 | N230: =(N228-N227)/N228 -> -2.4885874e-15 | O230: =(O228-O227)/O228 -> -1.6075085e-15 | P230: =(P228-P227)/P228 -> 1.9037044e-16 | Q230: =(Q228-Q227)/Q228 -> 1.679875e-14 | R230: =(R228-R227)/R228 -> 3.7205101e-16 | S230: =(S228-S227)/S228 -> -1.6522639e-15 | W230: =W229/W227 -> 8.4914059e-15
B236: drop-down-list
B237: China
B238: United States
B239: EU27
B240: India
B241: Russia
B242: Japan
B243: =B224 -> Global
B244: ='data countries EDGAR'!B13 -> Afghanistan
B245: ='data countries EDGAR'!B14 -> Albania
B246: ='data countries EDGAR'!B15 -> Algeria
...

Sheet EDGAR-2025
A1: 1 | B1: =A1+1 -> 2 | C1: =B1+1 -> 3 | D1: =C1+1 -> 4 | E1: =D1+1 -> 5 | F1: =E1+1 -> 6 | G1: =F1+1 -> 7 | H1: =G1+1 -> 8 | I1: =H1+1 -> 9 | ... BD1: =BC1+1 -> 56
A2: Country | B2: 1970 | C2: 1971 | D2: 1972 | E2: 1973 | F2: 1974 | G2: 1975 | H2: 1976 | I2: 1977 | J2: 1978 | K2: 1979 | L2: 1980 | M2: 1981 | N2: 1982 | O2: 1983 | P2: 1984 | Q2: 1985 | R2: 1986 | S2: 1987 | T2: 1988 | U2: 1989 | V2: 1990 | W2: 1991 | X2: 1992 | Y2: 1993 | Z2: 1994 | AA2: 1995 | AB2: 1996 | AC2: 1997 | AD2: 1998 | AE2: 1999 | AF2: 2000 | AG2: 2001 | AH2: 2002 | AI2: 2003 | AJ2: 2004 | AK2: 2005 | AL2: 2006 | AM2: 2007 | AN2: 2008 | AO2: 2009 | AP2: 2010 | AQ2: 2011 | AR2: 2012 | AS2: 2013 | AT2: 2014 | AU2: 2015 | AV2: 2016 | AW2: 2017 | AX2: 2018 | AY2: 2019 | AZ2: 2020 | BA2: 2021 | BB2: 2022 | BC2: 2023 | BD2: 2024
A3: Aruba | B3: 0.02537682 | C3: 0.028990783 | D3: 0.039635139 | E3: 0.04445247 | F3: 0.043632179 | G3: 0.057559304 | H3: 0.056585941 | I3: 0.067262793 | J3: 0.072100013 | K3: 0.076082069 | L3: 0.079935257 | M3: 0.083056172 | N3: 0.081987012 | O3: 0.084591875 | P3: 0.09875489 | Q3: 0.10430185 | R3: 0.1139047 | S3: 0.12885789 | T3: 0.14301035 | U3: 0.19758086 | V3: 0.20101561 | W3: 0.22641128 | X3: 0.25075375 | Y3: 0.2515814 | Z3: 0.28583323 | AA3: 0.3144398 | AB3: 0.20683577 | AC3: 0.34304254 | AD3: 0.35123798 | AE3: 0.35585908 | AF3: 0.26894484 | AG3: 0.27185675 | AH3: 0.29697865 | AI3: 0.34236462 | AJ3: 0.3493506 | AK3: 0.3853241 | AL3: 0.42419417 | AM3: 0.45806337 | AN3: 0.45454713 | AO3: 0.4933191 | AP3: 0.48279821 | AQ3: 0.29073253 | AR3: 0.37536186 | AS3: 0.41275839 | AT3: 0.44111879 | AU3: 0.46252551 | AV3: 0.48539366 | AW3: 0.46710507 | AX3: 0.46529467 | AY3: 0.50954667 | AZ3: 0.4887349 | BA3: 0.50735052 | BB3: 0.53546506 | BC3: 0.53712384 | BD3: 0.55596099
A4: Afghanistan | B4: 1.7328406 | C4: 1.7326302 | D4: 1.692433 | E4: 1.7325187 | F4: 2.188616 | G4: 2.0275619 | H4: 1.8912575 | I4: 2.2811128 | J4: 1.9326564 | K4: 2.0577434 | L4: 2.0047441 | M4: 2.2580618 | N4: 2.3077943 | O4: 2.9981388 | P4: 3.220467 | Q4: 4.1137757 | R4: 3.9311684 | S4: 3.2610105 | T4: 3.0734092 | U4: 2.8824606 | V4: 2.9083817 | W4: 2.8332134 | X4: 1.8106695 | Y4: 1.7728631 | Z4: 1.6736745 | AA4: 1.4526096 | AB4: 1.4056158 | AC4: 1.3734728 | AD4: 1.4093264 | AE4: 1.3633059 | AF4: 1.0092704 | AG4: 0.94016793 | AH4: 0.93883341 | AI4: 1.0172332 | AJ4: 0.90237508 | AK4: 1.2762845 | AL4: 1.4184924 | AM4: 2.0642455 | AN4: 3.9029294 | AO4: 6.1659184 | AP4: 7.8683584 | AQ4: 11.523075 | AR4: 9.8844272 | AS4: 8.428701 | AT4: 7.9587855 | AU4: 8.4271555 | AV4: 7.6116932 | AW4: 10.397248 | AX4: 11.809928 | AY4: 12.104638 | AZ4: 12.143568 | BA4: 12.486391 | BB4: 11.297964 | BC4: 11.648639 | BD4: 12.068415
A5: Angola | B5: 8.9339397 | C5: 8.5195544 | D5: 10.366147 | E5: 11.347039 | F5: 11.806605 | G5: 10.904499 | H5: 7.2920277 | I5: 12.033521 | J5: 14.216319 | K5: 14.179455 | L5: 14.316182 | M5: 13.232325 | N5: 12.771564 | O5: 13.221351 | P5: 13.356612 | Q5: 14.103804 | R5: 14.24625 | S5: 14.501706 | T5: 14.94087 | U5: 15.103567 | V5: 11.230777 | W5: 11.780549 | X5: 12.119007 | Y5: 12.141815 | Z5: 11.490451 | AA5: 12.953665 | AB5: 15.678803 | AC5: 16.402155 | AD5: 17.03649 | AE5: 18.031494 | AF5: 16.511952 | AG5: 16.192347 | AH5: 15.915484 | AI5: 17.329676 | AJ5: 17.690305 | AK5: 15.638895 | AL5: 16.320291 | AM5: 17.055862 | AN5: 19.119474 | AO5: 21.0889 | AP5: 22.739935 | AQ5: 23.650082 | AR5: 24.716221 | AS5: 28.534264 | AT5: 30.887308 | AU5: 33.086543 | AV5: 31.274847 | AW5: 27.995053 | AX5: 25.814217 | AY5: 26.99626 | AZ5: 20.538039 | BA5: 25.564111 | BB5: 26.683914 | BC5: 27.336005 | BD5: 28.100364
A6: Anguilla | B6: 0.0022029527 | C6: 0.0022030553 | D6: 0.0022985562 | E6: 0.0021438465 | F6: 0.0023852022 | G6: 0.0026190196 | H6: 0.0024695113 | I6: 0.0025721382 | J6: 0.0029367189 | K6: 0.0032481217 | L6: 0.0044477304 | M6: 0.0066747925 | N6: 0.0070537823 | O6: 0.0061237492 | P6: 0.0058360131 | Q6: 0.0037058625 | R6: 0.0031899923 | S6: 0.0061616865 | T6: 0.0058335736 | U6: 0.0061854264 | V6: 0.0061518886 | W6: 0.007617386 | X6: 0.007941339 | Y6: 0.0099910132 | Z6: 0.01317048 | AA6: 0.01643526 | AB6: 0.016253311 | AC6: 0.013604074 | AD6: 0.012489442 | AE6: 0.011791866 | AF6: 0.015572119 | AG6: 0.015951998 | AH6: 0.010901535 | AI6: 0.014150994 | AJ6: 0.013518394 | AK6: 0.01371325 | AL6: 0.012871576 | AM6: 0.012427215 | AN6: 0.015351715 | AO6: 0.020253151 | AP6: 0.024096985 | AQ6: 0.026100808 | AR6: 0.026116239 | AS6: 0.02803377 | AT6: 0.027989551 | AU6: 0.028099137 | AV6: 0.028435081 | AW6: 0.029159123 | AX6: 0.028319796 | AY6: 0.027676923 | AZ6: 0.022876156 | BA6: 0.022090328 | BB6: 0.021933841 | BC6: 0.021917944 | BD6: 0.022768634
A7: Albania | B7: 4.8450751 | C7: 4.8382177 | D7: 5.5183825 | E7: 4.952036 | F7: 5.3297119 | G7: 5.424215 | H7: 5.796672 | I7: 6.2010344 | J7: 6.821099 | K7: 7.9368095 | L7: 8.0565823 | M7: 7.0727146 | N7: 7.2731346 | O7: 7.7923454 | P7: 8.431273 | Q7: 8.0740595 | R7: 8.1514817 | S7: 8.2928331 | T7: 8.199722 | U7: 7.9060523 | V7: 6.6451015 | W7: 4.3796071 | X7: 2.3631713 | Y7: 2.222834 | Z7: 2.3443077 | AA7: 2.0702389 | AB7: 2.0552214 | AC7: 1.5805602 | AD7: 1.9148993 | AE7: 3.0869149 | AF7: 3.2328692 | AG7: 3.4396391 | AH7: 4.0067223 | AI7: 4.2115944 | AJ7: 4.4144308 | AK7: 4.148877 | AL7: 4.135094 | AM7: 4.245998 | AN7: 4.1950491 | AO7: 4.2836094 | AP7: 4.5669698 | AQ7: 5.0006528 | AR7: 4.5384526 | AS7: 4.7703176 | AT7: 5.1021911 | AU7: 4.8756183 | AV7: 4.5382122 | AW7: 5.3613468 | AX7: 5.3341143 | AY7: 4.9839897 | AZ7: 4.5676479 | BA7: 5.1122437 | BB7: 4.5238828 | BC7: 4.2225662 | BD7: 4.2437062
A8: Curaçao | B8: 14.515986 | C8: 14.516002 | D8: 14.114163 | E8: 15.608878 | F8: 14.124217 | G8: 10.196954 | H8: 10.84935 | I8: 10.983399 | J8: 9.2720217 | K8: 9.1826402 | L8: 8.6779603 | M8: 8.0422403 | N8: 7.2960163 | O8: 6.8290471 | P8: 6.6909162 | Q8: 4.4994093 | R8: 4.2972866 | S8: 3.9655169 | T8: 3.4595547 | U8: 2.9569156 | V8: 2.6665937 | W8: 2.7660668 | X8: 2.8836423 | Y8: 2.3671886 | Z8: 2.6652813 | AA8: 2.6718009 | AB8: 2.700446 | AC8: 5.2997327 | AD8: 5.4799734 | AE8: 5.4458189 | AF8: 5.6677404 | AG8: 5.6565722 | AH8: 5.4172695 | AI8: 5.4335034 | AJ8: 5.6365397 | AK8: 5.9131554 | AL8: 5.7815565 | AM8: 6.2603097 | AN8: 6.1993527 | AO8: 5.8788013 | AP8: 4.2883131 | AQ8: 5.5236197 | AR8: 5.6070569 | AS8: 5.1388433 | AT8: 5.6690783 | AU8: 5.7419441 | AV8: 4.9737749 | AW8: 4.0128678 | AX8: 3.2364628 | AY8: 2.5113532 | AZ8: 2.1027872 | BA8: 2.2400943 | BB8: 2.3142134 | BC8: 2.3082694 | BD8: 2.3942391
A9: United Arab Emirates | B9: 19.464782 | C9: 25.429812 | D9: 27.747359 | E9: 35.843602 | F9: 36.010684 | G9: 36.679444 | H9: 45.580994 | I9: 45.876446 | J9: 52.611389 | K9: 37.879505 | L9: 41.13848 | M9: 38.055484 | N9: 38.065032 | O9: 36.792776 | P9: 49.981221 | Q9: 51.811517 | R9: 50.234069 | S9: 52.068048 | T9: 50.989237 | U9: 56.936025 | V9: 56.887567 | W9: 64.722216 | X9: 62.522409 | Y9: 65.914121 | Z9: 72.568529 | AA9: 77.402543 | AB9: 80.89083 | AC9: 84.30161 | AD9: 86.478134 | AE9: 89.152449 | AF9: 88.45693 | AG9: 101.25931 | AH9: 103.5184 | AI9: 108.81956 | AJ9: 115.01966 | AK9: 122.46128 | AL9: 127.19721 | AM9: 137.14409 | AN9: 164.25189 | AO9: 165.33687 | AP9: 171.95292 | AQ9: 177.25723 | AR9: 185.01029 | AS9: 195.05336 | AT9: 198.11378 | AU9: 206.85188 | AV9: 212.43054 | AW9: 204.42271 | AX9: 187.28535 | AY9: 197.84936 | AZ9: 195.67424 | BA9: 199.42099 | BB9: 195.18401 | BC9: 192.69644 | BD9: 200.55897
A10: Argentina | B10: 87.619922 | C10: 87.941608 | D10: 89.766259 | E10: 92.851394 | F10: 93.331239 | G10: 90.967884 | H10: 95.639155 | I10: 99.570842 | J10: 98.631043 | K10: 104.31989 | L10: 101.87791 | M10: 98.848633 | N10: 98.058828 | O10: 101.49138 | P10: 100.88777 | Q10: 94.262617 | R10: 101.69061 | S10: 107.30186 | T10: 111.08672 | U10: 107.78431 | V10: 100.19576 | W10: 105.60175 | X10: 107.52651 | Y10: 111.28742 | Z10: 114.69332 | AA10: 116.28413 | AB10: 126.59196 | AC10: 130.95028 | AD10: 138.03006 | AE10: 139.93099 | AF10: 136.75606 | AG10: 131.32656 | AH10: 124.01508 | AI10: 135.19535 | AJ10: 149.66626 | AK10: 153.62892 | AL10: 162.56133 | AM10: 173.08618 | AN10: 179.22412 | AO10: 164.82041 | AP10: 177.31624 | AQ10: 184.83419 | AR10: 188.83652 | AS10: 193.179 | AT10: 190.02642 | AU10: 196.19378 | AV10: 194.1404 | AW10: 191.37365 | AX10: 189.81715 | AY10: 183.26872 | AZ10: 168.11543 | BA10: 185.67596 | BB10: 195.04106 | BC10: 189.89079 | BD10: 183.27199
A11: Armenia | B11: 10.091387 | C11: 10.107381 | D11: 10.820595 | E11: 11.760081 | F11: 12.673569 | G11: 13.834011 | H11: 14.223333 | I11: 14.758654 | J11: 15.362204 | K11: 15.942135 | L11: 17.007015 | M11: 17.419283 | N11: 17.958792 | O11: 18.012775 | P11: 18.149639 | Q11: 18.233407 | R11: 18.423712 | S11: 18.621367 | T11: 18.526462 | U11: 18.107358 | V11: 20.780133 | W11: 21.598144 | X11: 10.976576 | Y11: 5.1152803 | Z11: 2.8083475 | AA11: 3.5412326 | AB11: 2.5941002 | AC11: 3.3384405 | AD11: 3.472661 | AE11: 3.1042694 | AF11: 3.5696892 | AG11: 3.6334055 | AH11: 3.1014338 | AI11: 3.4707869 | AJ11: 3.7592446 | AK11: 4.4627222 | AL11: 4.4457192 | AM11: 5.1542928 | AN11: 5.6484876 | AO11: 4.5020319 | AP11: 4.2991343 | AQ11: 4.9040968 | AR11: 5.6696015 | AS11: 5.4928541 | AT11: 5.7607423 | AU11: 5.6171864 | AV11: 5.3748722 | AW11: 5.6891868 | AX11: 5.9515541 | AY11: 6.424656 | AZ11: 6.9145279 | BA11: 7.4634303 | BB11: 7.7741889 | BC11: 7.4987034 | BD11: 7.4935904
A12: Antigua and Barbuda | B12: 0.10268523 | C12: 0.10259964 | D12: 0.12489433 | E12: 0.12598559 | F12: 0.11225786 | G12: 0.13585621 | H12: 0.1231799 | I12: 0.13598541 | J12: 0.13601688 | K12: 0.13452704 | L12: 0.13299629 | M12: 0.11659956 | N12: 0.14792785 | O12: 0.085655376 | P12: 0.10461884 | Q12: 0.104978 | R12: 0.11098802 | S12: 0.14655777 | T12: 0.15818926 | U12: 0.16214088 | V12: 0.16398075 | W12: 0.16469283 | X12: 0.16584143 | Y12: 0.16165816 | Z12: 0.17605375 | AA12: 0.18420393 | AB12: 0.18273768 | AC12: 0.19330089 | AD12: 0.19790398 | AE12: 0.20047157 | AF12: 0.13567144 | AG12: 0.13264296 | AH12: 0.15007224 | AI12: 0.16369871 | AJ12: 0.16638717 | AK12: 0.17248796 | AL12: 0.19621538 | AM12: 0.21464168 | AN12: 0.23107971 | AO12: 0.26665862 | AP12: 0.27886729 | AQ12: 0.21280518 | AR12: 0.22684116 | AS12: 0.25982293 | AT12: 0.27973044 | AU12: 0.29100255 | AV12: 0.3149167 | AW12: 0.27718174 | AX12: 0.28722575 | AY12: 0.34261773 | AZ12: 0.32601816 | BA12: 0.33153928 | BB12: 0.34301061 | BC12: 0.34409458 | BD12: 0.35618735
A13: Australia | B13: 160.69386 | C13: 162.4245 | D13: 168.27359 | E13: 177.63497 | F13: 187.16267 | G13: 193.91125 | H13: 196.70034 | I13: 209.98019 | J13: 206.30506 | K13: 212.16197 | L13: 222.33134 | M13: 223.29131 | N13: 229.57887 | O13: 218.04976 | P13: 223.83533 | Q13: 237.93818 | R13: 238.39802 | S13: 249.58727 | T13: 258.38606 | U13: 274.16396 | V13: 277.71499 | W13: 279.73681 | X13: 283.11773 | Y13: 287.02911 | Z13: 292.3876 | AA13: 302.69413 | AB13: 312.67803 | AC13: 322.37615 | AD13: 342.12056 | AE13: 348.13055 | AF13: 353.89563 | AG13: 360.42786 | AH13: 368.64126 | AI13: 368.14017 | AJ13: 381.9789 | AK13: 384.12277 | AL13: 390.19075 | AM13: 400.70098 | AN13: 404.33235 | AO13: 410.30129 | AP13: 415.3195 | AQ13: 412.86199 | AR13: 413.37283 | AS13: 405.74239 | AT13: 396.44232 | AU13: 400.63159 | AV13: 408.61321 | AW13: 411.21131 | AX13: 409.24757 | AY13: 407.90861 | AZ13: 392.54578 | BA13: 384.73475 | BB13: 378.06509 | BC13: 377.49569 | BD13: 383.40311
... A214: International Shipping | B214: 353.83702 | C214: 353.83702 | D214: 370.40017 | E214: 391.41304 | F214: 365.73448 | G214: 341.02302 | H214: 351.65888 | I214: 351.47293 | J214: 353.60256 | K214: 364.34125 | L214: 356.79443 | M214: 331.68008 | N214: 298.93534 | O214: 279.94873 | P214: 283.73643 | Q214: 306.26937 | R214: 325.69655 | S214: 322.25052 | T214: 337.88179 | U214: 337.81647 | V214: 371.24803 | W214: 386.02243 | X214: 414.91393 | Y214: 402.12791 | Z214: 414.45019 | AA214: 429.87878 | AB214: 438.42251 | AC214: 449.32161 | AD214: 463.02363 | AE214: 490.64998 | AF214: 503.2899 | AG214: 477.10962 | AH214: 495.35843 | AI214: 503.27004 | AJ214: 553.10172 | AK214: 572.58233 | AL214: 609.81925 | AM214: 645.86695 | AN214: 646.9856 | AO214: 615.59967 | AP214: 662.15542 | AQ214: 663.72761 | AR214: 618.64064 | AS214: 616.19696 | AT214: 636.86881 | AU214: 660.31498 | AV214: 680.07747 | AW214: 707.12341 | AX214: 710.03099 | AY214: 693.04436 | AZ214: 635.70153 | BA214: 657.31968 | BB214: 659.31187 | BC214: 712.39228 | BD214: 697.89963

Sheet EDGAR-P-2025
A1: 1 | B1: =A1+1 -> 2 | C1: =B1+1 -> 3 | D1: =C1+1 -> 4 | E1: =D1+1 -> 5 | F1: =E1+1 -> 6 | G1: =F1+1 -> 7 | H1: =G1+1 -> 8 | I1: =H1+1 -> 9 | ... BD1: =BC1+1 -> 56
A2: Country | B2: 1970 | C2: 1971 | D2: 1972 | E2: 1973 | F2: 1974 | G2: 1975 | H2: 1976 | I2: 1977 | J2: 1978 | K2: 1979 | L2: 1980 | M2: 1981 | N2: 1982 | O2: 1983 | P2: 1984 | Q2: 1985 | R2: 1986 | S2: 1987 | T2: 1988 | U2: 1989 | V2: 1990 | W2: 1991 | X2: 1992 | Y2: 1993 | Z2: 1994 | AA2: 1995 | AB2: 1996 | AC2: 1997 | AD2: 1998 | AE2: 1999 | AF2: 2000 | AG2: 2001 | AH2: 2002 | AI2: 2003 | AJ2: 2004 | AK2: 2005 | AL2: 2006 | AM2: 2007 | AN2: 2008 | AO2: 2009 | AP2: 2010 | AQ2: 2011 | AR2: 2012 | AS2: 2013 | AT2: 2014 | AU2: 2015 | AV2: 2016 | AW2: 2017 | AX2: 2018 | AY2: 2019 | AZ2: 2020 | BA2: 2021 | BB2: 2022 | BC2: 2023 | BD2: 2024
A3: Aruba | B3: 0.059063 | C3: 0.05944 | D3: 0.05984 | E3: 0.060243 | F3: 0.060528 | G3: 0.060657 | H3: 0.060586 | I3: 0.060366 | J3: 0.060103 | K3: 0.05998 | L3: 0.060096 | M3: 0.060567 | N3: 0.061345 | O3: 0.062201 | P3: 0.062836 | Q3: 0.063026 | R3: 0.062644 | S3: 0.061833 | T3: 0.061079 | U3: 0.061032 | V3: 0.062149 | W3: 0.064622 | X3: 0.068235 | Y3: 0.072504 | Z3: 0.0767 | AA3: 0.080324 | AB3: 0.0832 | AC3: 0.085451 | AD3: 0.087277 | AE3: 0.089005 | AF3: 0.090853 | AG3: 0.092898 | AH3: 0.094992 | AI3: 0.097017 | AJ3: 0.098737 | AK3: 0.100031 | AL3: 0.100832 | AM3: 0.10122 | AN3: 0.101353 | AO3: 0.101453 | AP3: 0.101669 | AQ3: 0.102053 | AR3: 0.102577 | AS3: 0.103187 | AT3: 0.103795 | AU3: 0.104341 | AV3: 0.104822 | AW3: 0.105264 | AX3: 0.10567 | AY3: 0.106053 | AZ3: 0.106438 | BA3: 0.107 | BB3: 0.107 | BC3: 0.108 | BD3: 0.108
A4: Afghanistan | B4: 11.1261 | C4: 11.4178 | D4: 11.7219 | E4: 12.0278 | F4: 12.3215 | G4: 12.5903 | H4: 12.8403 | I4: 13.0675 | J4: 13.2377 | K4: 13.3067 | L4: 13.2484 | M4: 13.054 | N4: 12.7496 | O4: 12.3893 | P4: 12.0471 | Q4: 11.783 | R4: 11.601 | S4: 11.5028 | T4: 11.5409 | U4: 11.7776 | V4: 12.2491 | W4: 12.9937 | X4: 13.9812 | Y4: 15.0951 | Z4: 16.1727 | AA4: 17.0995 | AB4: 17.8229 | AC4: 18.3816 | AD4: 18.864 | AE4: 19.4037 | AF4: 20.0938 | AG4: 20.9665 | AH4: 21.9799 | AI4: 23.0649 | AJ4: 24.119 | AK4: 25.0708 | AL4: 25.8935 | AM4: 26.6168 | AN4: 27.294 | AO4: 28.0043 | AP4: 28.8032 | AQ4: 29.7086 | AR4: 30.697 | AS4: 31.7317 | AT4: 32.758 | AU4: 33.7365 | AV4: 34.656 | AW4: 35.5301 | AX4: 36.373176 | AY4: 37.209007 | AZ4: 38.054941 | BA4: 38.914 | BB4: 39.78 | BC4: 40.649 | BD4: 41.52
A5: Angola | B5: 6.77638 | C5: 6.92727 | D5: 7.09483 | E5: 7.27796 | F5: 7.47434 | G5: 7.68248 | H5: 7.901 | I5: 8.13099 | J5: 8.37615 | K5: 8.64152 | L5: 8.9299 | M5: 9.24451 | N5: 9.58216 | O5: 9.93156 | P5: 10.2773 | Q5: 10.609 | R5: 10.921 | S5: 11.2183 | T5: 11.514 | U5: 11.8272 | V5: 12.1714 | W5: 12.5534 | X5: 12.9683 | Y5: 13.4037 | Z5: 13.8413 | AA5: 14.269 | AB5: 14.6823 | AC5: 15.089 | AD5: 15.5043 | AE5: 15.9498 | AF5: 16.4409 | AG5: 16.9833 | AH5: 17.5726 | AI5: 18.2034 | AJ5: 18.8657 | AK5: 19.5525 | AL5: 20.2624 | AM5: 20.9977 | AN5: 21.7594 | AO5: 22.5495 | AP5: 23.3691 | AQ5: 24.2186 | AR5: 25.0962 | AS5: 25.9983 | AT5: 26.9205 | AU5: 27.8593 | AV5: 28.8135 | AW5: 29.7842 | AX5: 30.774205 | AY5: 31.787566 | AZ5: 32.827401 | BA5: 33.894 | BB5: 34.988 | BC5: 36.109 | BD5: 37.257
A6: Anguilla | B6: 0.006403 | C6: 0.006451 | D6: 0.006501 | E6: 0.006556 | F6: 0.006596 | G6: 0.006629 | H6: 0.00666 | I6: 0.006687 | J6: 0.006709 | K6: 0.006713 | L6: 0.006702 | M6: 0.00665 | N6: 0.006588 | O6: 0.006539 | P6: 0.006552 | Q6: 0.006662 | R6: 0.006875 | S6: 0.007195 | T6: 0.007574 | U6: 0.007965 | V6: 0.008334 | W6: 0.008666 | X6: 0.008981 | Y6: 0.009266 | Z6: 0.009537 | AA6: 0.009802 | AB6: 0.010058 | AC6: 0.010303 | AD6: 0.010548 | AE6: 0.010793 | AF6: 0.01107 | AG6: 0.011372 | AH6: 0.011692 | AI6: 0.012021 | AJ6: 0.012339 | AK6: 0.012638 | AL6: 0.012903 | AM6: 0.01315 | AN6: 0.01336 | AO6: 0.013565 | AP6: 0.013769 | AQ6: 0.013951 | AR6: 0.014129 | AS6: 0.014299 | AT6: 0.014459 | AU6: 0.014611 | AV6: 0.014764 | AW6: 0.014909 | AX6: 0.015045 | AY6: 0.015174 | AZ6: 0.015283 | BA6: 0.015 | BB6: 0.015 | BC6: 0.016 | BD6: 0.016
A7: Albania | B7: 2.1506 | C7: 2.20203 | D7: 2.25384 | E7: 2.306 | F7: 2.35846 | G7: 2.41123 | H7: 2.46434 | I7: 2.51787 | J7: 2.57185 | K7: 2.62629 | L7: 2.68124 | M7: 2.73533 | N7: 2.78831 | O7: 2.84262 | P7: 2.90159 | Q7: 2.9668 | R7: 3.04101 | S7: 3.12134 | T7: 3.19707 | U7: 3.25366 | V7: 3.28145 | W7: 3.27543 | X7: 3.24059 | Y7: 3.18958 | Z7: 3.14059 | AA7: 3.10674 | AB7: 3.09223 | AC7: 3.09304 | AD7: 3.10376 | AE7: 3.11558 | AF7: 3.12197 | AG7: 3.12241 | AH7: 3.11903 | AI7: 3.11101 | AJ7: 3.09775 | AK7: 3.07918 | AL7: 3.05433 | AM7: 3.02391 | AN7: 2.99165 | AO7: 2.96264 | AP7: 2.94053 | AQ7: 2.92666 | AR7: 2.92004 | AS7: 2.91898 | AT7: 2.92078 | AU7: 2.92335 | AV7: 2.92635 | AW7: 2.93019 | AX7: 2.934363 | AY7: 2.938428 | AZ7: 2.942034 | BA7: 2.944 | BB7: 2.947 | BC7: 2.947 | BD7: 2.947
A8: Curaçao | B8: 0.143634 | C8: 0.145447 | D8: 0.147152 | E8: 0.148618 | F8: 0.149683 | G8: 0.150258 | H8: 0.15024 | I8: 0.149715 | J8: 0.148929 | K8: 0.148277 | L8: 0.147996 | M8: 0.14821 | N8: 0.148814 | O8: 0.14958 | P8: 0.150187 | Q8: 0.150377 | R8: 0.150057 | S8: 0.149324 | T8: 0.148354 | U8: 0.14741 | V8: 0.146671 | W8: 0.146239 | X8: 0.146021 | Y8: 0.145764 | Z8: 0.145125 | AA8: 0.143884 | AB8: 0.141983 | AC8: 0.139569 | AD8: 0.136891 | AE8: 0.134311 | AF8: 0.132099 | AG8: 0.130277 | AH8: 0.128829 | AI8: 0.128021 | AJ8: 0.128157 | AK8: 0.129394 | AL8: 0.131898 | AM8: 0.135498 | AN8: 0.13973 | AO8: 0.143933 | AP8: 0.147608 | AQ8: 0.150593 | AR8: 0.152985 | AS8: 0.154895 | AT8: 0.156512 | AU8: 0.15801 | AV8: 0.159371 | AW8: 0.160539 | AX8: 0.161577 | AY8: 0.162547 | AZ8: 0.163495 | BA8: 0.164 | BB8: 0.165 | BC8: 0.166 | BD8: 0.167
A9: United Arab Emirates | B9: 0.235499 | C9: 0.278808 | D9: 0.33276 | E9: 0.397174 | F9: 0.471364 | G9: 0.554324 | H9: 0.646943 | I9: 0.748117 | J9: 0.852262 | K9: 0.95204 | L9: 1.04238 | M9: 1.1209 | N9: 1.18955 | O9: 1.25306 | P9: 1.31848 | Q9: 1.39105 | R9: 1.47222 | S9: 1.56072 | T9: 1.65585 | U9: 1.75604 | V9: 1.86017 | W9: 1.97003 | X9: 2.08664 | Y9: 2.20741 | Z9: 2.32869 | AA9: 2.44882 | AB9: 2.57102 | AC9: 2.70001 | AD9: 2.83814 | AE9: 2.98816 | AF9: 3.15493 | AG9: 3.32603 | AH9: 3.50723 | AI9: 3.74193 | AJ9: 4.08793 | AK9: 4.57956 | AL9: 5.24203 | AM9: 6.04407 | AN9: 6.89428 | AO9: 7.66639 | AP9: 8.27068 | AQ9: 8.67248 | AR9: 8.90045 | AS9: 9.00626 | AT9: 9.07087 | AU9: 9.1543 | AV9: 9.26961 | AW9: 9.40015 | AX9: 9.541615 | AY9: 9.682088 | AZ9: 9.81317 | BA9: 9.937 | BB9: 10.061 | BC9: 10.187 | BD9: 10.311
A10: Argentina | B10: 23.9731 | C10: 24.3664 | D10: 24.7829 | E10: 25.2134 | F10: 25.6445 | G10: 26.067 | H10: 26.4772 | I10: 26.8786 | J10: 27.2777 | K10: 27.6845 | L10: 28.1059 | M10: 28.5434 | N10: 28.994 | O10: 29.4547 | P10: 29.9209 | Q10: 30.3888 | R10: 30.8572 | S10: 31.3265 | T10: 31.7955 | U10: 32.2636 | V10: 32.7297 | W10: 33.1939 | X10: 33.6552 | Y10: 34.1109 | Z10: 34.5581 | AA10: 34.9948 | AB10: 35.4197 | AC10: 35.834 | AD10: 36.2416 | AE10: 36.6481 | AF10: 37.0575 | AG10: 37.4715 | AH10: 37.8894 | AI10: 38.3094 | AJ10: 38.7287 | AK10: 39.1455 | AL10: 39.5589 | AM10: 39.9702 | AN10: 40.3824 | AO10: 40.7994 | AP10: 41.2239 | AQ10: 41.6569 | AR10: 42.0967 | AS10: 42.5399 | AT10: 42.9815 | AU10: 43.4178 | AV10: 43.8474 | AW10: 44.271 | AX10: 44.688864 | AY10: 45.101781 | AZ10: 45.510399 | BA10: 45.914 | BB10: 46.314 | BC10: 46.707 | BD10: 47.096
A11: Armenia | B11: 2.52507 | C11: 2.58771 | D11: 2.65048 | E11: 2.71278 | F11: 2.77375 | G11: 2.83276 | H11: 2.88958 | I11: 2.94438 | J11: 2.99741 | K11: 3.04911 | L11: 3.09975 | M11: 3.14809 | N11: 3.19369 | O11: 3.23859 | P11: 3.28559 | Q11: 3.33593 | R11: 3.39226 | S11: 3.45194 | T11: 3.50465 | U11: 3.53647 | V11: 3.53816 | W11: 3.50525 | X11: 3.44281 | Y11: 3.3631 | Z11: 3.28366 | AA11: 3.21734 | AB11: 3.16822 | AC11: 3.13309 | AD11: 3.10868 | AE11: 3.08902 | AF11: 3.06959 | AG11: 3.05066 | AH11: 3.0339 | AI11: 3.01781 | AJ11: 3.00061 | AK11: 2.98126 | AL11: 2.9585 | AM11: 2.93306 | AN11: 2.90822 | AO11: 2.88858 | AP11: 2.87731 | AQ11: 2.87558 | AR11: 2.88192 | AS11: 2.89351 | AT11: 2.90622 | AU11: 2.91695 | AV11: 2.92482 | AW11: 2.93045 | AX11: 2.934152 | AY11: 2.936706 | AZ11: 2.938679 | BA11: 2.94 | BB11: 2.94 | BC11: 2.939 | BD11: 2.938
A12: Antigua and Barbuda | B12: 0.067098 | C12: 0.068188 | D12: 0.069176 | E12: 0.070066 | F12: 0.070878 | G12: 0.071609 | H12: 0.072285 | I12: 0.072875 | J12: 0.073324 | K12: 0.073528 | L12: 0.073442 | M12: 0.073066 | N12: 0.072448 | O12: 0.071639 | P12: 0.070725 | Q12: 0.069782 | R12: 0.068809 | S12: 0.067845 | T12: 0.067058 | U12: 0.066627 | V12: 0.066696 | W12: 0.067307 | X12: 0.068427 | Y12: 0.069938 | Z12: 0.071719 | AA12: 0.073619 | AB12: 0.075628 | AC12: 0.077739 | AD12: 0.079851 | AE12: 0.081831 | AF12: 0.083584 | AG12: 0.085057 | AH12: 0.086266 | AI12: 0.087293 | AJ12: 0.088257 | AK12: 0.089253 | AL12: 0.090301 | AM12: 0.091381 | AN12: 0.092478 | AO12: 0.093581 | AP12: 0.094661 | AQ12: 0.095719 | AR12: 0.096777 | AS12: 0.097824 | AT12: 0.098875 | AU12: 0.099923 | AV12: 0.100963 | AW12: 0.102012 | AX12: 0.10305 | AY12: 0.104084 | AZ12: 0.10511 | BA12: 0.106 | BB12: 0.107 | BC12: 0.108 | BD12: 0.11
A13: Australia | B13: 12.8429 | C13: 13.0842 | D13: 13.2969 | E13: 13.4864 | F13: 13.662 | G13: 13.8312 | H13: 13.9946 | I13: 14.1521 | J13: 14.3093 | K13: 14.4732 | L13: 14.6491 | M13: 14.8385 | N13: 15.0411 | O13: 15.2574 | P13: 15.4872 | Q13: 15.7296 | R13: 15.9862 | S13: 16.2549 | T13: 16.5274 | U13: 16.7923 | V13: 17.0414 | W13: 17.2719 | X13: 17.4859 | Y13: 17.6875 | Z13: 17.8827 | AA13: 18.0767 | AB13: 18.2717 | AC13: 18.4676 | AD13: 18.665 | AE13: 18.8641 | AF13: 19.0658 | AG13: 19.2685 | AH13: 19.4752 | AI13: 19.697 | AJ13: 19.9484 | AK13: 20.2389 | AL13: 20.5736 | AM13: 20.9467 | AN13: 21.3425 | AO13: 21.739 | AP13: 22.1201 | AQ13: 22.4798 | AR13: 22.8218 | AS13: 23.1507 | AT13: 23.4747 | AU13: 23.7996 | AV13: 24.1258 | AW13: 24.4506 | AX13: 24.772247 | AY13: 25.088636 | AZ13: 25.398177 | BA13: 25.701 | BB13: 25.997 | BC13: 26.287 | BD13: 26.573
... A212: GLOBAL TOTAL | B212: 3699.8065 | C212: 3775.0004 | D212: 3850.7358 | E212: 3926.7083 | F212: 4002.5965 | G212: 4078.2167 | H212: 4153.4003 | I212: 4228.294 | J212: 4303.4512 | K212: 4379.6414 | L212: 4457.4441 | M212: 4536.8561 | N212: 4617.7588 | O212: 4700.4874 | P212: 4785.4198 | Q212: 4872.6863 | R212: 4962.517 | S212: 5054.4874 | T212: 5147.3843 | U212: 5239.5328 | V212: 5329.7115 | W212: 5417.4887 | X212: 5503.0984 | Y212: 5586.7678 | Z212: 5668.9532 | AA212: 5750.076 | AB212: 5830.1298 | AC212: 5909.1017 | AD212: 5987.3402 | AE212: 6065.3395 | AF212: 6143.4431 | AG212: 6221.8223 | AH212: 6300.5342 | AI212: 6379.7587 | AJ212: 6459.7161 | AK212: 6540.498 | AL212: 6622.21 | AM212: 6704.8065 | AN212: 6788.2031 | AO212: 6872.1836 | AP212: 6956.6068 | AQ212: 7041.4131 | AR212: 7126.5254 | AS212: 7211.678 | AT212: 7296.5948 | AU212: 7380.9996 | AV212: 7464.7747 | AW212: 7547.863 | AX212: 7630.1993 | AY212: 7711.7523 | AZ212: 7792.4903 | BA212: 7874.8329 | BB212: 7953.8262 | BC212: 8031.8212 | BD212: 8108.8389

Sheet imprint
B2: Andreas Wolfsteiner
B3: Günter Wittmann
B5: save-the-climate@online.ms
B7: www.save-the-climate.info
B9: On request, we will gladly send a version without sheet protection.
