Workbook
Name countries: #REF!
Name countries_big: #REF!,#REF!
Name countries_big1: #REF!
Name countries_big2: #REF!,#REF!
Name Laender: #REF!
Name Zellenfarbe: #REF!
Name Zellenfarbe2: #REF!

Sheet web app
B2: Calculation of Paris-compatible national CO2 budgets with a weighted distribution key | J2: Hide
B4: https://national-budgets.climate-calculator.info | D4: Guidance and background information: | H4: PDF
B6: Input of global framework data
B8: budgets published by the IPCC | C8: Gt | E8: Enter the global LUC budget from 2020 on in Gt: | H8: 0 | I8: info
B9: global CO2 budget from and including 2020 on | C9: 650
B10: LUC budget (land-use change) | C10: =-H8 -> 0 | E10: How much should be reserved for ISA emissions? | H10: 0.033 | I10: share 2019: 3.3%
B11: ISA budget (international shipping and aviation) | C11: =C9*H10*-1 -> -21.45
B12: adjustment CeCS (Cement Carbonation Sink) | C12: =-H12 -> 40 | E12: CeCS estimate 2020 – 2100 in Gt | H12: -40 | I12: =CONCATENATE("actual 2019: ",ROUND(-'data countries EDGAR'!M236,1)) -> actual 2019: -0,8
B13: global budget to be allocated here | C13: =SUM(C9:C12) -> 668.55
B15: possible net negative emissions = % of emissions in 2019 | C15: 0.02 | D15: ► potential overshoot | G15: info
B17: weighting population vs. emissions | C17: 0.15 | D17: C | E17: =IFERROR(VLOOKUP(C17,L17:M18,2,FALSE),0) -> 0 | L17: 0 | M17: 'grandfathering'
L18: 1 | M18: 'per capita distribution'
B19: Calculation of the national CO2 budget and emission targets
B20: - the emission targets are based on a linear emission path -
B22: select a country or global | M22: 2025 | N22: start year 2 | O22: {=CELL("adresse",M22)} -> $M$22 | P22: EDGAR | Q22: =CONCATENATE("start year ",M22) -> start year 2025
B23: China | C23: Below ‘global’, all other countries in the world in alphabetical order. | M23: 2026 | N23: start year 2 | O23: {=CELL("adresse",M23)} -> $M$23 | P23: GCP | Q23: =CONCATENATE("start year ",M23) -> start year 2026
B25: share selected country in global population 2019 | C25: ='data countries EDGAR'!AA6 -> 0.18414259
B26: share selected country in global emissions 2019 | C26: ='data countries EDGAR'!Z6 -> 0.32196462
B27: weighted distribution key | C27: =C25*C17+(1-C17)*C26 -> 0.30129131 | D27: WK | L27: 0.001 | M27: =L27/10 -> 0.0001 | N27: =M27/10 -> 1e-05 | O27: =N27/10 -> 1e-06 | P27: %
B29: global CO2 budget from 2020 on in Gt (see above) | C29: =IF(B23<>'data countries EDGAR'!A249,C13,C9) -> 668.55 | D29: B
B31: CO2 budget from 2020 on in Gt | C31: =C29*C27 -> 201.42831 | D31: Bi
B33: =IF(B23='data countries EDGAR'!A234,CONCATENATE("remaining budget from ",$M$23," on in Gt"),CONCATENATE("remaining budget from ",$M$22," on in Gt")) -> remaining budget from 2025 on in Gt | C33: =paths!U46 -> 138.24766 | L33: 20 | M33: =L27*10 -> 0.01 | N33: =M27*10 -> 0.001 | O33: =N27*10 -> 0.0001 | P33: =O27*10 -> 1e-05 | Q33: value
B35: key figures for a linear emission path
B37: year emissions neutrality | D37: If the year of emissions neutrality, taking into account already known actual emissions after 2019, must occur earlier than with the emissions path from 2020, then the selected country is not on track to meet its CO2 budget from 2020 with a linear emissions path.
B38: start year emission path: 2020 | C38: =paths!$AI$21 -> 2056
B39: =IF(B23='data countries EDGAR'!A234,CONCATENATE("start year emission path: ",M23),CONCATENATE("start year emission path: ",M22)) -> start year emission path: 2025 | C39: =paths!$AI$46 -> 2049
B40: On the right track with these given framework data? | C40: =IF(C39>=C38,"on track","not on track") -> not on track
B42: =CONCATENATE("change in emissions (",Q22,")") -> change in emissions (start year 2025) | C42: vs. 2019
B43: 2030 | C43: =paths!AX46/paths!AM46-1 -> -0.16509997
B44: 2035 | C44: =paths!BC46/paths!AM46-1 -> -0.39521293
B45: 2040 | C45: =paths!BH46/paths!AM46-1 -> -0.62532589
B47: =CONCATENATE("overshoot in Gt (",Q22,")") -> overshoot in Gt (start year 2025) | C47: =-paths!Q46 -> 13.645543 | D47: =IF(AND(C15>0,C48=0),"The potential for net negative emissions is too high for this country. Please enter a lower value. E_min is now set to zero.","")
B48: share of the overshoot in the remaining budget | C48: =paths!R46 -> 0.09870361
B49: share of the overshoot in emissions in 2019 | C49: =paths!Q46*-1/paths!H46 -> 1.1551237
B50: emissions 2100 in Gt | C50: =IF(AND(C15>0,C48=0),"",paths!DP46) -> -0.26249456 | M50: =-M33 -> -0.01 | N50: =-N33 -> -0.001 | O50: =-O33 -> -0.0001 | P50: =-P33 -> -1e-05
E52: blue points are actual emissions
B65: emissions 2019 in t (info) | C65: per capita | D65: per GDP
B66: global | C66: ='data countries EDGAR'!X226 -> 4.7577446 | D66: ='data countries EDGAR'!Y226 -> 0.24466992
B67: =B23 -> China | C67: ='data countries EDGAR'!X6 -> 8.3186917 | D67: ='data countries EDGAR'!Y6 -> 0.42637958
B68: deviation from the global average | C68: =C67/C66-1 -> 0.74845278 | D68: =D67/D66-1 -> 0.74267269
...

Sheet _xltb_storage_
A1: XL Toolbox Settings
B2: export_preset | C2: <?xml version="1.0" encoding="utf-16"?>_x000D_ <Preset xmlns:xsi="http://www.w3.org/2001/XMLSchema-instance" xmlns:xsd="http://www.w3.org/2001/XMLSchema">_x000D_ <Name>Tiff, 300 dpi, RGB, Transparente Leinwand</Name>_x000D_ <Dpi>300</Dpi>_x000D_ <FileType>Tiff</FileType>_x000D_ <ColorSpace>Rgb</ColorSpace>_x000D_ <Transparency>TransparentCanvas</Transparency>_x000D_ <UseColorProfile>false</UseColorProfile>_x000D_ <ColorProfile>sRGB Color Space Profile</ColorProfile>_x000D_ </Preset>
B3: export_path | C3: E:\Klima\Veröffentlichungen\Website\Hilfsdatein_Paris_konkret\EU27l\ESPM_EU27_woLUC_EP40.tif

Sheet budget-warming
B2: 300 | C2: 1.5
B3: 400 | C3: =C2+0.1 -> 1.6
B4: 550 | C4: =C3+0.1 -> 1.7
B5: 650 | C5: =C4+0.1 -> 1.8
B6: 800 | C6: =C5+0.1 -> 1.9
B7: 900 | C7: =C6+0.1 -> 2
B9: ='web app'!C9 -> 650 | C9: =_xlfn.FORECAST.LINEAR(B9,C2:C7,B2:B7) -> 1.790566

Sheet big six fig
O2: =CONCATENATE("Global CO2 budget: ",'web app'!C9," Gt",CHAR(10),"LUC budget: ",'web app'!H8," Gt",CHAR(10),"Weighting population: ",TEXT('web app'!C17,"0%"),CHAR(10),"Potential net negative emissions: ",TEXT(-'web app'!C15,"0%")) -> Global CO2 budget: 650 Gt LUC budget: 0 Gt Weighting population: 15% Potential net negative emissions: -2%
O4: If the year of the transition of the emission path into a horizontal occurs after 2100 and this horizontal is a negative value, then the formulas used lead to incorrect results. Therefore, in this case E_min = 0 is set.
O10: For which countries was this correction made?
O12: =paths2!B11 -> China | P12: =paths2!L11 -> no
O13: =paths2!B12 -> United States | P13: =paths2!L12 -> no
O14: =paths2!B13 -> EU27 | P14: =paths2!L13 -> no
O15: =paths2!B14 -> India | P15: =paths2!L14 -> no
O16: =paths2!B15 -> Russia | P16: =paths2!L15 -> no
O17: =paths2!B16 -> Japan | P17: =paths2!L16 -> no
O18: =paths2!B17 -> Global | P18: =paths2!L17 -> no
O28: If the year of emissions neutrality is smaller at the later start year, then the country is not on track to achieve the national CO2 budget calculated here from 2020 with a linear emissions path.
P56: Will the budget be adhered to by 2100? | R56: Has E_min been set to zero?
O59: China | P59: =paths2!N11 -> yes | R59: =P12 -> no
O60: United States | P60: =paths2!N12 -> yes | R60: =P13 -> no
O61: EU27 | P61: =paths2!N13 -> yes | R61: =P14 -> no
O62: India | P62: =paths2!N14 -> yes | R62: =P15 -> no
O63: Russia | P63: =paths2!N15 -> yes | R63: =P16 -> no
O64: Japan | P64: =paths2!N16 -> yes | R64: =P17 -> no
O65: Global | P65: =paths2!N17 -> yes | R65: =P18 -> no
O67: Note: In this model it is possible that the budget is only met after 2100 with very comfortable framework data.
B123: More options for defining emission paths: | E123: Excel tool for calculating national CO2 budgets and different emission paths that meet this budget (ESPM): | J123: Further exemplary results for the six major emitters:
B125: Web app: | C125: here
B126: Excel tool: | C126: here | E126: here | J126: here

Sheet big six NDCs
B2: Comparison with the current NDCs
B4: country | C4: target year 2030 | H4: reference year | I4: long-term goals
B5: United States | C5: -50% to -52% | H5: 2005 | I5: climate neutrality by 2050
B6: EU27 | C6: -0.55 | H6: 1990
B7: Japan | C7: -0.46 | H7: 2013
B8: India | C8: reduce emission intensity 45% in relation to the national product | H8: 2005 | I8: net zero 2070
B9: Russia | C9: at least -30% | H9: 1990 | I9: net zero 2060
B10: China | C10: turning point of CO2 emissions before 2030 | H10: - | I10: CO2 neutrality before 2060
B13: Source current targets (NDCs): | E13: here | G13: Status: December 2024
B15: Conversion of NDCs to 2030 vs. 2019 and comparison with the reference values calculated here
C17: change emissions 2030 vs. 2019 | E17: deviation % points | F17: on track for target here | H17: Global framework data:
B18: country | C18: NDC | D18: target here | H18: Global budget | K18: =CONCATENATE('web app'!$C$9," Gt") -> 650 Gt
B19: China | C19: =E59 -> 0.10717117 | D19: =paths2!$I$11 -> -0.16509997 | E19: =(D19-C19) -> -0.27227113 | F19: =IF(paths2!K11<paths2!J11,"no","yes") -> no | H19: LUC budget | K19: =CONCATENATE('web app'!$H$8," Gt") -> 0 Gt
B20: United States | C20: -0.40625259 | D20: =paths2!$I$12 -> -0.26783811 | E20: =(D20-C20) -> 0.13841449 | F20: =IF(paths2!K12<paths2!J12,"no","yes") -> no | H20: Weighting population | K20: ='web app'!$C$17 -> 0.15
B21: EU27 | C21: -0.4118321 | D21: =paths2!$I$13 -> -0.30601076 | E21: =(D21-C21) -> 0.10582135 | F21: =IF(paths2!K13<paths2!J13,"no","yes") -> yes | H21: Net negative emissions | K21: =-'web app'!$C$15 -> -0.02
B22: India | C22: =E48 -> 0.17583111 | D22: =paths2!$I$14 -> -0.0083736167 | E22: =(D22-C22) -> -0.18420472 | F22: =IF(paths2!K14<paths2!J14,"no","yes") -> no
B23: Russia | C23: -0.10881632 | D23: =paths2!$I$15 -> -0.18837509 | E23: =(D23-C23) -> -0.07955877 | F23: =IF(paths2!K15<paths2!J15,"no","yes") -> no | H23: This web app can be used to derive implicit budgets and the implicit weighting of the population of NDCs:
B24: Japan | C24: -0.3719438 | D24: =paths2!$I$16 -> -0.30039185 | E24: =(D24-C24) -> 0.071551941 | F24: =IF(paths2!K16<paths2!J16,"no","yes") -> yes
C25: Climate Protection Act
B26: Germany | C26: ='data countries EDGAR'!P245 -> -0.49110488 | D26: =paths2!I18 -> -0.31968669 | E26: =(D26-C26) -> 0.17141819 | F26: =IF(paths2!K18<paths2!J18,"no","yes") -> yes | H26: http://ib-iwp.climate-calculator.info
B28: Limitation: NDCs relate in part to all greenhouse gases
B30: India
B32: CO2 per GDP (EDGAR)
B33: 2005 | C33: 0.27140149 | D33: t/US$
B34: 2019 | C34: 0.23077653 | D34: t/US$
B35: 2023 | C35: 0.22552596 | D35: t/US$
B36: 2030 | C36: =C33+(C33*E36) -> 0.14927082 | D36: t/US$ | E36: -0.45 | F36: NDC
B38: GDP
B39: 2005 | C39: =(C45*1000000/C33)/1000000000 -> 4.4868114 | D39: B US$ | E39: change rate p.a. 2006 - 2023: | H39: =(C41-C39)/(C39*(B41-B39)) -> 0.10994966
B40: 2019 | C40: =(C46*1000000/C34)/1000000000 -> 11.056086 | D40: B US$ | E40: change rate p.a. 2020 - 2023: | H40: =(C41-C40)/(C40*(B41-B40)) -> 0.052246043
B41: 2023 | C41: =(C47*1000000/C35)/1000000000 -> 13.366633 | D41: B US$
B42: 2030 | C42: =C41*(1+H42)^(B42-B41) -> 20.098473 | D42: B US$ | E42: change rate p.a. 2024 - 2030: | H42: 0.06
B44: CO2 emissions (EDGAR)
B45: 2005 | C45: =VLOOKUP("India",'data countries EDGAR'!$A$15:$AC$232,'data countries EDGAR'!C12,FALSE) -> 1217.7273 | D45: Mill. t
B46: 2019 | C46: =VLOOKUP("India",'data countries EDGAR'!$A$15:$AC$232,'data countries EDGAR'!$M$12,FALSE) -> 2551.4851 | D46: Mill. t
B47: 2023 | C47: =VLOOKUP("India",'data countries EDGAR'!$A$15:$AC$232,'data countries EDGAR'!$Q$12,FALSE) -> 3014.5226 | D47: Mill. t
B48: 2030 | C48: =C36*C42*1000 -> 3000.1155 | D48: Mill. t | E48: =C48/C46-1 -> 0.17583111 | F48: change 2030 vs. 2019
B50: China
B52: CO2 emissions
B53: 2019 | C53: =VLOOKUP("China",'data countries EDGAR'!$A$15:$AC$232,'data countries EDGAR'!$M$12,FALSE) -> 11813.058 | D53: Mill. t | E53: =CONCATENATE("change rate p.a. 2020 - ",B55,":") -> change rate p.a. 2020 - 2024: | H53: =(C55-C53)/(C53*(B55-B53)) -> 0.022207117
...

Sheet all budgets
B2: Paris-compatible national CO2 budgets
B3: Allocation of a global CO2 budget using a weighted distribution key. The distribution key contains the share in global emissions and in the global population in 2019. Year of emissions neutrality refers to a linear emission path with no net negative emissions.
B5: Global CO2 budget from 2020 on | C5: =CONCATENATE('web app'!C9," Gt") -> 650 Gt | E5: info
B7: Data basis emissions of the countries | C7: EDGAR
B8: Global LUC budget from 2020 on | C8: ='web app'!H8 -> 0 | D8: Gt
B9: Global ISA budget from 2020 on | C9: ='web app'!C11*-1 -> 21.45 | D9: Gt
B10: Adjustement CeCS | C10: ='web app'!H12 -> -40 | D10: Gt
B11: Global budget to distribute here | C11: ='web app'!C13 -> 668.55 | D11: Gt
B13: Population weighting vs. emissions | C13: ='web app'!C17 -> 0.15
B15: Start year emission path | C15: 2020
B17: Big six | C17: Emissions 2019 in Gt | D17: =D27 -> National CO2 budget from 2020 in Gt | E17: Year emissions neutrality
B18: China | C18: =VLOOKUP($B18,$B$28:$E$238,2,FALSE)/1000 -> 11.813058 | D18: =VLOOKUP($B18,$B$28:$E$238,3,FALSE) -> 201.42831 | E18: =VLOOKUP(B18,$B$28:$E$238,4,FALSE) -> 2055
B19: United States | C19: =VLOOKUP($B19,$B$28:$E$238,2,FALSE)/1000 -> 4.9679122 | D19: =VLOOKUP($B19,$B$28:$E$238,3,FALSE) -> 81.223084 | E19: =VLOOKUP(B19,$B$28:$E$238,4,FALSE) -> 2053
B20: EU27 | C20: =VLOOKUP($B20,$B$28:$E$238,2,FALSE)/1000 -> 2.9083831 | D20: =VLOOKUP($B20,$B$28:$E$238,3,FALSE) -> 50.811578 | E20: =VLOOKUP(B20,$B$28:$E$238,4,FALSE) -> 2055
B21: India | C21: =VLOOKUP($B21,$B$28:$E$238,2,FALSE)/1000 -> 2.5514851 | D21: =VLOOKUP($B21,$B$28:$E$238,3,FALSE) -> 57.316563 | E21: =VLOOKUP(B21,$B$28:$E$238,4,FALSE) -> 2065
B22: Russia | C22: =VLOOKUP($B22,$B$28:$E$238,2,FALSE)/1000 -> 1.858002 | D22: =VLOOKUP($B22,$B$28:$E$238,3,FALSE) -> 30.64815 | E22: =VLOOKUP(B22,$B$28:$E$238,4,FALSE) -> 2053
B23: Japan | C23: =VLOOKUP($B23,$B$28:$E$238,2,FALSE)/1000 -> 1.123813 | D23: =VLOOKUP($B23,$B$28:$E$238,3,FALSE) -> 19.055347 | E23: =VLOOKUP(B23,$B$28:$E$238,4,FALSE) -> 2054
B24: Sum | C24: =SUM(C18:C23) -> 25.222654 | D24: =SUM(D18:D23) -> 440.48303
B25: Share of global emissions | C25: =C24*1000/C236 -> 0.68744282 | D25: =D24/D236 -> 0.65886326
B27: Country | C27: Emissions 2019 in Mill. t | D27: National CO2 budget from 2020 in Gt | E27: Year emissions neutrality
B28: ='data countries EDGAR'!A15 -> Afghanistan | C28: ='data countries EDGAR'!M15 -> 12.104638 | D28: =($C$13*'data countries EDGAR'!AA15+(1-$C$13)*'data countries EDGAR'!Z15)*'web app'!$C$13 -> 0.67133854 | E28: =paths!AI60 -> 2131
B29: ='data countries EDGAR'!A16 -> Albania | C29: ='data countries EDGAR'!M16 -> 4.9839897 | D29: =($C$13*'data countries EDGAR'!AA16+(1-$C$13)*'data countries EDGAR'!Z16)*'web app'!$C$13 -> 0.11540351 | E29: =paths!AI61 -> 2067
B30: ='data countries EDGAR'!A17 -> Algeria | C30: ='data countries EDGAR'!M17 -> 181.68636 | D30: =($C$13*'data countries EDGAR'!AA17+(1-$C$13)*'data countries EDGAR'!Z17)*'web app'!$C$13 -> 3.3689713 | E30: =paths!AI62 -> 2058
B31: ='data countries EDGAR'!A18 -> Angola | C31: ='data countries EDGAR'!M18 -> 26.99626 | D31: =($C$13*'data countries EDGAR'!AA18+(1-$C$13)*'data countries EDGAR'!Z18)*'web app'!$C$13 -> 0.8314821 | E31: =paths!AI63 -> 2082
B32: ='data countries EDGAR'!A19 -> Anguilla | C32: ='data countries EDGAR'!M19 -> 0.027676923 | D32: =($C$13*'data countries EDGAR'!AA19+(1-$C$13)*'data countries EDGAR'!Z19)*'web app'!$C$13 -> 0.00062598391 | E32: =paths!AI64 -> 2066
B33: ='data countries EDGAR'!A20 -> Antigua and Barbuda | C33: ='data countries EDGAR'!M20 -> 0.34261773 | D33: =($C$13*'data countries EDGAR'!AA20+(1-$C$13)*'data countries EDGAR'!Z20)*'web app'!$C$13 -> 0.0066599967 | E33: =paths!AI65 -> 2059
B34: ='data countries EDGAR'!A21 -> Argentina | C34: ='data countries EDGAR'!M21 -> 183.26872 | D34: =($C$13*'data countries EDGAR'!AA21+(1-$C$13)*'data countries EDGAR'!Z21)*'web app'!$C$13 -> 3.4249843 | E34: =paths!AI66 -> 2058
B35: ='data countries EDGAR'!A22 -> Armenia | C35: ='data countries EDGAR'!M22 -> 6.424656 | D35: =($C$13*'data countries EDGAR'!AA22+(1-$C$13)*'data countries EDGAR'!Z22)*'web app'!$C$13 -> 0.13769432 | E35: =paths!AI67 -> 2063
B36: ='data countries EDGAR'!A23 -> Aruba | C36: ='data countries EDGAR'!M23 -> 0.50954667 | D36: =($C$13*'data countries EDGAR'!AA23+(1-$C$13)*'data countries EDGAR'!Z23)*'web app'!$C$13 -> 0.0092710162 | E36: =paths!AI68 -> 2057
B37: ='data countries EDGAR'!A24 -> Australia | C37: ='data countries EDGAR'!M24 -> 407.90861 | D37: =($C$13*'data countries EDGAR'!AA24+(1-$C$13)*'data countries EDGAR'!Z24)*'web app'!$C$13 -> 6.6439852 | E37: =paths!AI69 -> 2053
B38: ='data countries EDGAR'!A25 -> Austria | C38: ='data countries EDGAR'!M25 -> 68.776683 | D38: =($C$13*'data countries EDGAR'!AA25+(1-$C$13)*'data countries EDGAR'!Z25)*'web app'!$C$13 -> 1.1792157 | E38: =paths!AI70 -> 2055
B39: ='data countries EDGAR'!A26 -> Azerbaijan | C39: ='data countries EDGAR'!M26 -> 36.981935 | D39: =($C$13*'data countries EDGAR'!AA26+(1-$C$13)*'data countries EDGAR'!Z26)*'web app'!$C$13 -> 0.70300861 | E39: =paths!AI71 -> 2059
... B235: ='data countries EDGAR'!A222 -> Zimbabwe | C235: ='data countries EDGAR'!M222 -> 11.170564 | D235: =($C$13*'data countries EDGAR'!AA222+(1-$C$13)*'data countries EDGAR'!Z222)*'web app'!$C$13 -> 0.3979451 | E235: =paths!AI267 -> 2092
B236: Sum | C236: =SUM(C28:C235) -> 36690.548 | D236: =SUM(D28:D235) -> 668.55
B238: ='data countries EDGAR'!A223 -> EU27 | C238: ='data countries EDGAR'!M225*-1 -> 2908.3831 | D238: =($C$13*'data countries EDGAR'!AA225+(1-$C$13)*'data countries EDGAR'!Z225)*'web app'!$C$13*-1 -> 50.811578 | E238: =paths!AI268 -> 2055
B240: Source: | C240: http://national-budgets.climate-calculator.info

Sheet all targets
B2: Paris-compatible national CO2 targets
B3: Allocation of a global CO2 budget using a weighted distribution key. The distribution key contains the share in global emissions and in the global population in 2019. The following results are based on linear emission paths, whereby net negative emissions can be taken into account.
B5: Global CO2 budget from 2020 on | C5: =CONCATENATE('web app'!C9," Gt") -> 650 Gt | E5: info
B7: Data basis emissions of the countries | C7: EDGAR
B8: Global LUC budget from 2020 on | C8: ='web app'!H8 -> 0 | D8: Gt
B9: Global ISA budget from 2020 on | C9: ='web app'!C11*-1 -> 21.45 | D9: Gt
B10: Adjustement CeCS | C10: ='web app'!H12 -> -40 | D10: Gt
B11: Global budget to distribute here | C11: ='web app'!C13 -> 668.55 | D11: Gt
B13: Potential of net negative emissions | C13: =-'web app'!C15 -> -0.02
F14: In this sheet, B_i_corr was used for B_i.
B15: Population weighting vs. emissions | C15: ='web app'!C17 -> 0.15
F16: B_i_corr = B_i + 2 * E_i_BY
B17: Start year emission path | C17: ='web app'!M22 -> 2025
B19: Big six | C19: =C28 -> Year emissions neutrality | D19: =D28 -> Change emissions 2030 vs. 2019 | E19: =E28 -> Overshoot by 2100 in % of emissions in 2019 | F19: B_i_cor
B20: China | C20: =VLOOKUP($B20,$B$29:$E$239,C$26,FALSE) -> 2049 | D20: =VLOOKUP($B20,$B$29:$E$239,D$26,FALSE) -> -0.16509997 | E20: =VLOOKUP($B20,$B$29:$E$239,E$26,FALSE) -> 1.1551237 | F20: =D20+0.5*C20 -> 1024.3349
B21: United States | C21: =VLOOKUP($B21,$B$29:$E$239,C$26,FALSE) -> 2052 | D21: =VLOOKUP($B21,$B$29:$E$239,D$26,FALSE) -> -0.26783811 | E21: =VLOOKUP($B21,$B$29:$E$239,E$26,FALSE) -> 0.89722602 | F21: =D21+0.5*C21 -> 1025.7322
B22: EU27 | C22: =VLOOKUP($B22,$B$29:$E$239,C$26,FALSE) -> 2058 | D22: =VLOOKUP($B22,$B$29:$E$239,D$26,FALSE) -> -0.30601076 | E22: =VLOOKUP($B22,$B$29:$E$239,E$26,FALSE) -> 0.72564895 | F22: =D22+0.5*C22 -> 1028.694
B23: India | C23: =VLOOKUP($B23,$B$29:$E$239,C$26,FALSE) -> 2055 | D23: =VLOOKUP($B23,$B$29:$E$239,D$26,FALSE) -> -0.0083736167 | E23: =VLOOKUP($B23,$B$29:$E$239,E$26,FALSE) -> 1.1331339 | F23: =D23+0.5*C23 -> 1027.4916
B24: Russia | C24: =VLOOKUP($B24,$B$29:$E$239,C$26,FALSE) -> 2049 | D24: =VLOOKUP($B24,$B$29:$E$239,D$26,FALSE) -> -0.18837509 | E24: =VLOOKUP($B24,$B$29:$E$239,E$26,FALSE) -> 1.1245778 | F24: =D24+0.5*C24 -> 1024.3116
B25: Japan | C25: =VLOOKUP($B25,$B$29:$E$239,C$26,FALSE) -> 2056 | D25: =VLOOKUP($B25,$B$29:$E$239,D$26,FALSE) -> -0.30039185 | E25: =VLOOKUP($B25,$B$29:$E$239,E$26,FALSE) -> 0.77540169 | F25: =D25+0.5*C25 -> 1027.6996
B26: 1 | C26: =B26+1 -> 2 | D26: =C26+1 -> 3 | E26: =D26+1 -> 4
B28: Country | C28: Year emissions neutrality | D28: Change emissions 2030 vs. 2019 | E28: Overshoot by 2100 in % of emissions in 2019
B29: ='data countries EDGAR'!A15 -> Afghanistan | C29: =IF(AND(paths!AH272>2100,$C$13<0),"not specified",paths!AI272) -> not specified | D29: =IF(C29="-","-",paths!AX272/paths!AM272-1) -> -0.062025057 | E29: =IF(C29="-","-",-paths!Q272/paths!H272) -> 0 | F29: =D29+0.5*(C29/1000) -> #VALUE!
B30: ='data countries EDGAR'!A16 -> Albania | C30: =IF(AND(paths!AH273>2100,$C$13<0),"not specified",paths!AI273) -> 2070 | D30: =IF(C30="-","-",paths!AX273/paths!AM273-1) -> -0.25982552 | E30: =IF(C30="-","-",-paths!Q273/paths!H273) -> 0.51169855 | F30: =D30+0.5*(C30/1000) -> 0.77517448
B31: ='data countries EDGAR'!A17 -> Algeria | C31: =IF(AND(paths!AH274>2100,$C$13<0),"not specified",paths!AI274) -> 2054 | D31: =IF(C31="-","-",paths!AX274/paths!AM274-1) -> -0.18532224 | E31: =IF(C31="-","-",-paths!Q274/paths!H274) -> 0.9631131 | F31: =D31+0.5*(C31/1000) -> 0.84167776
B32: ='data countries EDGAR'!A18 -> Angola | C32: =IF(AND(paths!AH275>2100,$C$13<0),"not specified",paths!AI275) -> 2077 | D32: =IF(C32="-","-",paths!AX275/paths!AM275-1) -> -0.079187909 | E32: =IF(C32="-","-",-paths!Q275/paths!H275) -> 0.49662976 | F32: =D32+0.5*(C32/1000) -> 0.95931209
B33: ='data countries EDGAR'!A19 -> Anguilla | C33: =IF(AND(paths!AH276>2100,$C$13<0),"not specified",paths!AI276) -> 2072 | D33: =IF(C33="-","-",paths!AX276/paths!AM276-1) -> -0.28163594 | E33: =IF(C33="-","-",-paths!Q276/paths!H276) -> 0.47193556 | F33: =D33+0.5*(C33/1000) -> 0.75436406
B34: ='data countries EDGAR'!A20 -> Antigua and Barbuda | C34: =IF(AND(paths!AH277>2100,$C$13<0),"not specified",paths!AI277) -> 2055 | D34: =IF(C34="-","-",paths!AX277/paths!AM277-1) -> -0.16384664 | E34: =IF(C34="-","-",-paths!Q277/paths!H277) -> 0.94632946 | F34: =D34+0.5*(C34/1000) -> 0.86365336
B35: ='data countries EDGAR'!A21 -> Argentina | C35: =IF(AND(paths!AH278>2100,$C$13<0),"not specified",paths!AI278) -> 2055 | D35: =IF(C35="-","-",paths!AX278/paths!AM278-1) -> -0.19900257 | E35: =IF(C35="-","-",-paths!Q278/paths!H278) -> 0.91897025 | F35: =D35+0.5*(C35/1000) -> 0.82849743
B36: ='data countries EDGAR'!A22 -> Armenia | C36: =IF(AND(paths!AH279>2100,$C$13<0),"not specified",paths!AI279) -> 2054 | D36: =IF(C36="-","-",paths!AX279/paths!AM279-1) -> -0.069344346 | E36: =IF(C36="-","-",-paths!Q279/paths!H279) -> 1.0843793 | F36: =D36+0.5*(C36/1000) -> 0.95765565
B37: ='data countries EDGAR'!A23 -> Aruba | C37: =IF(AND(paths!AH280>2100,$C$13<0),"not specified",paths!AI280) -> 2051 | D37: =IF(C37="-","-",paths!AX280/paths!AM280-1) -> -0.15250724 | E37: =IF(C37="-","-",-paths!Q280/paths!H280) -> 1.074206 | F37: =D37+0.5*(C37/1000) -> 0.87299276
B38: ='data countries EDGAR'!A24 -> Australia | C38: =IF(AND(paths!AH281>2100,$C$13<0),"not specified",paths!AI281) -> 2052 | D38: =IF(C38="-","-",paths!AX281/paths!AM281-1) -> -0.2644223 | E38: =IF(C38="-","-",-paths!Q281/paths!H281) -> 0.91393248 | F38: =D38+0.5*(C38/1000) -> 0.7615777
B39: ='data countries EDGAR'!A25 -> Austria | C39: =IF(AND(paths!AH282>2100,$C$13<0),"not specified",paths!AI282) -> 2057 | D39: =IF(C39="-","-",paths!AX282/paths!AM282-1) -> -0.31084724 | E39: =IF(C39="-","-",-paths!Q282/paths!H282) -> 0.73203987 | F39: =D39+0.5*(C39/1000) -> 0.71765276
B40: ='data countries EDGAR'!A26 -> Azerbaijan | C40: =IF(AND(paths!AH283>2100,$C$13<0),"not specified",paths!AI283) -> 2054 | D40: =IF(C40="-","-",paths!AX283/paths!AM283-1) -> -0.16529627 | E40: =IF(C40="-","-",-paths!Q283/paths!H283) -> 0.98784884 | F40: =D40+0.5*(C40/1000) -> 0.86170373
... B236: ='data countries EDGAR'!A222 -> Zimbabwe | C236: =IF(AND(paths!AH479>2100,$C$13<0),"not specified",paths!AI479) -> 2079 | D236: =IF(C236="-","-",paths!AX479/paths!AM479-1) -> 0.025030702 | E236: =IF(C236="-","-",-paths!Q479/paths!H479) -> 0.48312619 | F236: =D236+0.5*(C236/1000) -> 1.0645307
B238: ='data countries EDGAR'!A223 -> EU27 | C238: =IF(AND(paths!AH480>2100,C13<0),"not specified",ROUND(paths!AI480,0)) -> 2058 | D238: =IF(paths!AH480>2100,"-",paths!AX480/paths!AM480-1) -> -0.30601076 | E238: =IF(paths!AH480>2100,"-",-paths!Q480/paths!H480) -> 0.72564895 | F238: =D238+0.5*(C238/1000) -> 0.72298924
B240: Source: | C240: https://national-budgets.climate-calculator.info

Sheet imprint
B2: Andreas Wolfsteiner
B3: Günter Wittmann
B5: save-the-climate@online.ms
B7: www.save-the-climate.info
B9: On request, we will gladly send a version without sheet protection.

Sheet paths
P2: Adjust formula if you added a new actual year | U2: E_min in % of E_BY | Y2: =-'web app'!C15 -> -0.02 | Z2: EDGAR
H3: actual emissions | O3: new year: new column | AJ3: legend big six: | AN3: =AN6 -> 2020 | AX3: =AX6 -> 2030 | BH3: =BH6 -> 2040 | BR3: =BR6 -> 2050 | CB3: =CB6 -> 2060 | CL3: =CL6 -> 2070 | CV3: =CV6 -> 2080 | DF3: =DF6 -> 2090 | DP3: =DP6 -> 2100
C5: B | D5: wP | E5: Pi/P | F5: Ei/E | G5: Bi_20 | H5: 2019 | I5: 2020 | J5: =I5+1 -> 2021 | K5: 2022 | L5: 2023 | M5: 2024 | N5: =M5+1 -> 2025 | P5: sum actual | Q5: overshoot | R5: overshoot/Bi | S5: country | T5: BY (= SY -1) | U5: Bi_SY | V5: SY - 2100 | W5: Control | X5: E_BY | Y5: E_min | Z5: Parameters of the quadratic equation | AC5: Solutions of the quatradic equation | AF5: Emissions neutrality | AI5: Year emissions neutrality
Z6: a | AA6: b | AB6: c | AC6: x_1 | AD6: x_2 | AE6: U | AF6: T | AG6: U | AH6: [U] | AI6: formula | AJ6: path | AL6: t | AM6: 2019 | AN6: =AM6+1 -> 2020 | AO6: =AN6+1 -> 2021 | AP6: =AO6+1 -> 2022 | AQ6: =AP6+1 -> 2023 | AR6: =AQ6+1 -> 2024 | AS6: =AR6+1 -> 2025 | AT6: =AS6+1 -> 2026 | AU6: =AT6+1 -> 2027 | ... DP6: =DO6+1 -> 2100
B7: Base year 2019 | G7: Start year 2020
X8: 2019
B9: =S9 -> China | C9: =IF(B9<>'data countries EDGAR'!$A$234,'web app'!$C$29,'web app'!$C$9) -> 668.55 | D9: ='web app'!$C$17 -> 0.15 | E9: =VLOOKUP($S9,'data countries EDGAR'!$A$15:$AA$234,'data countries EDGAR'!$AA$12,FALSE) -> 0.18414259 | F9: =VLOOKUP($S9,'data countries EDGAR'!$A$15:$AA$234,'data countries EDGAR'!$Z$12,FALSE) -> 0.32196462 | G9: =C9*(D9*E9+(1-D9)*F9) -> 201.42831 | H9: =VLOOKUP($S9,'data countries EDGAR'!$A$15:$AA$234,'data countries EDGAR'!M$12,FALSE)/1000 -> 11.813058 | I9: =VLOOKUP($S9,'data countries EDGAR'!$A$15:$AA$234,'data countries EDGAR'!N$12,FALSE)/1000 -> 11.964129 | J9: =VLOOKUP($S9,'data countries EDGAR'!$A$15:$AA$234,'data countries EDGAR'!O$12,FALSE)/1000 -> 12.551865 | K9: =VLOOKUP($S9,'data countries EDGAR'!$A$15:$AA$234,'data countries EDGAR'!P$12,FALSE)/1000 -> 12.518684 | L9: =VLOOKUP($S9,'data countries EDGAR'!$A$15:$AA$234,'data countries EDGAR'!Q$12,FALSE)/1000 -> 13.021242 | M9: =VLOOKUP($S9,'data countries EDGAR'!$A$15:$AA$234,'data countries EDGAR'!R$12,FALSE)/1000 -> 13.124728 | N9: =VLOOKUP($S9,'data countries EDGAR'!$A$15:$AA$234,'data countries EDGAR'!S$12,FALSE)/1000 -> 0 | Q9: =SUMIF(AO9:DQ9,"<0") -> -10.436553 | R9: =-Q9/U9 -> 0.051812743 | S9: ='web app'!$B$23 -> China | T9: 2019 | U9: =G9 -> 201.42831 | V9: =SUM(AN9:DP9) -> 201.42831 | W9: =ROUND(V9/U9-1,4) -> 0 | X9: =H9 -> 11.813058 | Y9: =$Y$2*X9 -> -0.23626116 | Z9: =X9-Y9 -> 12.049319 | AA9: =-2*X9*(T9+1)+Y9*4202-2*U9 -> -49120.381 | AB9: =X9*(T9+1)*(T9+1)+Y9*(T9*(T9+1)-2101*(2*T9+1))+U9*(2*T9+1) -> 50056907 | AC9: =(-AA9-SQRT(AA9^2-4*Z9*AB9))/(2*Z9) -> 2019.5066 | AD9: =(-AA9+SQRT(AA9^2-4*Z9*AB9))/(2*Z9) -> 2057.1038 | AE9: =AD9 -> 2057.1038 | AF9: =(Y9*(T9+0.5)-X9*AG9)/(Y9-X9) -> 2056.3665 | AG9: =AD9 -> 2057.1038 | AH9: =ROUNDDOWN(AG9,0) -> 2057 | AI9: =IF($Y$2=0,ROUNDUP(AF9,0),ROUND(AF9,0)) -> 2056 | AJ9: {=IFERROR(INDEX($AN$6:$DP$6,MATCH(_xlfn.AGGREGATE(14,6,(AN9:DP9)/(AN9:DP9<=0),1),AN9:DP9,0)),"-")} -> 2056 | AL9: E(t) | AM9: =H9 -> 11.813058 | AN9: =IF(AN$6<=$T9,0,IF(AN$6<$AH9,$X9+($Y9-$X9)/($AG9-($T9+0.5))*(AN$6+0.5-($T9+0.5)), IF(AN$6=$AH9,($X9+($Y9-$X9)/($AG9-($T9+0.5))*(0.5*($AG9+$AH9)-($T9+0.5)))*($AG9-$AH9)+$Y9*($AH9+1-$AG9), $Y9))) -> 11.49263 | AO9: =IF(AO$6<=$T9,0,IF(AO$6<$AH9,$X9+($Y9-$X9)/($AG9-($T9+0.5))*(AO$6+0.5-($T9+0.5)), IF(AO$6=$AH9,($X9+($Y9-$X9)/($AG9-($T9+0.5))*(0.5*($AG9+$AH9)-($T9+0.5)))*($AG9-$AH9)+$Y9*($AH9+1-$AG9), $Y9))) -> 11.172202 | AP9: =IF(AP$6<=$T9,0,IF(AP$6<$AH9,$X9+($Y9-$X9)/($AG9-($T9+0.5))*(AP$6+0.5-($T9+0.5)), IF(AP$6=$AH9,($X9+($Y9-$X9)/($AG9-($T9+0.5))*(0.5*($AG9+$AH9)-($T9+0.5)))*($AG9-$AH9)+$Y9*($AH9+1-$AG9), $Y9))) -> 10.851773 | AQ9: =IF(AQ$6<=$T9,0,IF(AQ$6<$AH9,$X9+($Y9-$X9)/($AG9-($T9+0.5))*(AQ$6+0.5-($T9+0.5)), IF(AQ$6=$AH9,($X9+($Y9-$X9)/($AG9-($T9+0.5))*(0.5*($AG9+$AH9)-($T9+0.5)))*($AG9-$AH9)+$Y9*($AH9+1-$AG9), $Y9))) -> 10.531345 | AR9: =IF(AR$6<=$T9,0,IF(AR$6<$AH9,$X9+($Y9-$X9)/($AG9-($T9+0.5))*(AR$6+0.5-($T9+0.5)), IF(AR$6=$AH9,($X9+($Y9-$X9)/($AG9-($T9+0.5))*(0.5*($AG9+$AH9)-($T9+0.5)))*($AG9-$AH9)+$Y9*($AH9+1-$AG9), $Y9))) -> 10.210917 | AS9: =IF(AS$6<=$T9,0,IF(AS$6<$AH9,$X9+($Y9-$X9)/($AG9-($T9+0.5))*(AS$6+0.5-($T9+0.5)), IF(AS$6=$AH9,($X9+($Y9-$X9)/($AG9-($T9+0.5))*(0.5*($AG9+$AH9)-($T9+0.5)))*($AG9-$AH9)+$Y9*($AH9+1-$AG9), $Y9))) -> 9.8904885 | AT9: =IF(AT$6<=$T9,0,IF(AT$6<$AH9,$X9+($Y9-$X9)/($AG9-($T9+0.5))*(AT$6+0.5-($T9+0.5)), IF(AT$6=$AH9,($X9+($Y9-$X9)/($AG9-($T9+0.5))*(0.5*($AG9+$AH9)-($T9+0.5)))*($AG9-$AH9)+$Y9*($AH9+1-$AG9), $Y9))) -> 9.5700602 | AU9: =IF(AU$6<=$T9,0,IF(AU$6<$AH9,$X9+($Y9-$X9)/($AG9-($T9+0.5))*(AU$6+0.5-($T9+0.5)), IF(AU$6=$AH9,($X9+($Y9-$X9)/($AG9-($T9+0.5))*(0.5*($AG9+$AH9)-($T9+0.5)))*($AG9-$AH9)+$Y9*($AH9+1-$AG9), $Y9))) -> 9.249632 | ... DP9: =IF(DP$6<=$T9,0,IF(DP$6<$AH9,$X9+($Y9-$X9)/($AG9-($T9+0.5))*(DP$6+0.5-($T9+0.5)), IF(DP$6=$AH9,($X9+($Y9-$X9)/($AG9-($T9+0.5))*(0.5*($AG9+$AH9)-($T9+0.5)))*($AG9-$AH9)+$Y9*($AH9+1-$AG9), $Y9))) -> -0.23626116
AM10: actual/target EDGAR | AN10: =I9-AN9 -> 0.47149864 | AO10: =J9-AO9 -> 1.3796629
B11: =S11 -> China | C11: ='web app'!$C$29 -> 668.55 | D11: ='web app'!$C$17 -> 0.15 | E11: =VLOOKUP($S11,'data countries EDGAR'!$A$15:$AA$234,'data countries EDGAR'!$AA$12,FALSE) -> 0.18414259 | F11: =VLOOKUP($S11,'data countries EDGAR'!$A$15:$AA$234,'data countries EDGAR'!$Z$12,FALSE) -> 0.32196462 | G11: =C11*(D11*E11+(1-D11)*F11) -> 201.42831 | H11: =VLOOKUP($S11,'data countries EDGAR'!$A$15:$AA$234,'data countries EDGAR'!M$12,FALSE)/1000 -> 11.813058 | I11: =VLOOKUP($S11,'data countries EDGAR'!$A$15:$AA$234,'data countries EDGAR'!N$12,FALSE)/1000 -> 11.964129 | J11: =VLOOKUP($S11,'data countries EDGAR'!$A$15:$AA$234,'data countries EDGAR'!O$12,FALSE)/1000 -> 12.551865 | K11: =VLOOKUP($S11,'data countries EDGAR'!$A$15:$AA$234,'data countries EDGAR'!P$12,FALSE)/1000 -> 12.518684 | L11: =VLOOKUP($S11,'data countries EDGAR'!$A$15:$AA$234,'data countries EDGAR'!Q$12,FALSE)/1000 -> 13.021242 | M11: =VLOOKUP($S11,'data countries EDGAR'!$A$15:$AA$234,'data countries EDGAR'!R$12,FALSE)/1000 -> 13.124728 | Q11: =SUMIF(AO11:DQ11,"<0") -> -10.436553 | R11: =-Q11/U11 -> 0.051812743 | S11: China | T11: 2019 | U11: =G11 -> 201.42831 | V11: =SUM(AN11:DP11) -> 201.42831 | W11: =ROUND(V11/U11-1,4) -> 0 | X11: =VLOOKUP($S11,'data countries EDGAR'!$A$15:$AA$234,'data countries EDGAR'!$M$12,FALSE)/1000 -> 11.813058 | Y11: =$Y$2*X11 -> -0.23626116 | Z11: =X11-Y11 -> 12.049319 | AA11: =-2*X11*(T11+1)+Y11*4202-2*U11 -> -49120.381 | AB11: =X11*(T11+1)*(T11+1)+Y11*(T11*(T11+1)-2101*(2*T11+1))+U11*(2*T11+1) -> 50056907 | AC11: =(-AA11-SQRT(AA11^2-4*Z11*AB11))/(2*Z11) -> 2019.5066 | AD11: =(-AA11+SQRT(AA11^2-4*Z11*AB11))/(2*Z11) -> 2057.1038 | AE11: =AD11 -> 2057.1038 | AF11: =(Y11*(T11+0.5)-X11*AG11)/(Y11-X11) -> 2056.3665 | AG11: =AD11 -> 2057.1038 | AH11: =ROUNDDOWN(AG11,0) -> 2057 | AI11: =IF($Y$2=0,ROUNDUP(AF11,0),ROUND(AF11,0)) -> 2056 | AJ11: {=IFERROR(INDEX($AN$6:$DP$6,MATCH(_xlfn.AGGREGATE(14,6,(AN11:DP11)/(AN11:DP11<=0),1),AN11:DP11,0)),"-")} -> 2056 | AL11: E(t) | AM11: =H11 -> 11.813058 | AN11: =IF(AN$6<=$T11,0,IF(AN$6<$AH11,$X11+($Y11-$X11)/($AG11-($T11+0.5))*(AN$6+0.5-($T11+0.5)), IF(AN$6=$AH11,($X11+($Y11-$X11)/($AG11-($T11+0.5))*(0.5*($AG11+$AH11)-($T11+0.5)))*($AG11-$AH11)+$Y11*($AH11+1-$AG11), $Y11))) -> 11.49263 | AO11: =IF(AO$6<=$T11,0,IF(AO$6<$AH11,$X11+($Y11-$X11)/($AG11-($T11+0.5))*(AO$6+0.5-($T11+0.5)), IF(AO$6=$AH11,($X11+($Y11-$X11)/($AG11-($T11+0.5))*(0.5*($AG11+$AH11)-($T11+0.5)))*($AG11-$AH11)+$Y11*($AH11+1-$AG11), $Y11))) -> 11.172202 | AP11: =IF(AP$6<=$T11,0,IF(AP$6<$AH11,$X11+($Y11-$X11)/($AG11-($T11+0.5))*(AP$6+0.5-($T11+0.5)), IF(AP$6=$AH11,($X11+($Y11-$X11)/($AG11-($T11+0.5))*(0.5*($AG11+$AH11)-($T11+0.5)))*($AG11-$AH11)+$Y11*($AH11+1-$AG11), $Y11))) -> 10.851773 | AQ11: =IF(AQ$6<=$T11,0,IF(AQ$6<$AH11,$X11+($Y11-$X11)/($AG11-($T11+0.5))*(AQ$6+0.5-($T11+0.5)), IF(AQ$6=$AH11,($X11+($Y11-$X11)/($AG11-($T11+0.5))*(0.5*($AG11+$AH11)-($T11+0.5)))*($AG11-$AH11)+$Y11*($AH11+1-$AG11), $Y11))) -> 10.531345 | AR11: =IF(AR$6<=$T11,0,IF(AR$6<$AH11,$X11+($Y11-$X11)/($AG11-($T11+0.5))*(AR$6+0.5-($T11+0.5)), IF(AR$6=$AH11,($X11+($Y11-$X11)/($AG11-($T11+0.5))*(0.5*($AG11+$AH11)-($T11+0.5)))*($AG11-$AH11)+$Y11*($AH11+1-$AG11), $Y11))) -> 10.210917 | AS11: =IF(AS$6<=$T11,0,IF(AS$6<$AH11,$X11+($Y11-$X11)/($AG11-($T11+0.5))*(AS$6+0.5-($T11+0.5)), IF(AS$6=$AH11,($X11+($Y11-$X11)/($AG11-($T11+0.5))*(0.5*($AG11+$AH11)-($T11+0.5)))*($AG11-$AH11)+$Y11*($AH11+1-$AG11), $Y11))) -> 9.8904885 | AT11: =IF(AT$6<=$T11,0,IF(AT$6<$AH11,$X11+($Y11-$X11)/($AG11-($T11+0.5))*(AT$6+0.5-($T11+0.5)), IF(AT$6=$AH11,($X11+($Y11-$X11)/($AG11-($T11+0.5))*(0.5*($AG11+$AH11)-($T11+0.5)))*($AG11-$AH11)+$Y11*($AH11+1-$AG11), $Y11))) -> 9.5700602 | AU11: =IF(AU$6<=$T11,0,IF(AU$6<$AH11,$X11+($Y11-$X11)/($AG11-($T11+0.5))*(AU$6+0.5-($T11+0.5)), IF(AU$6=$AH11,($X11+($Y11-$X11)/($AG11-($T11+0.5))*(0.5*($AG11+$AH11)-($T11+0.5)))*($AG11-$AH11)+$Y11*($AH11+1-$AG11), $Y11))) -> 9.249632 | ... DP11: =IF(DP$6<=$T11,0,IF(DP$6<$AH11,$X11+($Y11-$X11)/($AG11-($T11+0.5))*(DP$6+0.5-($T11+0.5)), IF(DP$6=$AH11,($X11+($Y11-$X11)/($AG11-($T11+0.5))*(0.5*($AG11+$AH11)-($T11+0.5)))*($AG11-$AH11)+$Y11*($AH11+1-$AG11), $Y11))) -> -0.23626116
B12: =S12 -> United States | C12: ='web app'!$C$29 -> 668.55 | D12: ='web app'!$C$17 -> 0.15 | E12: =VLOOKUP($S12,'data countries EDGAR'!$A$15:$AA$234,'data countries EDGAR'!$AA$12,FALSE) -> 0.042674232 | F12: =VLOOKUP($S12,'data countries EDGAR'!$A$15:$AA$234,'data countries EDGAR'!$Z$12,FALSE) -> 0.13540033 | G12: =C12*(D12*E12+(1-D12)*F12) -> 81.223084 | H12: =VLOOKUP($S12,'data countries EDGAR'!$A$15:$AA$234,'data countries EDGAR'!M$12,FALSE)/1000 -> 4.9679122 | I12: =VLOOKUP($S12,'data countries EDGAR'!$A$15:$AA$234,'data countries EDGAR'!N$12,FALSE)/1000 -> 4.4668765 | J12: =VLOOKUP($S12,'data countries EDGAR'!$A$15:$AA$234,'data countries EDGAR'!O$12,FALSE)/1000 -> 4.7543785 | K12: =VLOOKUP($S12,'data countries EDGAR'!$A$15:$AA$234,'data countries EDGAR'!P$12,FALSE)/1000 -> 4.8157665 | L12: =VLOOKUP($S12,'data countries EDGAR'!$A$15:$AA$234,'data countries EDGAR'!Q$12,FALSE)/1000 -> 4.6182675 | M12: =VLOOKUP($S12,'data countries EDGAR'!$A$15:$AA$234,'data countries EDGAR'!R$12,FALSE)/1000 -> 4.6321649 | Q12: =SUMIF(AO12:DQ12,"<0") -> -4.5334653 | R12: =-Q12/U12 -> 0.055814986 | S12: United States | T12: 2019 | U12: =G12 -> 81.223084 | V12: =SUM(AN12:DP12) -> 81.223084 | W12: =ROUND(V12/U12-1,4) -> 0 | X12: =VLOOKUP($S12,'data countries EDGAR'!$A$15:$AA$234,'data countries EDGAR'!$M$12,FALSE)/1000 -> 4.9679122 | Y12: =$Y$2*X12 -> -0.099358243 | Z12: =X12-Y12 -> 5.0672704 | AA12: =-2*X12*(T12+1)+Y12*4202-2*U12 -> -20650.315 | AB12: =X12*(T12+1)*(T12+1)+Y12*(T12*(T12+1)-2101*(2*T12+1))+U12*(2*T12+1) -> 21037056 | AC12: =(-AA12-SQRT(AA12^2-4*Z12*AB12))/(2*Z12) -> 2019.5069 | AD12: =(-AA12+SQRT(AA12^2-4*Z12*AB12))/(2*Z12) -> 2055.7275 | AE12: =AD12 -> 2055.7275 | AF12: =(Y12*(T12+0.5)-X12*AG12)/(Y12-X12) -> 2055.0172 | AG12: =AD12 -> 2055.7275 | AH12: =ROUNDDOWN(AG12,0) -> 2055 | AI12: =IF($Y$2=0,ROUNDUP(AF12,0),ROUND(AF12,0)) -> 2055 | AJ12: {=IFERROR(INDEX($AN$6:$DP$6,MATCH(_xlfn.AGGREGATE(14,6,(AN12:DP12)/(AN12:DP12<=0),1),AN12:DP12,0)),"-")} -> 2055 | AL12: E(t) | AM12: =H12 -> 4.9679122 | AN12: =IF(AN$6<=$T12,0,IF(AN$6<$AH12,$X12+($Y12-$X12)/($AG12-($T12+0.5))*(AN$6+0.5-($T12+0.5)), IF(AN$6=$AH12,($X12+($Y12-$X12)/($AG12-($T12+0.5))*(0.5*($AG12+$AH12)-($T12+0.5)))*($AG12-$AH12)+$Y12*($AH12+1-$AG12), $Y12))) -> 4.8280385 | AO12: =IF(AO$6<=$T12,0,IF(AO$6<$AH12,$X12+($Y12-$X12)/($AG12-($T12+0.5))*(AO$6+0.5-($T12+0.5)), IF(AO$6=$AH12,($X12+($Y12-$X12)/($AG12-($T12+0.5))*(0.5*($AG12+$AH12)-($T12+0.5)))*($AG12-$AH12)+$Y12*($AH12+1-$AG12), $Y12))) -> 4.6881649 | AP12: =IF(AP$6<=$T12,0,IF(AP$6<$AH12,$X12+($Y12-$X12)/($AG12-($T12+0.5))*(AP$6+0.5-($T12+0.5)), IF(AP$6=$AH12,($X12+($Y12-$X12)/($AG12-($T12+0.5))*(0.5*($AG12+$AH12)-($T12+0.5)))*($AG12-$AH12)+$Y12*($AH12+1-$AG12), $Y12))) -> 4.5482913 | AQ12: =IF(AQ$6<=$T12,0,IF(AQ$6<$AH12,$X12+($Y12-$X12)/($AG12-($T12+0.5))*(AQ$6+0.5-($T12+0.5)), IF(AQ$6=$AH12,($X12+($Y12-$X12)/($AG12-($T12+0.5))*(0.5*($AG12+$AH12)-($T12+0.5)))*($AG12-$AH12)+$Y12*($AH12+1-$AG12), $Y12))) -> 4.4084177 | AR12: =IF(AR$6<=$T12,0,IF(AR$6<$AH12,$X12+($Y12-$X12)/($AG12-($T12+0.5))*(AR$6+0.5-($T12+0.5)), IF(AR$6=$AH12,($X12+($Y12-$X12)/($AG12-($T12+0.5))*(0.5*($AG12+$AH12)-($T12+0.5)))*($AG12-$AH12)+$Y12*($AH12+1-$AG12), $Y12))) -> 4.2685441 | AS12: =IF(AS$6<=$T12,0,IF(AS$6<$AH12,$X12+($Y12-$X12)/($AG12-($T12+0.5))*(AS$6+0.5-($T12+0.5)), IF(AS$6=$AH12,($X12+($Y12-$X12)/($AG12-($T12+0.5))*(0.5*($AG12+$AH12)-($T12+0.5)))*($AG12-$AH12)+$Y12*($AH12+1-$AG12), $Y12))) -> 4.1286705 | AT12: =IF(AT$6<=$T12,0,IF(AT$6<$AH12,$X12+($Y12-$X12)/($AG12-($T12+0.5))*(AT$6+0.5-($T12+0.5)), IF(AT$6=$AH12,($X12+($Y12-$X12)/($AG12-($T12+0.5))*(0.5*($AG12+$AH12)-($T12+0.5)))*($AG12-$AH12)+$Y12*($AH12+1-$AG12), $Y12))) -> 3.9887969 | AU12: =IF(AU$6<=$T12,0,IF(AU$6<$AH12,$X12+($Y12-$X12)/($AG12-($T12+0.5))*(AU$6+0.5-($T12+0.5)), IF(AU$6=$AH12,($X12+($Y12-$X12)/($AG12-($T12+0.5))*(0.5*($AG12+$AH12)-($T12+0.5)))*($AG12-$AH12)+$Y12*($AH12+1-$AG12), $Y12))) -> 3.8489233 | ... DP12: =IF(DP$6<=$T12,0,IF(DP$6<$AH12,$X12+($Y12-$X12)/($AG12-($T12+0.5))*(DP$6+0.5-($T12+0.5)), IF(DP$6=$AH12,($X12+($Y12-$X12)/($AG12-($T12+0.5))*(0.5*($AG12+$AH12)-($T12+0.5)))*($AG12-$AH12)+$Y12*($AH12+1-$AG12), $Y12))) -> -0.099358243
B13: =S13 -> EU27 | C13: ='web app'!$C$29 -> 668.55 | D13: ='web app'!$C$17 -> 0.15 | E13: =VLOOKUP($S13,'data countries EDGAR'!$A$15:$AA$234,'data countries EDGAR'!$AA$12,FALSE) -> 0.05749956 | F13: =VLOOKUP($S13,'data countries EDGAR'!$A$15:$AA$234,'data countries EDGAR'!$Z$12,FALSE) -> 0.079267912 | G13: =C13*(D13*E13+(1-D13)*F13) -> 50.811578 | H13: =VLOOKUP($S13,'data countries EDGAR'!$A$15:$AA$234,'data countries EDGAR'!M$12,FALSE)/1000 -> 2.9083831 | I13: =VLOOKUP($S13,'data countries EDGAR'!$A$15:$AA$234,'data countries EDGAR'!N$12,FALSE)/1000 -> 2.6384092 | J13: =VLOOKUP($S13,'data countries EDGAR'!$A$15:$AA$234,'data countries EDGAR'!O$12,FALSE)/1000 -> 2.8183079 | K13: =VLOOKUP($S13,'data countries EDGAR'!$A$15:$AA$234,'data countries EDGAR'!P$12,FALSE)/1000 -> 2.7486638 | L13: =VLOOKUP($S13,'data countries EDGAR'!$A$15:$AA$234,'data countries EDGAR'!Q$12,FALSE)/1000 -> 2.5096953 | M13: =VLOOKUP($S13,'data countries EDGAR'!$A$15:$AA$234,'data countries EDGAR'!R$12,FALSE)/1000 -> 2.4623896 | Q13: =SUMIF(AO13:DQ13,"<0") -> -2.5262567 | R13: =-Q13/U13 -> 0.049718131 | S13: EU27 | T13: 2019 | U13: =G13 -> 50.811578 | V13: =SUM(AN13:DP13) -> 50.811578 | W13: =ROUND(V13/U13-1,4) -> 0 | X13: =VLOOKUP($S13,'data countries EDGAR'!$A$15:$AA$234,'data countries EDGAR'!$M$12,FALSE)/1000 -> 2.9083831 | Y13: =$Y$2*X13 -> -0.058167662 | Z13: =X13-Y13 -> 2.9665507 | AA13: =-2*X13*(T13+1)+Y13*4202-2*U13 -> -12095.911 | AB13: =X13*(T13+1)*(T13+1)+Y13*(T13*(T13+1)-2101*(2*T13+1))+U13*(2*T13+1) -> 12328972 | AC13: =(-AA13-SQRT(AA13^2-4*Z13*AB13))/(2*Z13) -> 2019.5065 | AD13: =(-AA13+SQRT(AA13^2-4*Z13*AB13))/(2*Z13) -> 2057.9263 | AE13: =AD13 -> 2057.9263 | AF13: =(Y13*(T13+0.5)-X13*AG13)/(Y13-X13) -> 2057.1728 | AG13: =AD13 -> 2057.9263 | AH13: =ROUNDDOWN(AG13,0) -> 2057 | AI13: =IF($Y$2=0,ROUNDUP(AF13,0),ROUND(AF13,0)) -> 2057 | AJ13: {=IFERROR(INDEX($AN$6:$DP$6,MATCH(_xlfn.AGGREGATE(14,6,(AN13:DP13)/(AN13:DP13<=0),1),AN13:DP13,0)),"-")} -> 2057 | AL13: E(t) | AM13: =H13 -> 2.9083831 | AN13: =IF(AN$6<=$T13,0,IF(AN$6<$AH13,$X13+($Y13-$X13)/($AG13-($T13+0.5))*(AN$6+0.5-($T13+0.5)), IF(AN$6=$AH13,($X13+($Y13-$X13)/($AG13-($T13+0.5))*(0.5*($AG13+$AH13)-($T13+0.5)))*($AG13-$AH13)+$Y13*($AH13+1-$AG13), $Y13))) -> 2.831182 | AO13: =IF(AO$6<=$T13,0,IF(AO$6<$AH13,$X13+($Y13-$X13)/($AG13-($T13+0.5))*(AO$6+0.5-($T13+0.5)), IF(AO$6=$AH13,($X13+($Y13-$X13)/($AG13-($T13+0.5))*(0.5*($AG13+$AH13)-($T13+0.5)))*($AG13-$AH13)+$Y13*($AH13+1-$AG13), $Y13))) -> 2.753981 | AP13: =IF(AP$6<=$T13,0,IF(AP$6<$AH13,$X13+($Y13-$X13)/($AG13-($T13+0.5))*(AP$6+0.5-($T13+0.5)), IF(AP$6=$AH13,($X13+($Y13-$X13)/($AG13-($T13+0.5))*(0.5*($AG13+$AH13)-($T13+0.5)))*($AG13-$AH13)+$Y13*($AH13+1-$AG13), $Y13))) -> 2.6767799 | AQ13: =IF(AQ$6<=$T13,0,IF(AQ$6<$AH13,$X13+($Y13-$X13)/($AG13-($T13+0.5))*(AQ$6+0.5-($T13+0.5)), IF(AQ$6=$AH13,($X13+($Y13-$X13)/($AG13-($T13+0.5))*(0.5*($AG13+$AH13)-($T13+0.5)))*($AG13-$AH13)+$Y13*($AH13+1-$AG13), $Y13))) -> 2.5995789 | AR13: =IF(AR$6<=$T13,0,IF(AR$6<$AH13,$X13+($Y13-$X13)/($AG13-($T13+0.5))*(AR$6+0.5-($T13+0.5)), IF(AR$6=$AH13,($X13+($Y13-$X13)/($AG13-($T13+0.5))*(0.5*($AG13+$AH13)-($T13+0.5)))*($AG13-$AH13)+$Y13*($AH13+1-$AG13), $Y13))) -> 2.5223778 | AS13: =IF(AS$6<=$T13,0,IF(AS$6<$AH13,$X13+($Y13-$X13)/($AG13-($T13+0.5))*(AS$6+0.5-($T13+0.5)), IF(AS$6=$AH13,($X13+($Y13-$X13)/($AG13-($T13+0.5))*(0.5*($AG13+$AH13)-($T13+0.5)))*($AG13-$AH13)+$Y13*($AH13+1-$AG13), $Y13))) -> 2.4451768 | AT13: =IF(AT$6<=$T13,0,IF(AT$6<$AH13,$X13+($Y13-$X13)/($AG13-($T13+0.5))*(AT$6+0.5-($T13+0.5)), IF(AT$6=$AH13,($X13+($Y13-$X13)/($AG13-($T13+0.5))*(0.5*($AG13+$AH13)-($T13+0.5)))*($AG13-$AH13)+$Y13*($AH13+1-$AG13), $Y13))) -> 2.3679757 | AU13: =IF(AU$6<=$T13,0,IF(AU$6<$AH13,$X13+($Y13-$X13)/($AG13-($T13+0.5))*(AU$6+0.5-($T13+0.5)), IF(AU$6=$AH13,($X13+($Y13-$X13)/($AG13-($T13+0.5))*(0.5*($AG13+$AH13)-($T13+0.5)))*($AG13-$AH13)+$Y13*($AH13+1-$AG13), $Y13))) -> 2.2907747 | ... DP13: =IF(DP$6<=$T13,0,IF(DP$6<$AH13,$X13+($Y13-$X13)/($AG13-($T13+0.5))*(DP$6+0.5-($T13+0.5)), IF(DP$6=$AH13,($X13+($Y13-$X13)/($AG13-($T13+0.5))*(0.5*($AG13+$AH13)-($T13+0.5)))*($AG13-$AH13)+$Y13*($AH13+1-$AG13), $Y13))) -> -0.058167662
B14: =S14 -> India | C14: ='web app'!$C$29 -> 668.55 | D14: ='web app'!$C$17 -> 0.15 | E14: =VLOOKUP($S14,'data countries EDGAR'!$A$15:$AA$234,'data countries EDGAR'!$AA$12,FALSE) -> 0.17748722 | F14: =VLOOKUP($S14,'data countries EDGAR'!$A$15:$AA$234,'data countries EDGAR'!$Z$12,FALSE) -> 0.069540666 | G14: =C14*(D14*E14+(1-D14)*F14) -> 57.316563 | H14: =VLOOKUP($S14,'data countries EDGAR'!$A$15:$AA$234,'data countries EDGAR'!M$12,FALSE)/1000 -> 2.5514851 | I14: =VLOOKUP($S14,'data countries EDGAR'!$A$15:$AA$234,'data countries EDGAR'!N$12,FALSE)/1000 -> 2.356959 | J14: =VLOOKUP($S14,'data countries EDGAR'!$A$15:$AA$234,'data countries EDGAR'!O$12,FALSE)/1000 -> 2.5979343 | K14: =VLOOKUP($S14,'data countries EDGAR'!$A$15:$AA$234,'data countries EDGAR'!P$12,FALSE)/1000 -> 2.8070805 | L14: =VLOOKUP($S14,'data countries EDGAR'!$A$15:$AA$234,'data countries EDGAR'!Q$12,FALSE)/1000 -> 3.0145226 | M14: =VLOOKUP($S14,'data countries EDGAR'!$A$15:$AA$234,'data countries EDGAR'!R$12,FALSE)/1000 -> 3.1538291 | Q14: =SUMIF(AO14:DQ14,"<0") -> -1.7210841 | R14: =-Q14/U14 -> 0.030027693 | S14: India | T14: 2019 | U14: =G14 -> 57.316563 | V14: =SUM(AN14:DP14) -> 57.316563 | W14: =ROUND(V14/U14-1,4) -> 0 | X14: =VLOOKUP($S14,'data countries EDGAR'!$A$15:$AA$234,'data countries EDGAR'!$M$12,FALSE)/1000 -> 2.5514851 | Y14: =$Y$2*X14 -> -0.051029702 | Z14: =X14-Y14 -> 2.6025148 | AA14: =-2*X14*(T14+1)+Y14*4202-2*U14 -> -10637.06 | AB14: =X14*(T14+1)*(T14+1)+Y14*(T14*(T14+1)-2101*(2*T14+1))+U14*(2*T14+1) -> 10867498 | AC14: =(-AA14-SQRT(AA14^2-4*Z14*AB14))/(2*Z14) -> 2019.5052 | AD14: =(-AA14+SQRT(AA14^2-4*Z14*AB14))/(2*Z14) -> 2067.7183 | AE14: =AD14 -> 2067.7183 | AF14: =(Y14*(T14+0.5)-X14*AG14)/(Y14-X14) -> 2066.7729 | AG14: =AD14 -> 2067.7183 | AH14: =ROUNDDOWN(AG14,0) -> 2067 | AI14: =IF($Y$2=0,ROUNDUP(AF14,0),ROUND(AF14,0)) -> 2067 | AJ14: {=IFERROR(INDEX($AN$6:$DP$6,MATCH(_xlfn.AGGREGATE(14,6,(AN14:DP14)/(AN14:DP14<=0),1),AN14:DP14,0)),"-")} -> 2067 | AL14: E(t) | AM14: =H14 -> 2.5514851 | AN14: =IF(AN$6<=$T14,0,IF(AN$6<$AH14,$X14+($Y14-$X14)/($AG14-($T14+0.5))*(AN$6+0.5-($T14+0.5)), IF(AN$6=$AH14,($X14+($Y14-$X14)/($AG14-($T14+0.5))*(0.5*($AG14+$AH14)-($T14+0.5)))*($AG14-$AH14)+$Y14*($AH14+1-$AG14), $Y14))) -> 2.4975116 | AO14: =IF(AO$6<=$T14,0,IF(AO$6<$AH14,$X14+($Y14-$X14)/($AG14-($T14+0.5))*(AO$6+0.5-($T14+0.5)), IF(AO$6=$AH14,($X14+($Y14-$X14)/($AG14-($T14+0.5))*(0.5*($AG14+$AH14)-($T14+0.5)))*($AG14-$AH14)+$Y14*($AH14+1-$AG14), $Y14))) -> 2.443538 | AP14: =IF(AP$6<=$T14,0,IF(AP$6<$AH14,$X14+($Y14-$X14)/($AG14-($T14+0.5))*(AP$6+0.5-($T14+0.5)), IF(AP$6=$AH14,($X14+($Y14-$X14)/($AG14-($T14+0.5))*(0.5*($AG14+$AH14)-($T14+0.5)))*($AG14-$AH14)+$Y14*($AH14+1-$AG14), $Y14))) -> 2.3895645 | AQ14: =IF(AQ$6<=$T14,0,IF(AQ$6<$AH14,$X14+($Y14-$X14)/($AG14-($T14+0.5))*(AQ$6+0.5-($T14+0.5)), IF(AQ$6=$AH14,($X14+($Y14-$X14)/($AG14-($T14+0.5))*(0.5*($AG14+$AH14)-($T14+0.5)))*($AG14-$AH14)+$Y14*($AH14+1-$AG14), $Y14))) -> 2.3355909 | AR14: =IF(AR$6<=$T14,0,IF(AR$6<$AH14,$X14+($Y14-$X14)/($AG14-($T14+0.5))*(AR$6+0.5-($T14+0.5)), IF(AR$6=$AH14,($X14+($Y14-$X14)/($AG14-($T14+0.5))*(0.5*($AG14+$AH14)-($T14+0.5)))*($AG14-$AH14)+$Y14*($AH14+1-$AG14), $Y14))) -> 2.2816174 | AS14: =IF(AS$6<=$T14,0,IF(AS$6<$AH14,$X14+($Y14-$X14)/($AG14-($T14+0.5))*(AS$6+0.5-($T14+0.5)), IF(AS$6=$AH14,($X14+($Y14-$X14)/($AG14-($T14+0.5))*(0.5*($AG14+$AH14)-($T14+0.5)))*($AG14-$AH14)+$Y14*($AH14+1-$AG14), $Y14))) -> 2.2276439 | AT14: =IF(AT$6<=$T14,0,IF(AT$6<$AH14,$X14+($Y14-$X14)/($AG14-($T14+0.5))*(AT$6+0.5-($T14+0.5)), IF(AT$6=$AH14,($X14+($Y14-$X14)/($AG14-($T14+0.5))*(0.5*($AG14+$AH14)-($T14+0.5)))*($AG14-$AH14)+$Y14*($AH14+1-$AG14), $Y14))) -> 2.1736703 | AU14: =IF(AU$6<=$T14,0,IF(AU$6<$AH14,$X14+($Y14-$X14)/($AG14-($T14+0.5))*(AU$6+0.5-($T14+0.5)), IF(AU$6=$AH14,($X14+($Y14-$X14)/($AG14-($T14+0.5))*(0.5*($AG14+$AH14)-($T14+0.5)))*($AG14-$AH14)+$Y14*($AH14+1-$AG14), $Y14))) -> 2.1196968 | ... DP14: =IF(DP$6<=$T14,0,IF(DP$6<$AH14,$X14+($Y14-$X14)/($AG14-($T14+0.5))*(DP$6+0.5-($T14+0.5)), IF(DP$6=$AH14,($X14+($Y14-$X14)/($AG14-($T14+0.5))*(0.5*($AG14+$AH14)-($T14+0.5)))*($AG14-$AH14)+$Y14*($AH14+1-$AG14), $Y14))) -> -0.051029702
B15: =S15 -> Russia | C15: ='web app'!$C$29 -> 668.55 | D15: ='web app'!$C$17 -> 0.15 | E15: =VLOOKUP($S15,'data countries EDGAR'!$A$15:$AA$234,'data countries EDGAR'!$AA$12,FALSE) -> 0.018659255 | F15: =VLOOKUP($S15,'data countries EDGAR'!$A$15:$AA$234,'data countries EDGAR'!$Z$12,FALSE) -> 0.050639801 | G15: =C15*(D15*E15+(1-D15)*F15) -> 30.64815 | H15: =VLOOKUP($S15,'data countries EDGAR'!$A$15:$AA$234,'data countries EDGAR'!M$12,FALSE)/1000 -> 1.858002 | I15: =VLOOKUP($S15,'data countries EDGAR'!$A$15:$AA$234,'data countries EDGAR'!N$12,FALSE)/1000 -> 1.7841991 | J15: =VLOOKUP($S15,'data countries EDGAR'!$A$15:$AA$234,'data countries EDGAR'!O$12,FALSE)/1000 -> 1.9384596 | K15: =VLOOKUP($S15,'data countries EDGAR'!$A$15:$AA$234,'data countries EDGAR'!P$12,FALSE)/1000 -> 1.8954729 | L15: =VLOOKUP($S15,'data countries EDGAR'!$A$15:$AA$234,'data countries EDGAR'!Q$12,FALSE)/1000 -> 1.9483024 | M15: =VLOOKUP($S15,'data countries EDGAR'!$A$15:$AA$234,'data countries EDGAR'!R$12,FALSE)/1000 -> 2.0091541 | Q15: =SUMIF(AO15:DQ15,"<0") -> -1.682721 | R15: =-Q15/U15 -> 0.054904489 | S15: Russia | T15: 2019 | U15: =G15 -> 30.64815 | V15: =SUM(AN15:DP15) -> 30.64815 | W15: =ROUND(V15/U15-1,4) -> 0 | X15: =VLOOKUP($S15,'data countries EDGAR'!$A$15:$AA$234,'data countries EDGAR'!$M$12,FALSE)/1000 -> 1.858002 | Y15: =$Y$2*X15 -> -0.037160041 | Z15: =X15-Y15 -> 1.8951621 | AA15: =-2*X15*(T15+1)+Y15*4202-2*U15 -> -7723.771 | AB15: =X15*(T15+1)*(T15+1)+Y15*(T15*(T15+1)-2101*(2*T15+1))+U15*(2*T15+1) -> 7868964.4 | AC15: =(-AA15-SQRT(AA15^2-4*Z15*AB15))/(2*Z15) -> 2019.5068 | AD15: =(-AA15+SQRT(AA15^2-4*Z15*AB15))/(2*Z15) -> 2056.0132 | AE15: =AD15 -> 2056.0132 | AF15: =(Y15*(T15+0.5)-X15*AG15)/(Y15-X15) -> 2055.2972 | AG15: =AD15 -> 2056.0132 | AH15: =ROUNDDOWN(AG15,0) -> 2056 | AI15: =IF($Y$2=0,ROUNDUP(AF15,0),ROUND(AF15,0)) -> 2055 | AJ15: {=IFERROR(INDEX($AN$6:$DP$6,MATCH(_xlfn.AGGREGATE(14,6,(AN15:DP15)/(AN15:DP15<=0),1),AN15:DP15,0)),"-")} -> 2055 | AL15: E(t) | AM15: =H15 -> 1.858002 | AN15: =IF(AN$6<=$T15,0,IF(AN$6<$AH15,$X15+($Y15-$X15)/($AG15-($T15+0.5))*(AN$6+0.5-($T15+0.5)), IF(AN$6=$AH15,($X15+($Y15-$X15)/($AG15-($T15+0.5))*(0.5*($AG15+$AH15)-($T15+0.5)))*($AG15-$AH15)+$Y15*($AH15+1-$AG15), $Y15))) -> 1.8060985 | AO15: =IF(AO$6<=$T15,0,IF(AO$6<$AH15,$X15+($Y15-$X15)/($AG15-($T15+0.5))*(AO$6+0.5-($T15+0.5)), IF(AO$6=$AH15,($X15+($Y15-$X15)/($AG15-($T15+0.5))*(0.5*($AG15+$AH15)-($T15+0.5)))*($AG15-$AH15)+$Y15*($AH15+1-$AG15), $Y15))) -> 1.754195 | AP15: =IF(AP$6<=$T15,0,IF(AP$6<$AH15,$X15+($Y15-$X15)/($AG15-($T15+0.5))*(AP$6+0.5-($T15+0.5)), IF(AP$6=$AH15,($X15+($Y15-$X15)/($AG15-($T15+0.5))*(0.5*($AG15+$AH15)-($T15+0.5)))*($AG15-$AH15)+$Y15*($AH15+1-$AG15), $Y15))) -> 1.7022916 | AQ15: =IF(AQ$6<=$T15,0,IF(AQ$6<$AH15,$X15+($Y15-$X15)/($AG15-($T15+0.5))*(AQ$6+0.5-($T15+0.5)), IF(AQ$6=$AH15,($X15+($Y15-$X15)/($AG15-($T15+0.5))*(0.5*($AG15+$AH15)-($T15+0.5)))*($AG15-$AH15)+$Y15*($AH15+1-$AG15), $Y15))) -> 1.6503881 | AR15: =IF(AR$6<=$T15,0,IF(AR$6<$AH15,$X15+($Y15-$X15)/($AG15-($T15+0.5))*(AR$6+0.5-($T15+0.5)), IF(AR$6=$AH15,($X15+($Y15-$X15)/($AG15-($T15+0.5))*(0.5*($AG15+$AH15)-($T15+0.5)))*($AG15-$AH15)+$Y15*($AH15+1-$AG15), $Y15))) -> 1.5984846 | AS15: =IF(AS$6<=$T15,0,IF(AS$6<$AH15,$X15+($Y15-$X15)/($AG15-($T15+0.5))*(AS$6+0.5-($T15+0.5)), IF(AS$6=$AH15,($X15+($Y15-$X15)/($AG15-($T15+0.5))*(0.5*($AG15+$AH15)-($T15+0.5)))*($AG15-$AH15)+$Y15*($AH15+1-$AG15), $Y15))) -> 1.5465811 | AT15: =IF(AT$6<=$T15,0,IF(AT$6<$AH15,$X15+($Y15-$X15)/($AG15-($T15+0.5))*(AT$6+0.5-($T15+0.5)), IF(AT$6=$AH15,($X15+($Y15-$X15)/($AG15-($T15+0.5))*(0.5*($AG15+$AH15)-($T15+0.5)))*($AG15-$AH15)+$Y15*($AH15+1-$AG15), $Y15))) -> 1.4946776 | AU15: =IF(AU$6<=$T15,0,IF(AU$6<$AH15,$X15+($Y15-$X15)/($AG15-($T15+0.5))*(AU$6+0.5-($T15+0.5)), IF(AU$6=$AH15,($X15+($Y15-$X15)/($AG15-($T15+0.5))*(0.5*($AG15+$AH15)-($T15+0.5)))*($AG15-$AH15)+$Y15*($AH15+1-$AG15), $Y15))) -> 1.4427741 | ... DP15: =IF(DP$6<=$T15,0,IF(DP$6<$AH15,$X15+($Y15-$X15)/($AG15-($T15+0.5))*(DP$6+0.5-($T15+0.5)), IF(DP$6=$AH15,($X15+($Y15-$X15)/($AG15-($T15+0.5))*(0.5*($AG15+$AH15)-($T15+0.5)))*($AG15-$AH15)+$Y15*($AH15+1-$AG15), $Y15))) -> -0.037160041
B16: =S16 -> Japan | C16: ='web app'!$C$29 -> 668.55 | D16: ='web app'!$C$17 -> 0.15 | E16: =VLOOKUP($S16,'data countries EDGAR'!$A$15:$AA$234,'data countries EDGAR'!$AA$12,FALSE) -> 0.016449536 | F16: =VLOOKUP($S16,'data countries EDGAR'!$A$15:$AA$234,'data countries EDGAR'!$Z$12,FALSE) -> 0.030629496 | G16: =C16*(D16*E16+(1-D16)*F16) -> 19.055347 | H16: =VLOOKUP($S16,'data countries EDGAR'!$A$15:$AA$234,'data countries EDGAR'!M$12,FALSE)/1000 -> 1.123813 | I16: =VLOOKUP($S16,'data countries EDGAR'!$A$15:$AA$234,'data countries EDGAR'!N$12,FALSE)/1000 -> 1.0602269 | J16: =VLOOKUP($S16,'data countries EDGAR'!$A$15:$AA$234,'data countries EDGAR'!O$12,FALSE)/1000 -> 1.080206 | K16: =VLOOKUP($S16,'data countries EDGAR'!$A$15:$AA$234,'data countries EDGAR'!P$12,FALSE)/1000 -> 1.0505032 | L16: =VLOOKUP($S16,'data countries EDGAR'!$A$15:$AA$234,'data countries EDGAR'!Q$12,FALSE)/1000 -> 1.0024382 | M16: =VLOOKUP($S16,'data countries EDGAR'!$A$15:$AA$234,'data countries EDGAR'!R$12,FALSE)/1000 -> 0.97226697 | Q16: =SUMIF(AO16:DQ16,"<0") -> -0.99855657 | R16: =-Q16/U16 -> 0.052402958 | S16: Japan | T16: 2019 | U16: =G16 -> 19.055347 | V16: =SUM(AN16:DP16) -> 19.055347 | W16: =ROUND(V16/U16-1,4) -> 0 | X16: =VLOOKUP($S16,'data countries EDGAR'!$A$15:$AA$234,'data countries EDGAR'!$M$12,FALSE)/1000 -> 1.123813 | Y16: =$Y$2*X16 -> -0.022476259 | Z16: =X16-Y16 -> 1.1462892 | AA16: =-2*X16*(T16+1)+Y16*4202-2*U16 -> -4672.7603 | AB16: =X16*(T16+1)*(T16+1)+Y16*(T16*(T16+1)-2101*(2*T16+1))+U16*(2*T16+1) -> 4761636.4 | AC16: =(-AA16-SQRT(AA16^2-4*Z16*AB16))/(2*Z16) -> 2019.5067 | AD16: =(-AA16+SQRT(AA16^2-4*Z16*AB16))/(2*Z16) -> 2056.9168 | AE16: =AD16 -> 2056.9168 | AF16: =(Y16*(T16+0.5)-X16*AG16)/(Y16-X16) -> 2056.1831 | AG16: =AD16 -> 2056.9168 | AH16: =ROUNDDOWN(AG16,0) -> 2056 | AI16: =IF($Y$2=0,ROUNDUP(AF16,0),ROUND(AF16,0)) -> 2056 | AJ16: {=IFERROR(INDEX($AN$6:$DP$6,MATCH(_xlfn.AGGREGATE(14,6,(AN16:DP16)/(AN16:DP16<=0),1),AN16:DP16,0)),"-")} -> 2056 | AL16: E(t) | AM16: =H16 -> 1.123813 | AN16: =IF(AN$6<=$T16,0,IF(AN$6<$AH16,$X16+($Y16-$X16)/($AG16-($T16+0.5))*(AN$6+0.5-($T16+0.5)), IF(AN$6=$AH16,($X16+($Y16-$X16)/($AG16-($T16+0.5))*(0.5*($AG16+$AH16)-($T16+0.5)))*($AG16-$AH16)+$Y16*($AH16+1-$AG16), $Y16))) -> 1.0931773 | AO16: =IF(AO$6<=$T16,0,IF(AO$6<$AH16,$X16+($Y16-$X16)/($AG16-($T16+0.5))*(AO$6+0.5-($T16+0.5)), IF(AO$6=$AH16,($X16+($Y16-$X16)/($AG16-($T16+0.5))*(0.5*($AG16+$AH16)-($T16+0.5)))*($AG16-$AH16)+$Y16*($AH16+1-$AG16), $Y16))) -> 1.0625416 | AP16: =IF(AP$6<=$T16,0,IF(AP$6<$AH16,$X16+($Y16-$X16)/($AG16-($T16+0.5))*(AP$6+0.5-($T16+0.5)), IF(AP$6=$AH16,($X16+($Y16-$X16)/($AG16-($T16+0.5))*(0.5*($AG16+$AH16)-($T16+0.5)))*($AG16-$AH16)+$Y16*($AH16+1-$AG16), $Y16))) -> 1.0319059 | AQ16: =IF(AQ$6<=$T16,0,IF(AQ$6<$AH16,$X16+($Y16-$X16)/($AG16-($T16+0.5))*(AQ$6+0.5-($T16+0.5)), IF(AQ$6=$AH16,($X16+($Y16-$X16)/($AG16-($T16+0.5))*(0.5*($AG16+$AH16)-($T16+0.5)))*($AG16-$AH16)+$Y16*($AH16+1-$AG16), $Y16))) -> 1.0012702 | AR16: =IF(AR$6<=$T16,0,IF(AR$6<$AH16,$X16+($Y16-$X16)/($AG16-($T16+0.5))*(AR$6+0.5-($T16+0.5)), IF(AR$6=$AH16,($X16+($Y16-$X16)/($AG16-($T16+0.5))*(0.5*($AG16+$AH16)-($T16+0.5)))*($AG16-$AH16)+$Y16*($AH16+1-$AG16), $Y16))) -> 0.97063457 | AS16: =IF(AS$6<=$T16,0,IF(AS$6<$AH16,$X16+($Y16-$X16)/($AG16-($T16+0.5))*(AS$6+0.5-($T16+0.5)), IF(AS$6=$AH16,($X16+($Y16-$X16)/($AG16-($T16+0.5))*(0.5*($AG16+$AH16)-($T16+0.5)))*($AG16-$AH16)+$Y16*($AH16+1-$AG16), $Y16))) -> 0.93999889 | AT16: =IF(AT$6<=$T16,0,IF(AT$6<$AH16,$X16+($Y16-$X16)/($AG16-($T16+0.5))*(AT$6+0.5-($T16+0.5)), IF(AT$6=$AH16,($X16+($Y16-$X16)/($AG16-($T16+0.5))*(0.5*($AG16+$AH16)-($T16+0.5)))*($AG16-$AH16)+$Y16*($AH16+1-$AG16), $Y16))) -> 0.90936321 | AU16: =IF(AU$6<=$T16,0,IF(AU$6<$AH16,$X16+($Y16-$X16)/($AG16-($T16+0.5))*(AU$6+0.5-($T16+0.5)), IF(AU$6=$AH16,($X16+($Y16-$X16)/($AG16-($T16+0.5))*(0.5*($AG16+$AH16)-($T16+0.5)))*($AG16-$AH16)+$Y16*($AH16+1-$AG16), $Y16))) -> 0.87872753 | ... DP16: =IF(DP$6<=$T16,0,IF(DP$6<$AH16,$X16+($Y16-$X16)/($AG16-($T16+0.5))*(DP$6+0.5-($T16+0.5)), IF(DP$6=$AH16,($X16+($Y16-$X16)/($AG16-($T16+0.5))*(0.5*($AG16+$AH16)-($T16+0.5)))*($AG16-$AH16)+$Y16*($AH16+1-$AG16), $Y16))) -> -0.022476259
B17: =S17 -> Global | C17: ='web app'!$C$29 -> 668.55 | D17: ='web app'!$C$17 -> 0.15 | E17: =VLOOKUP($S17,'data countries EDGAR'!$A$15:$AA$234,'data countries EDGAR'!$AA$12,FALSE) -> 1 | F17: =VLOOKUP($S17,'data countries EDGAR'!$A$15:$AA$234,'data countries EDGAR'!$Z$12,FALSE) -> 1 | G17: =C17*(D17*E17+(1-D17)*F17) -> 668.55 | H17: =VLOOKUP($S17,'data countries EDGAR'!$A$15:$AA$234,'data countries EDGAR'!M$12,FALSE)/1000 -> 36.690548 | I17: =VLOOKUP($S17,'data countries EDGAR'!$A$15:$AA$234,'data countries EDGAR'!N$12,FALSE)/1000 -> 35.278461 | J17: =VLOOKUP($S17,'data countries EDGAR'!$A$15:$AA$234,'data countries EDGAR'!O$12,FALSE)/1000 -> 37.236275 | K17: =VLOOKUP($S17,'data countries EDGAR'!$A$15:$AA$234,'data countries EDGAR'!P$12,FALSE)/1000 -> 37.417336 | L17: =VLOOKUP($S17,'data countries EDGAR'!$A$15:$AA$234,'data countries EDGAR'!Q$12,FALSE)/1000 -> 37.829568 | M17: =VLOOKUP($S17,'data countries EDGAR'!$A$15:$AA$234,'data countries EDGAR'!R$12,FALSE)/1000 -> 38.320611 | Q17: =SUMIF(AO17:DQ17,"<0") -> -30.745667 | R17: =-Q17/U17 -> 0.045988583 | S17: Global | T17: 2019 | U17: =G17 -> 668.55 | V17: =SUM(AN17:DP17) -> 668.55 | W17: =ROUND(V17/U17-1,4) -> 0 | X17: =VLOOKUP($S17,'data countries EDGAR'!$A$15:$AA$234,'data countries EDGAR'!$M$12,FALSE)/1000 -> 36.690548 | Y17: =$Y$2*X17 -> -0.73381095 | Z17: =X17-Y17 -> 37.424358 | AA17: =-2*X17*(T17+1)+Y17*4202-2*U17 -> -152650.39 | AB17: =X17*(T17+1)*(T17+1)+Y17*(T17*(T17+1)-2101*(2*T17+1))+U17*(2*T17+1) -> 1.556467e+08 | AC17: =(-AA17-SQRT(AA17^2-4*Z17*AB17))/(2*Z17) -> 2019.5063 | AD17: =(-AA17+SQRT(AA17^2-4*Z17*AB17))/(2*Z17) -> 2059.3983 | AE17: =AD17 -> 2059.3983 | AF17: =(Y17*(T17+0.5)-X17*AG17)/(Y17-X17) -> 2058.616 | AG17: =AD17 -> 2059.3983 | AH17: =ROUNDDOWN(AG17,0) -> 2059 | AI17: =IF($Y$2=0,ROUNDUP(AF17,0),ROUND(AF17,0)) -> 2059 | AJ17: {=IFERROR(INDEX($AN$6:$DP$6,MATCH(_xlfn.AGGREGATE(14,6,(AN17:DP17)/(AN17:DP17<=0),1),AN17:DP17,0)),"-")} -> 2059 | AL17: E(t) | AM17: =H17 -> 36.690548 | AN17: =IF(AN$6<=$T17,0,IF(AN$6<$AH17,$X17+($Y17-$X17)/($AG17-($T17+0.5))*(AN$6+0.5-($T17+0.5)), IF(AN$6=$AH17,($X17+($Y17-$X17)/($AG17-($T17+0.5))*(0.5*($AG17+$AH17)-($T17+0.5)))*($AG17-$AH17)+$Y17*($AH17+1-$AG17), $Y17))) -> 35.752553 | AO17: =IF(AO$6<=$T17,0,IF(AO$6<$AH17,$X17+($Y17-$X17)/($AG17-($T17+0.5))*(AO$6+0.5-($T17+0.5)), IF(AO$6=$AH17,($X17+($Y17-$X17)/($AG17-($T17+0.5))*(0.5*($AG17+$AH17)-($T17+0.5)))*($AG17-$AH17)+$Y17*($AH17+1-$AG17), $Y17))) -> 34.814559 | AP17: =IF(AP$6<=$T17,0,IF(AP$6<$AH17,$X17+($Y17-$X17)/($AG17-($T17+0.5))*(AP$6+0.5-($T17+0.5)), IF(AP$6=$AH17,($X17+($Y17-$X17)/($AG17-($T17+0.5))*(0.5*($AG17+$AH17)-($T17+0.5)))*($AG17-$AH17)+$Y17*($AH17+1-$AG17), $Y17))) -> 33.876564 | AQ17: =IF(AQ$6<=$T17,0,IF(AQ$6<$AH17,$X17+($Y17-$X17)/($AG17-($T17+0.5))*(AQ$6+0.5-($T17+0.5)), IF(AQ$6=$AH17,($X17+($Y17-$X17)/($AG17-($T17+0.5))*(0.5*($AG17+$AH17)-($T17+0.5)))*($AG17-$AH17)+$Y17*($AH17+1-$AG17), $Y17))) -> 32.93857 | AR17: =IF(AR$6<=$T17,0,IF(AR$6<$AH17,$X17+($Y17-$X17)/($AG17-($T17+0.5))*(AR$6+0.5-($T17+0.5)), IF(AR$6=$AH17,($X17+($Y17-$X17)/($AG17-($T17+0.5))*(0.5*($AG17+$AH17)-($T17+0.5)))*($AG17-$AH17)+$Y17*($AH17+1-$AG17), $Y17))) -> 32.000575 | AS17: =IF(AS$6<=$T17,0,IF(AS$6<$AH17,$X17+($Y17-$X17)/($AG17-($T17+0.5))*(AS$6+0.5-($T17+0.5)), IF(AS$6=$AH17,($X17+($Y17-$X17)/($AG17-($T17+0.5))*(0.5*($AG17+$AH17)-($T17+0.5)))*($AG17-$AH17)+$Y17*($AH17+1-$AG17), $Y17))) -> 31.062581 | AT17: =IF(AT$6<=$T17,0,IF(AT$6<$AH17,$X17+($Y17-$X17)/($AG17-($T17+0.5))*(AT$6+0.5-($T17+0.5)), IF(AT$6=$AH17,($X17+($Y17-$X17)/($AG17-($T17+0.5))*(0.5*($AG17+$AH17)-($T17+0.5)))*($AG17-$AH17)+$Y17*($AH17+1-$AG17), $Y17))) -> 30.124586 | AU17: =IF(AU$6<=$T17,0,IF(AU$6<$AH17,$X17+($Y17-$X17)/($AG17-($T17+0.5))*(AU$6+0.5-($T17+0.5)), IF(AU$6=$AH17,($X17+($Y17-$X17)/($AG17-($T17+0.5))*(0.5*($AG17+$AH17)-($T17+0.5)))*($AG17-$AH17)+$Y17*($AH17+1-$AG17), $Y17))) -> 29.186592 | ... DP17: =IF(DP$6<=$T17,0,IF(DP$6<$AH17,$X17+($Y17-$X17)/($AG17-($T17+0.5))*(DP$6+0.5-($T17+0.5)), IF(DP$6=$AH17,($X17+($Y17-$X17)/($AG17-($T17+0.5))*(0.5*($AG17+$AH17)-($T17+0.5)))*($AG17-$AH17)+$Y17*($AH17+1-$AG17), $Y17))) -> -0.73381095
