Workbook
Name countries: #REF!
Name countries_big: #REF!,#REF!
Name countries_big1: #REF!
Name countries_big2: #REF!,#REF!
Name Laender: #REF!
Name Zellenfarbe: #REF!
Name Zellenfarbe2: #REF!

Sheet web app
B2: Calculation of Paris-compatible national CO2 budgets with a weighted distribution key | J2: Hide
B4: https://national-budgets.climate-calculator.info | D4: Guidance and background information: | H4: PDF
B6: Input of global framework data
B8: budgets published by the IPCC | C8: Gt | E8: Enter the global LUC budget from 2020 on in Gt: | H8: 0 | I8: info
B9: global CO2 budget from and including 2020 on | C9: 650
B10: LUC budget (land-use change) | C10: =-H8 -> 0 | E10: How much should be reserved for ISA emissions? | H10: 0.033 | I10: share 2019: 3.3%
B11: ISA budget (international shipping and aviation) | C11: =C9*H10*-1 -> -21.45
B12: adjustment CeCS (Cement Carbonation Sink) | C12: =-H12 -> 40 | E12: CeCS estimate 2020 – 2100 in Gt | H12: -40 | I12: =CONCATENATE("actual 2019: ",ROUND(-'data countries EDGAR'!M236,1)) -> actual 2019: -0,8
B13: global budget to be allocated here | C13: =SUM(C9:C12) -> 668.55
B15: possible net negative emissions = % of emissions in 2019 | C15: 0.02 | D15: ► potential overshoot | G15: info
B17: weighting population vs. emissions | C17: 0.15 | D17: C | E17: =IFERROR(VLOOKUP(C17,L17:M18,2,FALSE),0) -> 0 | L17: 0 | M17: 'grandfathering'
L18: 1 | M18: 'per capita distribution'
B19: Calculation of the national CO2 budget and emission targets
B20: - the emission targets are based on a linear emission path -
B22: select a country or global | M22: 2025 | N22: start year 2 | O22: {=CELL("adresse",M22)} -> $M$22 | P22: EDGAR | Q22: =CONCATENATE("start year ",M22) -> start year 2025
B23: China | C23: Below ‘global’, all other countries in the world in alphabetical order. | M23: 2026 | N23: start year 2 | O23: {=CELL("adresse",M23)} -> $M$23 | P23: GCP | Q23: =CONCATENATE("start year ",M23) -> start year 2026
B25: share selected country in global population 2019 | C25: ='data countries EDGAR'!AA6 -> 0.18414259
B26: share selected country in global emissions 2019 | C26: ='data countries EDGAR'!Z6 -> 0.32196462
B27: weighted distribution key | C27: =C25*C17+(1-C17)*C26 -> 0.30129131 | D27: WK | L27: 0.001 | M27: =L27/10 -> 0.0001 | N27: =M27/10 -> 1e-05 | O27: =N27/10 -> 1e-06 | P27: %
B29: global CO2 budget from 2020 on in Gt (see above) | C29: =IF(B23<>'data countries EDGAR'!A249,C13,C9) -> 668.55 | D29: B
B31: CO2 budget from 2020 on in Gt | C31: =C29*C27 -> 201.42831 | D31: Bi
B33: =IF(B23='data countries EDGAR'!A234,CONCATENATE("remaining budget from ",$M$23," on in Gt"),CONCATENATE("remaining budget from ",$M$22," on in Gt")) -> remaining budget from 2025 on in Gt | C33: =paths!U46 -> 138.24766 | L33: 20 | M33: =L27*10 -> 0.01 | N33: =M27*10 -> 0.001 | O33: =N27*10 -> 0.0001 | P33: =O27*10 -> 1e-05 | Q33: value
B35: key figures for a linear emission path
B37: year emissions neutrality | D37: If the year of emissions neutrality, taking into account already known actual emissions after 2019, must occur earlier than with the emissions path from 2020, then the selected country is not on track to meet its CO2 budget from 2020 with a linear emissions path.
B38: start year emission path: 2020 | C38: =paths!$AI$21 -> 2056
B39: =IF(B23='data countries EDGAR'!A234,CONCATENATE("start year emission path: ",M23),CONCATENATE("start year emission path: ",M22)) -> start year emission path: 2025 | C39: =paths!$AI$46 -> 2049
B40: On the right track with these given framework data? | C40: =IF(C39>=C38,"on track","not on track") -> not on track
B42: =CONCATENATE("change in emissions (",Q22,")") -> change in emissions (start year 2025) | C42: vs. 2019
B43: 2030 | C43: =paths!AX46/paths!AM46-1 -> -0.16509997
B44: 2035 | C44: =paths!BC46/paths!AM46-1 -> -0.39521293
B45: 2040 | C45: =paths!BH46/paths!AM46-1 -> -0.62532589
B47: =CONCATENATE("overshoot in Gt (",Q22,")") -> overshoot in Gt (start year 2025) | C47: =-paths!Q46 -> 13.645543 | D47: =IF(AND(C15>0,C48=0),"The potential for net negative emissions is too high for this country. Please enter a lower value. E_min is now set to zero.","")
B48: share of the overshoot in the remaining budget | C48: =paths!R46 -> 0.09870361
B49: share of the overshoot in emissions in 2019 | C49: =paths!Q46*-1/paths!H46 -> 1.1551237
B50: emissions 2100 in Gt | C50: =IF(AND(C15>0,C48=0),"",paths!DP46) -> -0.26249456 | M50: =-M33 -> -0.01 | N50: =-N33 -> -0.001 | O50: =-O33 -> -0.0001 | P50: =-P33 -> -1e-05
E52: blue points are actual emissions
B65: emissions 2019 in t (info) | C65: per capita | D65: per GDP
B66: global | C66: ='data countries EDGAR'!X226 -> 4.7577446 | D66: ='data countries EDGAR'!Y226 -> 0.24466992
B67: =B23 -> China | C67: ='data countries EDGAR'!X6 -> 8.3186917 | D67: ='data countries EDGAR'!Y6 -> 0.42637958
B68: deviation from the global average | C68: =C67/C66-1 -> 0.74845278 | D68: =D67/D66-1 -> 0.74267269
B70: Detailed Excel tool for calculating national CO2 budgets: | D70: here
B72: Tools for calculating plausible national or global emission paths: | D72: In addition to a linear emission path, further scenario types are offered.
B73: Web app: | C73: here
B74: Detailed Excel tool: | C74: here
B76: Actual data for use in emission path tools (see above):
B77: =IF(B23=L78,M78,IF(B23=L77,M77,B23)) -> China | C77: Gt | D77: annual change rates | L77: ='data countries EDGAR'!A226 -> Global | M77: =CONCATENATE(B23," (source: EDGAR)") -> China (source: EDGAR)
B78: 1990 | C78: ='data countries EDGAR'!B6/1000 -> 2.4142762 | L78: ='data countries EDGAR'!A234 -> Global - total CO2 emissions | M78: =CONCATENATE(B23," (source: GCP)") -> China (source: GCP)
B79: 2018 | C79: ='data countries EDGAR'!L6/1000 -> 11.527512 | D79: ='data countries EDGAR'!T6 -> 0.048010976
B80: base year for the distribution of the global budget - 2019 | C80: ='data countries EDGAR'!M6/1000 -> 11.813058 | D80: =C80/C79-1 -> 0.02477087 | L80: =M33 -> 0.01 | M80: =N33 -> 0.001 | N80: =O33 -> 0.0001 | O80: =P33 -> 1e-05
B81: 2020 | C81: ='data countries EDGAR'!N6/1000 -> 11.964129 | D81: =C81/C80-1 -> 0.012788421
B82: 2021 | C82: ='data countries EDGAR'!O6/1000 -> 12.551865 | D82: =C82/C81-1 -> 0.049124847
B83: 2022 | C83: ='data countries EDGAR'!P6/1000 -> 12.518684 | D83: =C83/C82-1 -> -0.0026434379
B84: 2023 | C84: ='data countries EDGAR'!Q6/1000 -> 13.021242 | D84: =C84/C83-1 -> 0.040144597
B85: 2024 | C85: ='data countries EDGAR'!R6/1000 -> 13.124728 | D85: =C85/C84-1 -> 0.0079474765
B86: 2025 | C86: ='data countries EDGAR'!S6/1000 -> 0 | D86: =C86/C85-1 -> -1 | E86: projection
B87: budget from 2020 on | C87: =C31 -> 201.42831 | D87: average 19/23/24
B88: =CONCATENATE("budget from ",$M$22," on") -> budget from 2025 on | C88: =C33 -> 138.24766
B89: emissions in 2100 | C89: =C50 -> -0.26249456 | D89: =AVERAGE(D80,D84,D85) -> 0.024287648
B91: Info
B92: points of emissions neutrality (emission path intersects the x-axis) | C92: start year 2020 | D92: The year of emissions neutrality (see above) is defined here as the first year with zero emissions or net negative emissions.
C93: =paths!$AF$21 -> 2056.3665
C94: =Q22 -> start year 2025
C95: =paths!$AF$46 -> 2048.6411
C96: =IF(C95>=C93,"on track","not on track") -> not on track
B98: Main page: www.save-the-climate.info | C98: data status: | D98: 45974 | F98: process status: | G98: 46142

Sheet _xltb_storage_
A1: XL Toolbox Settings
B2: export_preset | C2: <?xml version="1.0" encoding="utf-16"?>_x000D_ <Preset xmlns:xsi="http://www.w3.org/2001/XMLSchema-instance" xmlns:xsd="http://www.w3.org/2001/XMLSchema">_x000D_ <Name>Tiff, 300 dpi, RGB, Transparente Leinwand</Name>_x000D_ <Dpi>300</Dpi>_x000D_ <FileType>Tiff</FileType>_x000D_ <ColorSpace>Rgb</ColorSpace>_x000D_ <Transparency>TransparentCanvas</Transparency>_x000D_ <UseColorProfile>false</UseColorProfile>_x000D_ <ColorProfile>sRGB Color Space Profile</ColorProfile>_x000D_ </Preset>
B3: export_path | C3: E:\Klima\Veröffentlichungen\Website\Hilfsdatein_Paris_konkret\EU27l\ESPM_EU27_woLUC_EP40.tif

Sheet budget-warming
B2: 300 | C2: 1.5
B3: 400 | C3: =C2+0.1 -> 1.6
B4: 550 | C4: =C3+0.1 -> 1.7
B5: 650 | C5: =C4+0.1 -> 1.8
B6: 800 | C6: =C5+0.1 -> 1.9
B7: 900 | C7: =C6+0.1 -> 2
B9: ='web app'!C9 -> 650 | C9: =_xlfn.FORECAST.LINEAR(B9,C2:C7,B2:B7) -> 1.790566

Sheet big six fig
O2: =CONCATENATE("Global CO2 budget: ",'web app'!C9," Gt",CHAR(10),"LUC budget: ",'web app'!H8," Gt",CHAR(10),"Weighting population: ",TEXT('web app'!C17,"0%"),CHAR(10),"Potential net negative emissions: ",TEXT(-'web app'!C15,"0%")) -> Global CO2 budget: 650 Gt LUC budget: 0 Gt Weighting population: 15% Potential net negative emissions: -2%
O4: If the year of the transition of the emission path into a horizontal occurs after 2100 and this horizontal is a negative value, then the formulas used lead to incorrect results. Therefore, in this case E_min = 0 is set.
O10: For which countries was this correction made?
O12: =paths2!B11 -> China | P12: =paths2!L11 -> no
O13: =paths2!B12 -> United States | P13: =paths2!L12 -> no
O14: =paths2!B13 -> EU27 | P14: =paths2!L13 -> no
O15: =paths2!B14 -> India | P15: =paths2!L14 -> no
O16: =paths2!B15 -> Russia | P16: =paths2!L15 -> no
O17: =paths2!B16 -> Japan | P17: =paths2!L16 -> no
O18: =paths2!B17 -> Global | P18: =paths2!L17 -> no
O28: If the year of emissions neutrality is smaller at the later start year, then the country is not on track to achieve the national CO2 budget calculated here from 2020 with a linear emissions path.
P56: Will the budget be adhered to by 2100? | R56: Has E_min been set to zero?
O59: China | P59: =paths2!N11 -> yes | R59: =P12 -> no
O60: United States | P60: =paths2!N12 -> yes | R60: =P13 -> no
O61: EU27 | P61: =paths2!N13 -> yes | R61: =P14 -> no
O62: India | P62: =paths2!N14 -> yes | R62: =P15 -> no
O63: Russia | P63: =paths2!N15 -> yes | R63: =P16 -> no
O64: Japan | P64: =paths2!N16 -> yes | R64: =P17 -> no
O65: Global | P65: =paths2!N17 -> yes | R65: =P18 -> no
O67: Note: In this model it is possible that the budget is only met after 2100 with very comfortable framework data.
B123: More options for defining emission paths: | E123: Excel tool for calculating national CO2 budgets and different emission paths that meet this budget (ESPM): | J123: Further exemplary results for the six major emitters:
B125: Web app: | C125: here
B126: Excel tool: | C126: here | E126: here | J126: here

Sheet big six NDCs
B2: Comparison with the current NDCs
B4: country | C4: target year 2030 | H4: reference year | I4: long-term goals
B5: United States | C5: -50% to -52% | H5: 2005 | I5: climate neutrality by 2050
B6: EU27 | C6: -0.55 | H6: 1990
B7: Japan | C7: -0.46 | H7: 2013
B8: India | C8: reduce emission intensity 45% in relation to the national product | H8: 2005 | I8: net zero 2070
B9: Russia | C9: at least -30% | H9: 1990 | I9: net zero 2060
B10: China | C10: turning point of CO2 emissions before 2030 | H10: - | I10: CO2 neutrality before 2060
B13: Source current targets (NDCs): | E13: here | G13: Status: December 2024
B15: Conversion of NDCs to 2030 vs. 2019 and comparison with the reference values calculated here
C17: change emissions 2030 vs. 2019 | E17: deviation % points | F17: on track for target here | H17: Global framework data:
B18: country | C18: NDC | D18: target here | H18: Global budget | K18: =CONCATENATE('web app'!$C$9," Gt") -> 650 Gt
B19: China | C19: =E59 -> 0.10717117 | D19: =paths2!$I$11 -> -0.16509997 | E19: =(D19-C19) -> -0.27227113 | F19: =IF(paths2!K11<paths2!J11,"no","yes") -> no | H19: LUC budget | K19: =CONCATENATE('web app'!$H$8," Gt") -> 0 Gt
B20: United States | C20: -0.40625259 | D20: =paths2!$I$12 -> -0.26783811 | E20: =(D20-C20) -> 0.13841449 | F20: =IF(paths2!K12<paths2!J12,"no","yes") -> no | H20: Weighting population | K20: ='web app'!$C$17 -> 0.15
B21: EU27 | C21: -0.4118321 | D21: =paths2!$I$13 -> -0.30601076 | E21: =(D21-C21) -> 0.10582135 | F21: =IF(paths2!K13<paths2!J13,"no","yes") -> yes | H21: Net negative emissions | K21: =-'web app'!$C$15 -> -0.02
B22: India | C22: =E48 -> 0.17583111 | D22: =paths2!$I$14 -> -0.0083736167 | E22: =(D22-C22) -> -0.18420472 | F22: =IF(paths2!K14<paths2!J14,"no","yes") -> no
B23: Russia | C23: -0.10881632 | D23: =paths2!$I$15 -> -0.18837509 | E23: =(D23-C23) -> -0.07955877 | F23: =IF(paths2!K15<paths2!J15,"no","yes") -> no | H23: This web app can be used to derive implicit budgets and the implicit weighting of the population of NDCs:
B24: Japan | C24: -0.3719438 | D24: =paths2!$I$16 -> -0.30039185 | E24: =(D24-C24) -> 0.071551941 | F24: =IF(paths2!K16<paths2!J16,"no","yes") -> yes
C25: Climate Protection Act
B26: Germany | C26: ='data countries EDGAR'!P245 -> -0.49110488 | D26: =paths2!I18 -> -0.31968669 | E26: =(D26-C26) -> 0.17141819 | F26: =IF(paths2!K18<paths2!J18,"no","yes") -> yes | H26: http://ib-iwp.climate-calculator.info
B28: Limitation: NDCs relate in part to all greenhouse gases
B30: India
B32: CO2 per GDP (EDGAR)
B33: 2005 | C33: 0.27140149 | D33: t/US$
B34: 2019 | C34: 0.23077653 | D34: t/US$
B35: 2023 | C35: 0.22552596 | D35: t/US$
B36: 2030 | C36: =C33+(C33*E36) -> 0.14927082 | D36: t/US$ | E36: -0.45 | F36: NDC
B38: GDP
B39: 2005 | C39: =(C45*1000000/C33)/1000000000 -> 4.4868114 | D39: B US$ | E39: change rate p.a. 2006 - 2023: | H39: =(C41-C39)/(C39*(B41-B39)) -> 0.10994966
B40: 2019 | C40: =(C46*1000000/C34)/1000000000 -> 11.056086 | D40: B US$ | E40: change rate p.a. 2020 - 2023: | H40: =(C41-C40)/(C40*(B41-B40)) -> 0.052246043
B41: 2023 | C41: =(C47*1000000/C35)/1000000000 -> 13.366633 | D41: B US$
B42: 2030 | C42: =C41*(1+H42)^(B42-B41) -> 20.098473 | D42: B US$ | E42: change rate p.a. 2024 - 2030: | H42: 0.06
B44: CO2 emissions (EDGAR)
B45: 2005 | C45: =VLOOKUP("India",'data countries EDGAR'!$A$15:$AC$232,'data countries EDGAR'!C12,FALSE) -> 1217.7273 | D45: Mill. t
B46: 2019 | C46: =VLOOKUP("India",'data countries EDGAR'!$A$15:$AC$232,'data countries EDGAR'!$M$12,FALSE) -> 2551.4851 | D46: Mill. t
B47: 2023 | C47: =VLOOKUP("India",'data countries EDGAR'!$A$15:$AC$232,'data countries EDGAR'!$Q$12,FALSE) -> 3014.5226 | D47: Mill. t
B48: 2030 | C48: =C36*C42*1000 -> 3000.1155 | D48: Mill. t | E48: =C48/C46-1 -> 0.17583111 | F48: change 2030 vs. 2019
B50: China
B52: CO2 emissions
B53: 2019 | C53: =VLOOKUP("China",'data countries EDGAR'!$A$15:$AC$232,'data countries EDGAR'!$M$12,FALSE) -> 11813.058 | D53: Mill. t | E53: =CONCATENATE("change rate p.a. 2020 - ",B55,":") -> change rate p.a. 2020 - 2024: | H53: =(C55-C53)/(C53*(B55-B53)) -> 0.022207117
B54: 2023 | C54: =VLOOKUP("China",'data countries EDGAR'!$A$15:$AC$232,'data countries EDGAR'!Q12,FALSE) -> 13021.242 | D54: Mill. t | E54: =CONCATENATE("change rate ",B55,":") -> change rate 2024: | H54: =C55/C54-1 -> 0.0079474765
B55: ='web app'!M22-1 -> 2024 | C55: =VLOOKUP("China",'data countries EDGAR'!$A$15:$AC$232,'data countries EDGAR'!R12,FALSE) -> 13124.728 | D55: Mill. t
B56: 2030 | C56: =(C55*(1+H56)^(B56-B55))*(1-H57) -> 13079.077 | D56: Mill. t | E56: =CONCATENATE("change rate p.a. ",'web app'!M22," - 2030:") -> change rate p.a. 2025 - 2030: | H56: 0.008
E57: reduction peak before 2030 | H57: 0.05
E59: =C56/C53-1 -> 0.10717117 | F59: change 2030 vs. 2019

Sheet all budgets
B2: Paris-compatible national CO2 budgets
B3: Allocation of a global CO2 budget using a weighted distribution key. The distribution key contains the share in global emissions and in the global population in 2019. Year of emissions neutrality refers to a linear emission path with no net negative emissions.
B5: Global CO2 budget from 2020 on | C5: =CONCATENATE('web app'!C9," Gt") -> 650 Gt | E5: info
B7: Data basis emissions of the countries | C7: EDGAR
B8: Global LUC budget from 2020 on | C8: ='web app'!H8 -> 0 | D8: Gt
B9: Global ISA budget from 2020 on | C9: ='web app'!C11*-1 -> 21.45 | D9: Gt
B10: Adjustement CeCS | C10: ='web app'!H12 -> -40 | D10: Gt
B11: Global budget to distribute here | C11: ='web app'!C13 -> 668.55 | D11: Gt
B13: Population weighting vs. emissions | C13: ='web app'!C17 -> 0.15
B15: Start year emission path | C15: 2020
B17: Big six | C17: Emissions 2019 in Gt | D17: =D27 -> National CO2 budget from 2020 in Gt | E17: Year emissions neutrality
B18: China | C18: =VLOOKUP($B18,$B$28:$E$238,2,FALSE)/1000 -> 11.813058 | D18: =VLOOKUP($B18,$B$28:$E$238,3,FALSE) -> 201.42831 | E18: =VLOOKUP(B18,$B$28:$E$238,4,FALSE) -> 2055
B19: United States | C19: =VLOOKUP($B19,$B$28:$E$238,2,FALSE)/1000 -> 4.9679122 | D19: =VLOOKUP($B19,$B$28:$E$238,3,FALSE) -> 81.223084 | E19: =VLOOKUP(B19,$B$28:$E$238,4,FALSE) -> 2053
B20: EU27 | C20: =VLOOKUP($B20,$B$28:$E$238,2,FALSE)/1000 -> 2.9083831 | D20: =VLOOKUP($B20,$B$28:$E$238,3,FALSE) -> 50.811578 | E20: =VLOOKUP(B20,$B$28:$E$238,4,FALSE) -> 2055
B21: India | C21: =VLOOKUP($B21,$B$28:$E$238,2,FALSE)/1000 -> 2.5514851 | D21: =VLOOKUP($B21,$B$28:$E$238,3,FALSE) -> 57.316563 | E21: =VLOOKUP(B21,$B$28:$E$238,4,FALSE) -> 2065
B22: Russia | C22: =VLOOKUP($B22,$B$28:$E$238,2,FALSE)/1000 -> 1.858002 | D22: =VLOOKUP($B22,$B$28:$E$238,3,FALSE) -> 30.64815 | E22: =VLOOKUP(B22,$B$28:$E$238,4,FALSE) -> 2053
B23: Japan | C23: =VLOOKUP($B23,$B$28:$E$238,2,FALSE)/1000 -> 1.123813 | D23: =VLOOKUP($B23,$B$28:$E$238,3,FALSE) -> 19.055347 | E23: =VLOOKUP(B23,$B$28:$E$238,4,FALSE) -> 2054
B24: Sum | C24: =SUM(C18:C23) -> 25.222654 | D24: =SUM(D18:D23) -> 440.48303
B25: Share of global emissions | C25: =C24*1000/C236 -> 0.68744282 | D25: =D24/D236 -> 0.65886326
B27: Country | C27: Emissions 2019 in Mill. t | D27: National CO2 budget from 2020 in Gt | E27: Year emissions neutrality
B28: ='data countries EDGAR'!A15 -> Afghanistan | C28: ='data countries EDGAR'!M15 -> 12.104638 | D28: =($C$13*'data countries EDGAR'!AA15+(1-$C$13)*'data countries EDGAR'!Z15)*'web app'!$C$13 -> 0.67133854 | E28: =paths!AI60 -> 2131
B29: ='data countries EDGAR'!A16 -> Albania | C29: ='data countries EDGAR'!M16 -> 4.9839897 | D29: =($C$13*'data countries EDGAR'!AA16+(1-$C$13)*'data countries EDGAR'!Z16)*'web app'!$C$13 -> 0.11540351 | E29: =paths!AI61 -> 2067
B30: ='data countries EDGAR'!A17 -> Algeria | C30: ='data countries EDGAR'!M17 -> 181.68636 | D30: =($C$13*'data countries EDGAR'!AA17+(1-$C$13)*'data countries EDGAR'!Z17)*'web app'!$C$13 -> 3.3689713 | E30: =paths!AI62 -> 2058
B31: ='data countries EDGAR'!A18 -> Angola | C31: ='data countries EDGAR'!M18 -> 26.99626 | D31: =($C$13*'data countries EDGAR'!AA18+(1-$C$13)*'data countries EDGAR'!Z18)*'web app'!$C$13 -> 0.8314821 | E31: =paths!AI63 -> 2082
B32: ='data countries EDGAR'!A19 -> Anguilla | C32: ='data countries EDGAR'!M19 -> 0.027676923 | D32: =($C$13*'data countries EDGAR'!AA19+(1-$C$13)*'data countries EDGAR'!Z19)*'web app'!$C$13 -> 0.00062598391 | E32: =paths!AI64 -> 2066
B33: ='data countries EDGAR'!A20 -> Antigua and Barbuda | C33: ='data countries EDGAR'!M20 -> 0.34261773 | D33: =($C$13*'data countries EDGAR'!AA20+(1-$C$13)*'data countries EDGAR'!Z20)*'web app'!$C$13 -> 0.0066599967 | E33: =paths!AI65 -> 2059
B34: ='data countries EDGAR'!A21 -> Argentina | C34: ='data countries EDGAR'!M21 -> 183.26872 | D34: =($C$13*'data countries EDGAR'!AA21+(1-$C$13)*'data countries EDGAR'!Z21)*'web app'!$C$13 -> 3.4249843 | E34: =paths!AI66 -> 2058
B35: ='data countries EDGAR'!A22 -> Armenia | C35: ='data countries EDGAR'!M22 -> 6.424656 | D35: =($C$13*'data countries EDGAR'!AA22+(1-$C$13)*'data countries EDGAR'!Z22)*'web app'!$C$13 -> 0.13769432 | E35: =paths!AI67 -> 2063
B36: ='data countries EDGAR'!A23 -> Aruba | C36: ='data countries EDGAR'!M23 -> 0.50954667 | D36: =($C$13*'data countries EDGAR'!AA23+(1-$C$13)*'data countries EDGAR'!Z23)*'web app'!$C$13 -> 0.0092710162 | E36: =paths!AI68 -> 2057
B37: ='data countries EDGAR'!A24 -> Australia | C37: ='data countries EDGAR'!M24 -> 407.90861 | D37: =($C$13*'data countries EDGAR'!AA24+(1-$C$13)*'data countries EDGAR'!Z24)*'web app'!$C$13 -> 6.6439852 | E37: =paths!AI69 -> 2053
B38: ='data countries EDGAR'!A25 -> Austria | C38: ='data countries EDGAR'!M25 -> 68.776683 | D38: =($C$13*'data countries EDGAR'!AA25+(1-$C$13)*'data countries EDGAR'!Z25)*'web app'!$C$13 -> 1.1792157 | E38: =paths!AI70 -> 2055
B39: ='data countries EDGAR'!A26 -> Azerbaijan | C39: ='data countries EDGAR'!M26 -> 36.981935 | D39: =($C$13*'data countries EDGAR'!AA26+(1-$C$13)*'data countries EDGAR'!Z26)*'web app'!$C$13 -> 0.70300861 | E39: =paths!AI71 -> 2059
... B235: ='data countries EDGAR'!A222 -> Zimbabwe | C235: ='data countries EDGAR'!M222 -> 11.170564 | D235: =($C$13*'data countries EDGAR'!AA222+(1-$C$13)*'data countries EDGAR'!Z222)*'web app'!$C$13 -> 0.3979451 | E235: =paths!AI267 -> 2092
B236: Sum | C236: =SUM(C28:C235) -> 36690.548 | D236: =SUM(D28:D235) -> 668.55
B238: ='data countries EDGAR'!A223 -> EU27 | C238: ='data countries EDGAR'!M225*-1 -> 2908.3831 | D238: =($C$13*'data countries EDGAR'!AA225+(1-$C$13)*'data countries EDGAR'!Z225)*'web app'!$C$13*-1 -> 50.811578 | E238: =paths!AI268 -> 2055
B240: Source: | C240: http://national-budgets.climate-calculator.info

Sheet all targets
B2: Paris-compatible national CO2 targets
B3: Allocation of a global CO2 budget using a weighted distribution key. The distribution key contains the share in global emissions and in the global population in 2019. The following results are based on linear emission paths, whereby net negative emissions can be taken into account.
B5: Global CO2 budget from 2020 on | C5: =CONCATENATE('web app'!C9," Gt") -> 650 Gt | E5: info
B7: Data basis emissions of the countries | C7: EDGAR
B8: Global LUC budget from 2020 on | C8: ='web app'!H8 -> 0 | D8: Gt
B9: Global ISA budget from 2020 on | C9: ='web app'!C11*-1 -> 21.45 | D9: Gt
B10: Adjustement CeCS | C10: ='web app'!H12 -> -40 | D10: Gt
B11: Global budget to distribute here | C11: ='web app'!C13 -> 668.55 | D11: Gt
B13: Potential of net negative emissions | C13: =-'web app'!C15 -> -0.02
F14: In this sheet, B_i_corr was used for B_i.
B15: Population weighting vs. emissions | C15: ='web app'!C17 -> 0.15
F16: B_i_corr = B_i + 2 * E_i_BY
B17: Start year emission path | C17: ='web app'!M22 -> 2025
B19: Big six | C19: =C28 -> Year emissions neutrality | D19: =D28 -> Change emissions 2030 vs. 2019 | E19: =E28 -> Overshoot by 2100 in % of emissions in 2019 | F19: B_i_cor
B20: China | C20: =VLOOKUP($B20,$B$29:$E$239,C$26,FALSE) -> 2049 | D20: =VLOOKUP($B20,$B$29:$E$239,D$26,FALSE) -> -0.16509997 | E20: =VLOOKUP($B20,$B$29:$E$239,E$26,FALSE) -> 1.1551237 | F20: =D20+0.5*C20 -> 1024.3349
B21: United States | C21: =VLOOKUP($B21,$B$29:$E$239,C$26,FALSE) -> 2052 | D21: =VLOOKUP($B21,$B$29:$E$239,D$26,FALSE) -> -0.26783811 | E21: =VLOOKUP($B21,$B$29:$E$239,E$26,FALSE) -> 0.89722602 | F21: =D21+0.5*C21 -> 1025.7322
B22: EU27 | C22: =VLOOKUP($B22,$B$29:$E$239,C$26,FALSE) -> 2058 | D22: =VLOOKUP($B22,$B$29:$E$239,D$26,FALSE) -> -0.30601076 | E22: =VLOOKUP($B22,$B$29:$E$239,E$26,FALSE) -> 0.72564895 | F22: =D22+0.5*C22 -> 1028.694
B23: India | C23: =VLOOKUP($B23,$B$29:$E$239,C$26,FALSE) -> 2055 | D23: =VLOOKUP($B23,$B$29:$E$239,D$26,FALSE) -> -0.0083736167 | E23: =VLOOKUP($B23,$B$29:$E$239,E$26,FALSE) -> 1.1331339 | F23: =D23+0.5*C23 -> 1027.4916
B24: Russia | C24: =VLOOKUP($B24,$B$29:$E$239,C$26,FALSE) -> 2049 | D24: =VLOOKUP($B24,$B$29:$E$239,D$26,FALSE) -> -0.18837509 | E24: =VLOOKUP($B24,$B$29:$E$239,E$26,FALSE) -> 1.1245778 | F24: =D24+0.5*C24 -> 1024.3116
B25: Japan | C25: =VLOOKUP($B25,$B$29:$E$239,C$26,FALSE) -> 2056 | D25: =VLOOKUP($B25,$B$29:$E$239,D$26,FALSE) -> -0.30039185 | E25: =VLOOKUP($B25,$B$29:$E$239,E$26,FALSE) -> 0.77540169 | F25: =D25+0.5*C25 -> 1027.6996
B26: 1 | C26: =B26+1 -> 2 | D26: =C26+1 -> 3 | E26: =D26+1 -> 4
B28: Country | C28: Year emissions neutrality | D28: Change emissions 2030 vs. 2019 | E28: Overshoot by 2100 in % of emissions in 2019
B29: ='data countries EDGAR'!A15 -> Afghanistan | C29: =IF(AND(paths!AH272>2100,$C$13<0),"not specified",paths!AI272) -> not specified | D29: =IF(C29="-","-",paths!AX272/paths!AM272-1) -> -0.062025057 | E29: =IF(C29="-","-",-paths!Q272/paths!H272) -> 0 | F29: =D29+0.5*(C29/1000) -> #VALUE!
B30: ='data countries EDGAR'!A16 -> Albania | C30: =IF(AND(paths!AH273>2100,$C$13<0),"not specified",paths!AI273) -> 2070 | D30: =IF(C30="-","-",paths!AX273/paths!AM273-1) -> -0.25982552 | E30: =IF(C30="-","-",-paths!Q273/paths!H273) -> 0.51169855 | F30: =D30+0.5*(C30/1000) -> 0.77517448
B31: ='data countries EDGAR'!A17 -> Algeria | C31: =IF(AND(paths!AH274>2100,$C$13<0),"not specified",paths!AI274) -> 2054 | D31: =IF(C31="-","-",paths!AX274/paths!AM274-1) -> -0.18532224 | E31: =IF(C31="-","-",-paths!Q274/paths!H274) -> 0.9631131 | F31: =D31+0.5*(C31/1000) -> 0.84167776
B32: ='data countries EDGAR'!A18 -> Angola | C32: =IF(AND(paths!AH275>2100,$C$13<0),"not specified",paths!AI275) -> 2077 | D32: =IF(C32="-","-",paths!AX275/paths!AM275-1) -> -0.079187909 | E32: =IF(C32="-","-",-paths!Q275/paths!H275) -> 0.49662976 | F32: =D32+0.5*(C32/1000) -> 0.95931209
B33: ='data countries EDGAR'!A19 -> Anguilla | C33: =IF(AND(paths!AH276>2100,$C$13<0),"not specified",paths!AI276) -> 2072 | D33: =IF(C33="-","-",paths!AX276/paths!AM276-1) -> -0.28163594 | E33: =IF(C33="-","-",-paths!Q276/paths!H276) -> 0.47193556 | F33: =D33+0.5*(C33/1000) -> 0.75436406
B34: ='data countries EDGAR'!A20 -> Antigua and Barbuda | C34: =IF(AND(paths!AH277>2100,$C$13<0),"not specified",paths!AI277) -> 2055 | D34: =IF(C34="-","-",paths!AX277/paths!AM277-1) -> -0.16384664 | E34: =IF(C34="-","-",-paths!Q277/paths!H277) -> 0.94632946 | F34: =D34+0.5*(C34/1000) -> 0.86365336
B35: ='data countries EDGAR'!A21 -> Argentina | C35: =IF(AND(paths!AH278>2100,$C$13<0),"not specified",paths!AI278) -> 2055 | D35: =IF(C35="-","-",paths!AX278/paths!AM278-1) -> -0.19900257 | E35: =IF(C35="-","-",-paths!Q278/paths!H278) -> 0.91897025 | F35: =D35+0.5*(C35/1000) -> 0.82849743
B36: ='data countries EDGAR'!A22 -> Armenia | C36: =IF(AND(paths!AH279>2100,$C$13<0),"not specified",paths!AI279) -> 2054 | D36: =IF(C36="-","-",paths!AX279/paths!AM279-1) -> -0.069344346 | E36: =IF(C36="-","-",-paths!Q279/paths!H279) -> 1.0843793 | F36: =D36+0.5*(C36/1000) -> 0.95765565
B37: ='data countries EDGAR'!A23 -> Aruba | C37: =IF(AND(paths!AH280>2100,$C$13<0),"not specified",paths!AI280) -> 2051 | D37: =IF(C37="-","-",paths!AX280/paths!AM280-1) -> -0.15250724 | E37: =IF(C37="-","-",-paths!Q280/paths!H280) -> 1.074206 | F37: =D37+0.5*(C37/1000) -> 0.87299276
B38: ='data countries EDGAR'!A24 -> Australia | C38: =IF(AND(paths!AH281>2100,$C$13<0),"not specified",paths!AI281) -> 2052 | D38: =IF(C38="-","-",paths!AX281/paths!AM281-1) -> -0.2644223 | E38: =IF(C38="-","-",-paths!Q281/paths!H281) -> 0.91393248 | F38: =D38+0.5*(C38/1000) -> 0.7615777
B39: ='data countries EDGAR'!A25 -> Austria | C39: =IF(AND(paths!AH282>2100,$C$13<0),"not specified",paths!AI282) -> 2057 | D39: =IF(C39="-","-",paths!AX282/paths!AM282-1) -> -0.31084724 | E39: =IF(C39="-","-",-paths!Q282/paths!H282) -> 0.73203987 | F39: =D39+0.5*(C39/1000) -> 0.71765276
B40: ='data countries EDGAR'!A26 -> Azerbaijan | C40: =IF(AND(paths!AH283>2100,$C$13<0),"not specified",paths!AI283) -> 2054 | D40: =IF(C40="-","-",paths!AX283/paths!AM283-1) -> -0.16529627 | E40: =IF(C40="-","-",-paths!Q283/paths!H283) -> 0.98784884 | F40: =D40+0.5*(C40/1000) -> 0.86170373
... B236: ='data countries EDGAR'!A222 -> Zimbabwe | C236: =IF(AND(paths!AH479>2100,$C$13<0),"not specified",paths!AI479) -> 2079 | D236: =IF(C236="-","-",paths!AX479/paths!AM479-1) -> 0.025030702 | E236: =IF(C236="-","-",-paths!Q479/paths!H479) -> 0.48312619 | F236: =D236+0.5*(C236/1000) -> 1.0645307
B238: ='data countries EDGAR'!A223 -> EU27 | C238: =IF(AND(paths!AH480>2100,C13<0),"not specified",ROUND(paths!AI480,0)) -> 2058 | D238: =IF(paths!AH480>2100,"-",paths!AX480/paths!AM480-1) -> -0.30601076 | E238: =IF(paths!AH480>2100,"-",-paths!Q480/paths!H480) -> 0.72564895 | F238: =D238+0.5*(C238/1000) -> 0.72298924
B240: Source: | C240: https://national-budgets.climate-calculator.info

Sheet imprint
B2: Andreas Wolfsteiner
B3: Günter Wittmann
B5: save-the-climate@online.ms
B7: www.save-the-climate.info
B9: On request, we will gladly send a version without sheet protection.

Sheet paths
P2: Adjust formula if you added a new actual year | U2: E_min in % of E_BY | Y2: =-'web app'!C15 -> -0.02 | Z2: EDGAR
H3: actual emissions | O3: new year: new column | AJ3: legend big six: | AN3: =AN6 -> 2020 | AX3: =AX6 -> 2030 | BH3: =BH6 -> 2040 | BR3: =BR6 -> 2050 | CB3: =CB6 -> 2060 | CL3: =CL6 -> 2070 | CV3: =CV6 -> 2080 | DF3: =DF6 -> 2090 | DP3: =DP6 -> 2100
C5: B | D5: wP | E5: Pi/P | F5: Ei/E | G5: Bi_20 | H5: 2019 | I5: 2020 | J5: =I5+1 -> 2021 | K5: 2022 | L5: 2023 | M5: 2024 | N5: =M5+1 -> 2025 | P5: sum actual | Q5: overshoot | R5: overshoot/Bi | S5: country | T5: BY (= SY -1) | U5: Bi_SY | V5: SY - 2100 | W5: Control | X5: E_BY | Y5: E_min | Z5: Parameters of the quadratic equation | AC5: Solutions of the quatradic equation | AF5: Emissions neutrality | AI5: Year emissions neutrality
Z6: a | AA6: b | AB6: c | AC6: x_1 | AD6: x_2 | AE6: U | AF6: T | AG6: U | AH6: [U] | AI6: formula | AJ6: path | AL6: t | AM6: 2019 | AN6: =AM6+1 -> 2020 | AO6: =AN6+1 -> 2021 | AP6: =AO6+1 -> 2022 | AQ6: =AP6+1 -> 2023 | AR6: =AQ6+1 -> 2024 | AS6: =AR6+1 -> 2025 | AT6: =AS6+1 -> 2026 | AU6: =AT6+1 -> 2027 | ... DP6: =DO6+1 -> 2100
B7: Base year 2019 | G7: Start year 2020
X8: 2019
B9: =S9 -> China | C9: =IF(B9<>'data countries EDGAR'!$A$234,'web app'!$C$29,'web app'!$C$9) -> 668.55 | D9: ='web app'!$C$17 -> 0.15 | E9: =VLOOKUP($S9,'data countries EDGAR'!$A$15:$AA$234,'data countries EDGAR'!$AA$12,FALSE) -> 0.18414259 | F9: =VLOOKUP($S9,'data countries EDGAR'!$A$15:$AA$234,'data countries EDGAR'!$Z$12,FALSE) -> 0.32196462 | G9: =C9*(D9*E9+(1-D9)*F9) -> 201.42831 | H9: =VLOOKUP($S9,'data countries EDGAR'!$A$15:$AA$234,'data countries EDGAR'!M$12,FALSE)/1000 -> 11.813058 | I9: =VLOOKUP($S9,'data countries EDGAR'!$A$15:$AA$234,'data countries EDGAR'!N$12,FALSE)/1000 -> 11.964129 | J9: =VLOOKUP($S9,'data countries EDGAR'!$A$15:$AA$234,'data countries EDGAR'!O$12,FALSE)/1000 -> 12.551865 | K9: =VLOOKUP($S9,'data countries EDGAR'!$A$15:$AA$234,'data countries EDGAR'!P$12,FALSE)/1000 -> 12.518684 | L9: =VLOOKUP($S9,'data countries EDGAR'!$A$15:$AA$234,'data countries EDGAR'!Q$12,FALSE)/1000 -> 13.021242 | M9: =VLOOKUP($S9,'data countries EDGAR'!$A$15:$AA$234,'data countries EDGAR'!R$12,FALSE)/1000 -> 13.124728 | N9: =VLOOKUP($S9,'data countries EDGAR'!$A$15:$AA$234,'data countries EDGAR'!S$12,FALSE)/1000 -> 0 | Q9: =SUMIF(AO9:DQ9,"<0") -> -10.436553 | R9: =-Q9/U9 -> 0.051812743 | S9: ='web app'!$B$23 -> China | T9: 2019 | U9: =G9 -> 201.42831 | V9: =SUM(AN9:DP9) -> 201.42831 | W9: =ROUND(V9/U9-1,4) -> 0 | X9: =H9 -> 11.813058 | Y9: =$Y$2*X9 -> -0.23626116 | Z9: =X9-Y9 -> 12.049319 | AA9: =-2*X9*(T9+1)+Y9*4202-2*U9 -> -49120.381 | AB9: =X9*(T9+1)*(T9+1)+Y9*(T9*(T9+1)-2101*(2*T9+1))+U9*(2*T9+1) -> 50056907 | AC9: =(-AA9-SQRT(AA9^2-4*Z9*AB9))/(2*Z9) -> 2019.5066 | AD9: =(-AA9+SQRT(AA9^2-4*Z9*AB9))/(2*Z9) -> 2057.1038 | AE9: =AD9 -> 2057.1038 | AF9: =(Y9*(T9+0.5)-X9*AG9)/(Y9-X9) -> 2056.3665 | AG9: =AD9 -> 2057.1038 | AH9: =ROUNDDOWN(AG9,0) -> 2057 | AI9: =IF($Y$2=0,ROUNDUP(AF9,0),ROUND(AF9,0)) -> 2056 | AJ9: {=IFERROR(INDEX($AN$6:$DP$6,MATCH(_xlfn.AGGREGATE(14,6,(AN9:DP9)/(AN9:DP9<=0),1),AN9:DP9,0)),"-")} -> 2056 | AL9: E(t) | AM9: =H9 -> 11.813058 | AN9: =IF(AN$6<=$T9,0,IF(AN$6<$AH9,$X9+($Y9-$X9)/($AG9-($T9+0.5))*(AN$6+0.5-($T9+0.5)), IF(AN$6=$AH9,($X9+($Y9-$X9)/($AG9-($T9+0.5))*(0.5*($AG9+$AH9)-($T9+0.5)))*($AG9-$AH9)+$Y9*($AH9+1-$AG9), $Y9))) -> 11.49263 | AO9: =IF(AO$6<=$T9,0,IF(AO$6<$AH9,$X9+($Y9-$X9)/($AG9-($T9+0.5))*(AO$6+0.5-($T9+0.5)), IF(AO$6=$AH9,($X9+($Y9-$X9)/($AG9-($T9+0.5))*(0.5*($AG9+$AH9)-($T9+0.5)))*($AG9-$AH9)+$Y9*($AH9+1-$AG9), $Y9))) -> 11.172202 | AP9: =IF(AP$6<=$T9,0,IF(AP$6<$AH9,$X9+($Y9-$X9)/($AG9-($T9+0.5))*(AP$6+0.5-($T9+0.5)), IF(AP$6=$AH9,($X9+($Y9-$X9)/($AG9-($T9+0.5))*(0.5*($AG9+$AH9)-($T9+0.5)))*($AG9-$AH9)+$Y9*($AH9+1-$AG9), $Y9))) -> 10.851773 | AQ9: =IF(AQ$6<=$T9,0,IF(AQ$6<$AH9,$X9+($Y9-$X9)/($AG9-($T9+0.5))*(AQ$6+0.5-($T9+0.5)), IF(AQ$6=$AH9,($X9+($Y9-$X9)/($AG9-($T9+0.5))*(0.5*($AG9+$AH9)-($T9+0.5)))*($AG9-$AH9)+$Y9*($AH9+1-$AG9), $Y9))) -> 10.531345 | AR9: =IF(AR$6<=$T9,0,IF(AR$6<$AH9,$X9+($Y9-$X9)/($AG9-($T9+0.5))*(AR$6+0.5-($T9+0.5)), IF(AR$6=$AH9,($X9+($Y9-$X9)/($AG9-($T9+0.5))*(0.5*($AG9+$AH9)-($T9+0.5)))*($AG9-$AH9)+$Y9*($AH9+1-$AG9), $Y9))) -> 10.210917 | AS9: =IF(AS$6<=$T9,0,IF(AS$6<$AH9,$X9+($Y9-$X9)/($AG9-($T9+0.5))*(AS$6+0.5-($T9+0.5)), IF(AS$6=$AH9,($X9+($Y9-$X9)/($AG9-($T9+0.5))*(0.5*($AG9+$AH9)-($T9+0.5)))*($AG9-$AH9)+$Y9*($AH9+1-$AG9), $Y9))) -> 9.8904885 | AT9: =IF(AT$6<=$T9,0,IF(AT$6<$AH9,$X9+($Y9-$X9)/($AG9-($T9+0.5))*(AT$6+0.5-($T9+0.5)), IF(AT$6=$AH9,($X9+($Y9-$X9)/($AG9-($T9+0.5))*(0.5*($AG9+$AH9)-($T9+0.5)))*($AG9-$AH9)+$Y9*($AH9+1-$AG9), $Y9))) -> 9.5700602 | AU9: =IF(AU$6<=$T9,0,IF(AU$6<$AH9,$X9+($Y9-$X9)/($AG9-($T9+0.5))*(AU$6+0.5-($T9+0.5)), IF(AU$6=$AH9,($X9+($Y9-$X9)/($AG9-($T9+0.5))*(0.5*($AG9+$AH9)-($T9+0.5)))*($AG9-$AH9)+$Y9*($AH9+1-$AG9), $Y9))) -> 9.249632 | ... DP9: =IF(DP$6<=$T9,0,IF(DP$6<$AH9,$X9+($Y9-$X9)/($AG9-($T9+0.5))*(DP$6+0.5-($T9+0.5)), IF(DP$6=$AH9,($X9+($Y9-$X9)/($AG9-($T9+0.5))*(0.5*($AG9+$AH9)-($T9+0.5)))*($AG9-$AH9)+$Y9*($AH9+1-$AG9), $Y9))) -> -0.23626116
AM10: actual/target EDGAR | AN10: =I9-AN9 -> 0.47149864 | AO10: =J9-AO9 -> 1.3796629
B11: =S11 -> China | C11: ='web app'!$C$29 -> 668.55 | D11: ='web app'!$C$17 -> 0.15 | E11: =VLOOKUP($S11,'data countries EDGAR'!$A$15:$AA$234,'data countries EDGAR'!$AA$12,FALSE) -> 0.18414259 | F11: =VLOOKUP($S11,'data countries EDGAR'!$A$15:$AA$234,'data countries EDGAR'!$Z$12,FALSE) -> 0.32196462 | G11: =C11*(D11*E11+(1-D11)*F11) -> 201.42831 | H11: =VLOOKUP($S11,'data countries EDGAR'!$A$15:$AA$234,'data countries EDGAR'!M$12,FALSE)/1000 -> 11.813058 | I11: =VLOOKUP($S11,'data countries EDGAR'!$A$15:$AA$234,'data countries EDGAR'!N$12,FALSE)/1000 -> 11.964129 | J11: =VLOOKUP($S11,'data countries EDGAR'!$A$15:$AA$234,'data countries EDGAR'!O$12,FALSE)/1000 -> 12.551865 | K11: =VLOOKUP($S11,'data countries EDGAR'!$A$15:$AA$234,'data countries EDGAR'!P$12,FALSE)/1000 -> 12.518684 | L11: =VLOOKUP($S11,'data countries EDGAR'!$A$15:$AA$234,'data countries EDGAR'!Q$12,FALSE)/1000 -> 13.021242 | M11: =VLOOKUP($S11,'data countries EDGAR'!$A$15:$AA$234,'data countries EDGAR'!R$12,FALSE)/1000 -> 13.124728 | Q11: =SUMIF(AO11:DQ11,"<0") -> -10.436553 | R11: =-Q11/U11 -> 0.051812743 | S11: China | T11: 2019 | U11: =G11 -> 201.42831 | V11: =SUM(AN11:DP11) -> 201.42831 | W11: =ROUND(V11/U11-1,4) -> 0 | X11: =VLOOKUP($S11,'data countries EDGAR'!$A$15:$AA$234,'data countries EDGAR'!$M$12,FALSE)/1000 -> 11.813058 | Y11: =$Y$2*X11 -> -0.23626116 | Z11: =X11-Y11 -> 12.049319 | AA11: =-2*X11*(T11+1)+Y11*4202-2*U11 -> -49120.381 | AB11: =X11*(T11+1)*(T11+1)+Y11*(T11*(T11+1)-2101*(2*T11+1))+U11*(2*T11+1) -> 50056907 | AC11: =(-AA11-SQRT(AA11^2-4*Z11*AB11))/(2*Z11) -> 2019.5066 | AD11: =(-AA11+SQRT(AA11^2-4*Z11*AB11))/(2*Z11) -> 2057.1038 | AE11: =AD11 -> 2057.1038 | AF11: =(Y11*(T11+0.5)-X11*AG11)/(Y11-X11) -> 2056.3665 | AG11: =AD11 -> 2057.1038 | AH11: =ROUNDDOWN(AG11,0) -> 2057 | AI11: =IF($Y$2=0,ROUNDUP(AF11,0),ROUND(AF11,0)) -> 2056 | AJ11: {=IFERROR(INDEX($AN$6:$DP$6,MATCH(_xlfn.AGGREGATE(14,6,(AN11:DP11)/(AN11:DP11<=0),1),AN11:DP11,0)),"-")} -> 2056 | AL11: E(t) | AM11: =H11 -> 11.813058 | AN11: =IF(AN$6<=$T11,0,IF(AN$6<$AH11,$X11+($Y11-$X11)/($AG11-($T11+0.5))*(AN$6+0.5-($T11+0.5)), IF(AN$6=$AH11,($X11+($Y11-$X11)/($AG11-($T11+0.5))*(0.5*($AG11+$AH11)-($T11+0.5)))*($AG11-$AH11)+$Y11*($AH11+1-$AG11), $Y11))) -> 11.49263 | AO11: =IF(AO$6<=$T11,0,IF(AO$6<$AH11,$X11+($Y11-$X11)/($AG11-($T11+0.5))*(AO$6+0.5-($T11+0.5)), IF(AO$6=$AH11,($X11+($Y11-$X11)/($AG11-($T11+0.5))*(0.5*($AG11+$AH11)-($T11+0.5)))*($AG11-$AH11)+$Y11*($AH11+1-$AG11), $Y11))) -> 11.172202 | AP11: =IF(AP$6<=$T11,0,IF(AP$6<$AH11,$X11+($Y11-$X11)/($AG11-($T11+0.5))*(AP$6+0.5-($T11+0.5)), IF(AP$6=$AH11,($X11+($Y11-$X11)/($AG11-($T11+0.5))*(0.5*($AG11+$AH11)-($T11+0.5)))*($AG11-$AH11)+$Y11*($AH11+1-$AG11), $Y11))) -> 10.851773 | AQ11: =IF(AQ$6<=$T11,0,IF(AQ$6<$AH11,$X11+($Y11-$X11)/($AG11-($T11+0.5))*(AQ$6+0.5-($T11+0.5)), IF(AQ$6=$AH11,($X11+($Y11-$X11)/($AG11-($T11+0.5))*(0.5*($AG11+$AH11)-($T11+0.5)))*($AG11-$AH11)+$Y11*($AH11+1-$AG11), $Y11))) -> 10.531345 | AR11: =IF(AR$6<=$T11,0,IF(AR$6<$AH11,$X11+($Y11-$X11)/($AG11-($T11+0.5))*(AR$6+0.5-($T11+0.5)), IF(AR$6=$AH11,($X11+($Y11-$X11)/($AG11-($T11+0.5))*(0.5*($AG11+$AH11)-($T11+0.5)))*($AG11-$AH11)+$Y11*($AH11+1-$AG11), $Y11))) -> 10.210917 | AS11: =IF(AS$6<=$T11,0,IF(AS$6<$AH11,$X11+($Y11-$X11)/($AG11-($T11+0.5))*(AS$6+0.5-($T11+0.5)), IF(AS$6=$AH11,($X11+($Y11-$X11)/($AG11-($T11+0.5))*(0.5*($AG11+$AH11)-($T11+0.5)))*($AG11-$AH11)+$Y11*($AH11+1-$AG11), $Y11))) -> 9.8904885 | AT11: =IF(AT$6<=$T11,0,IF(AT$6<$AH11,$X11+($Y11-$X11)/($AG11-($T11+0.5))*(AT$6+0.5-($T11+0.5)), IF(AT$6=$AH11,($X11+($Y11-$X11)/($AG11-($T11+0.5))*(0.5*($AG11+$AH11)-($T11+0.5)))*($AG11-$AH11)+$Y11*($AH11+1-$AG11), $Y11))) -> 9.5700602 | AU11: =IF(AU$6<=$T11,0,IF(AU$6<$AH11,$X11+($Y11-$X11)/($AG11-($T11+0.5))*(AU$6+0.5-($T11+0.5)), IF(AU$6=$AH11,($X11+($Y11-$X11)/($AG11-($T11+0.5))*(0.5*($AG11+$AH11)-($T11+0.5)))*($AG11-$AH11)+$Y11*($AH11+1-$AG11), $Y11))) -> 9.249632 | ... DP11: =IF(DP$6<=$T11,0,IF(DP$6<$AH11,$X11+($Y11-$X11)/($AG11-($T11+0.5))*(DP$6+0.5-($T11+0.5)), IF(DP$6=$AH11,($X11+($Y11-$X11)/($AG11-($T11+0.5))*(0.5*($AG11+$AH11)-($T11+0.5)))*($AG11-$AH11)+$Y11*($AH11+1-$AG11), $Y11))) -> -0.23626116
B12: =S12 -> United States | C12: ='web app'!$C$29 -> 668.55 | D12: ='web app'!$C$17 -> 0.15 | E12: =VLOOKUP($S12,'data countries EDGAR'!$A$15:$AA$234,'data countries EDGAR'!$AA$12,FALSE) -> 0.042674232 | F12: =VLOOKUP($S12,'data countries EDGAR'!$A$15:$AA$234,'data countries EDGAR'!$Z$12,FALSE) -> 0.13540033 | G12: =C12*(D12*E12+(1-D12)*F12) -> 81.223084 | H12: =VLOOKUP($S12,'data countries EDGAR'!$A$15:$AA$234,'data countries EDGAR'!M$12,FALSE)/1000 -> 4.9679122 | I12: =VLOOKUP($S12,'data countries EDGAR'!$A$15:$AA$234,'data countries EDGAR'!N$12,FALSE)/1000 -> 4.4668765 | J12: =VLOOKUP($S12,'data countries EDGAR'!$A$15:$AA$234,'data countries EDGAR'!O$12,FALSE)/1000 -> 4.7543785 | K12: =VLOOKUP($S12,'data countries EDGAR'!$A$15:$AA$234,'data countries EDGAR'!P$12,FALSE)/1000 -> 4.8157665 | L12: =VLOOKUP($S12,'data countries EDGAR'!$A$15:$AA$234,'data countries EDGAR'!Q$12,FALSE)/1000 -> 4.6182675 | M12: =VLOOKUP($S12,'data countries EDGAR'!$A$15:$AA$234,'data countries EDGAR'!R$12,FALSE)/1000 -> 4.6321649 | Q12: =SUMIF(AO12:DQ12,"<0") -> -4.5334653 | R12: =-Q12/U12 -> 0.055814986 | S12: United States | T12: 2019 | U12: =G12 -> 81.223084 | V12: =SUM(AN12:DP12) -> 81.223084 | W12: =ROUND(V12/U12-1,4) -> 0 | X12: =VLOOKUP($S12,'data countries EDGAR'!$A$15:$AA$234,'data countries EDGAR'!$M$12,FALSE)/1000 -> 4.9679122 | Y12: =$Y$2*X12 -> -0.099358243 | Z12: =X12-Y12 -> 5.0672704 | AA12: =-2*X12*(T12+1)+Y12*4202-2*U12 -> -20650.315 | AB12: =X12*(T12+1)*(T12+1)+Y12*(T12*(T12+1)-2101*(2*T12+1))+U12*(2*T12+1) -> 21037056 | AC12: =(-AA12-SQRT(AA12^2-4*Z12*AB12))/(2*Z12) -> 2019.5069 | AD12: =(-AA12+SQRT(AA12^2-4*Z12*AB12))/(2*Z12) -> 2055.7275 | AE12: =AD12 -> 2055.7275 | AF12: =(Y12*(T12+0.5)-X12*AG12)/(Y12-X12) -> 2055.0172 | AG12: =AD12 -> 2055.7275 | AH12: =ROUNDDOWN(AG12,0) -> 2055 | AI12: =IF($Y$2=0,ROUNDUP(AF12,0),ROUND(AF12,0)) -> 2055 | AJ12: {=IFERROR(INDEX($AN$6:$DP$6,MATCH(_xlfn.AGGREGATE(14,6,(AN12:DP12)/(AN12:DP12<=0),1),AN12:DP12,0)),"-")} -> 2055 | AL12: E(t) | AM12: =H12 -> 4.9679122 | AN12: =IF(AN$6<=$T12,0,IF(AN$6<$AH12,$X12+($Y12-$X12)/($AG12-($T12+0.5))*(AN$6+0.5-($T12+0.5)), IF(AN$6=$AH12,($X12+($Y12-$X12)/($AG12-($T12+0.5))*(0.5*($AG12+$AH12)-($T12+0.5)))*($AG12-$AH12)+$Y12*($AH12+1-$AG12), $Y12))) -> 4.8280385 | AO12: =IF(AO$6<=$T12,0,IF(AO$6<$AH12,$X12+($Y12-$X12)/($AG12-($T12+0.5))*(AO$6+0.5-($T12+0.5)), IF(AO$6=$AH12,($X12+($Y12-$X12)/($AG12-($T12+0.5))*(0.5*($AG12+$AH12)-($T12+0.5)))*($AG12-$AH12)+$Y12*($AH12+1-$AG12), $Y12))) -> 4.6881649 | AP12: =IF(AP$6<=$T12,0,IF(AP$6<$AH12,$X12+($Y12-$X12)/($AG12-($T12+0.5))*(AP$6+0.5-($T12+0.5)), IF(AP$6=$AH12,($X12+($Y12-$X12)/($AG12-($T12+0.5))*(0.5*($AG12+$AH12)-($T12+0.5)))*($AG12-$AH12)+$Y12*($AH12+1-$AG12), $Y12))) -> 4.5482913 | AQ12: =IF(AQ$6<=$T12,0,IF(AQ$6<$AH12,$X12+($Y12-$X12)/($AG12-($T12+0.5))*(AQ$6+0.5-($T12+0.5)), IF(AQ$6=$AH12,($X12+($Y12-$X12)/($AG12-($T12+0.5))*(0.5*($AG12+$AH12)-($T12+0.5)))*($AG12-$AH12)+$Y12*($AH12+1-$AG12), $Y12))) -> 4.4084177 | AR12: =IF(AR$6<=$T12,0,IF(AR$6<$AH12,$X12+($Y12-$X12)/($AG12-($T12+0.5))*(AR$6+0.5-($T12+0.5)), IF(AR$6=$AH12,($X12+($Y12-$X12)/($AG12-($T12+0.5))*(0.5*($AG12+$AH12)-($T12+0.5)))*($AG12-$AH12)+$Y12*($AH12+1-$AG12), $Y12))) -> 4.2685441 | AS12: =IF(AS$6<=$T12,0,IF(AS$6<$AH12,$X12+($Y12-$X12)/($AG12-($T12+0.5))*(AS$6+0.5-($T12+0.5)), IF(AS$6=$AH12,($X12+($Y12-$X12)/($AG12-($T12+0.5))*(0.5*($AG12+$AH12)-($T12+0.5)))*($AG12-$AH12)+$Y12*($AH12+1-$AG12), $Y12))) -> 4.1286705 | AT12: =IF(AT$6<=$T12,0,IF(AT$6<$AH12,$X12+($Y12-$X12)/($AG12-($T12+0.5))*(AT$6+0.5-($T12+0.5)), IF(AT$6=$AH12,($X12+($Y12-$X12)/($AG12-($T12+0.5))*(0.5*($AG12+$AH12)-($T12+0.5)))*($AG12-$AH12)+$Y12*($AH12+1-$AG12), $Y12))) -> 3.9887969 | AU12: =IF(AU$6<=$T12,0,IF(AU$6<$AH12,$X12+($Y12-$X12)/($AG12-($T12+0.5))*(AU$6+0.5-($T12+0.5)), IF(AU$6=$AH12,($X12+($Y12-$X12)/($AG12-($T12+0.5))*(0.5*($AG12+$AH12)-($T12+0.5)))*($AG12-$AH12)+$Y12*($AH12+1-$AG12), $Y12))) -> 3.8489233 | ... DP12: =IF(DP$6<=$T12,0,IF(DP$6<$AH12,$X12+($Y12-$X12)/($AG12-($T12+0.5))*(DP$6+0.5-($T12+0.5)), IF(DP$6=$AH12,($X12+($Y12-$X12)/($AG12-($T12+0.5))*(0.5*($AG12+$AH12)-($T12+0.5)))*($AG12-$AH12)+$Y12*($AH12+1-$AG12), $Y12))) -> -0.099358243
B13: =S13 -> EU27 | C13: ='web app'!$C$29 -> 668.55 | D13: ='web app'!$C$17 -> 0.15 | E13: =VLOOKUP($S13,'data countries EDGAR'!$A$15:$AA$234,'data countries EDGAR'!$AA$12,FALSE) -> 0.05749956 | F13: =VLOOKUP($S13,'data countries EDGAR'!$A$15:$AA$234,'data countries EDGAR'!$Z$12,FALSE) -> 0.079267912 | G13: =C13*(D13*E13+(1-D13)*F13) -> 50.811578 | H13: =VLOOKUP($S13,'data countries EDGAR'!$A$15:$AA$234,'data countries EDGAR'!M$12,FALSE)/1000 -> 2.9083831 | I13: =VLOOKUP($S13,'data countries EDGAR'!$A$15:$AA$234,'data countries EDGAR'!N$12,FALSE)/1000 -> 2.6384092 | J13: =VLOOKUP($S13,'data countries EDGAR'!$A$15:$AA$234,'data countries EDGAR'!O$12,FALSE)/1000 -> 2.8183079 | K13: =VLOOKUP($S13,'data countries EDGAR'!$A$15:$AA$234,'data countries EDGAR'!P$12,FALSE)/1000 -> 2.7486638 | L13: =VLOOKUP($S13,'data countries EDGAR'!$A$15:$AA$234,'data countries EDGAR'!Q$12,FALSE)/1000 -> 2.5096953 | M13: =VLOOKUP($S13,'data countries EDGAR'!$A$15:$AA$234,'data countries EDGAR'!R$12,FALSE)/1000 -> 2.4623896 | Q13: =SUMIF(AO13:DQ13,"<0") -> -2.5262567 | R13: =-Q13/U13 -> 0.049718131 | S13: EU27 | T13: 2019 | U13: =G13 -> 50.811578 | V13: =SUM(AN13:DP13) -> 50.811578 | W13: =ROUND(V13/U13-1,4) -> 0 | X13: =VLOOKUP($S13,'data countries EDGAR'!$A$15:$AA$234,'data countries EDGAR'!$M$12,FALSE)/1000 -> 2.9083831 | Y13: =$Y$2*X13 -> -0.058167662 | Z13: =X13-Y13 -> 2.9665507 | AA13: =-2*X13*(T13+1)+Y13*4202-2*U13 -> -12095.911 | AB13: =X13*(T13+1)*(T13+1)+Y13*(T13*(T13+1)-2101*(2*T13+1))+U13*(2*T13+1) -> 12328972 | AC13: =(-AA13-SQRT(AA13^2-4*Z13*AB13))/(2*Z13) -> 2019.5065 | AD13: =(-AA13+SQRT(AA13^2-4*Z13*AB13))/(2*Z13) -> 2057.9263 | AE13: =AD13 -> 2057.9263 | AF13: =(Y13*(T13+0.5)-X13*AG13)/(Y13-X13) -> 2057.1728 | AG13: =AD13 -> 2057.9263 | AH13: =ROUNDDOWN(AG13,0) -> 2057 | AI13: =IF($Y$2=0,ROUNDUP(AF13,0),ROUND(AF13,0)) -> 2057 | AJ13: {=IFERROR(INDEX($AN$6:$DP$6,MATCH(_xlfn.AGGREGATE(14,6,(AN13:DP13)/(AN13:DP13<=0),1),AN13:DP13,0)),"-")} -> 2057 | AL13: E(t) | AM13: =H13 -> 2.9083831 | AN13: =IF(AN$6<=$T13,0,IF(AN$6<$AH13,$X13+($Y13-$X13)/($AG13-($T13+0.5))*(AN$6+0.5-($T13+0.5)), IF(AN$6=$AH13,($X13+($Y13-$X13)/($AG13-($T13+0.5))*(0.5*($AG13+$AH13)-($T13+0.5)))*($AG13-$AH13)+$Y13*($AH13+1-$AG13), $Y13))) -> 2.831182 | AO13: =IF(AO$6<=$T13,0,IF(AO$6<$AH13,$X13+($Y13-$X13)/($AG13-($T13+0.5))*(AO$6+0.5-($T13+0.5)), IF(AO$6=$AH13,($X13+($Y13-$X13)/($AG13-($T13+0.5))*(0.5*($AG13+$AH13)-($T13+0.5)))*($AG13-$AH13)+$Y13*($AH13+1-$AG13), $Y13))) -> 2.753981 | AP13: =IF(AP$6<=$T13,0,IF(AP$6<$AH13,$X13+($Y13-$X13)/($AG13-($T13+0.5))*(AP$6+0.5-($T13+0.5)), IF(AP$6=$AH13,($X13+($Y13-$X13)/($AG13-($T13+0.5))*(0.5*($AG13+$AH13)-($T13+0.5)))*($AG13-$AH13)+$Y13*($AH13+1-$AG13), $Y13))) -> 2.6767799 | AQ13: =IF(AQ$6<=$T13,0,IF(AQ$6<$AH13,$X13+($Y13-$X13)/($AG13-($T13+0.5))*(AQ$6+0.5-($T13+0.5)), IF(AQ$6=$AH13,($X13+($Y13-$X13)/($AG13-($T13+0.5))*(0.5*($AG13+$AH13)-($T13+0.5)))*($AG13-$AH13)+$Y13*($AH13+1-$AG13), $Y13))) -> 2.5995789 | AR13: =IF(AR$6<=$T13,0,IF(AR$6<$AH13,$X13+($Y13-$X13)/($AG13-($T13+0.5))*(AR$6+0.5-($T13+0.5)), IF(AR$6=$AH13,($X13+($Y13-$X13)/($AG13-($T13+0.5))*(0.5*($AG13+$AH13)-($T13+0.5)))*($AG13-$AH13)+$Y13*($AH13+1-$AG13), $Y13))) -> 2.5223778 | AS13: =IF(AS$6<=$T13,0,IF(AS$6<$AH13,$X13+($Y13-$X13)/($AG13-($T13+0.5))*(AS$6+0.5-($T13+0.5)), IF(AS$6=$AH13,($X13+($Y13-$X13)/($AG13-($T13+0.5))*(0.5*($AG13+$AH13)-($T13+0.5)))*($AG13-$AH13)+$Y13*($AH13+1-$AG13), $Y13))) -> 2.4451768 | AT13: =IF(AT$6<=$T13,0,IF(AT$6<$AH13,$X13+($Y13-$X13)/($AG13-($T13+0.5))*(AT$6+0.5-($T13+0.5)), IF(AT$6=$AH13,($X13+($Y13-$X13)/($AG13-($T13+0.5))*(0.5*($AG13+$AH13)-($T13+0.5)))*($AG13-$AH13)+$Y13*($AH13+1-$AG13), $Y13))) -> 2.3679757 | AU13: =IF(AU$6<=$T13,0,IF(AU$6<$AH13,$X13+($Y13-$X13)/($AG13-($T13+0.5))*(AU$6+0.5-($T13+0.5)), IF(AU$6=$AH13,($X13+($Y13-$X13)/($AG13-($T13+0.5))*(0.5*($AG13+$AH13)-($T13+0.5)))*($AG13-$AH13)+$Y13*($AH13+1-$AG13), $Y13))) -> 2.2907747 | ... DP13: =IF(DP$6<=$T13,0,IF(DP$6<$AH13,$X13+($Y13-$X13)/($AG13-($T13+0.5))*(DP$6+0.5-($T13+0.5)), IF(DP$6=$AH13,($X13+($Y13-$X13)/($AG13-($T13+0.5))*(0.5*($AG13+$AH13)-($T13+0.5)))*($AG13-$AH13)+$Y13*($AH13+1-$AG13), $Y13))) -> -0.058167662
B14: =S14 -> India | C14: ='web app'!$C$29 -> 668.55 | D14: ='web app'!$C$17 -> 0.15 | E14: =VLOOKUP($S14,'data countries EDGAR'!$A$15:$AA$234,'data countries EDGAR'!$AA$12,FALSE) -> 0.17748722 | F14: =VLOOKUP($S14,'data countries EDGAR'!$A$15:$AA$234,'data countries EDGAR'!$Z$12,FALSE) -> 0.069540666 | G14: =C14*(D14*E14+(1-D14)*F14) -> 57.316563 | H14: =VLOOKUP($S14,'data countries EDGAR'!$A$15:$AA$234,'data countries EDGAR'!M$12,FALSE)/1000 -> 2.5514851 | I14: =VLOOKUP($S14,'data countries EDGAR'!$A$15:$AA$234,'data countries EDGAR'!N$12,FALSE)/1000 -> 2.356959 | J14: =VLOOKUP($S14,'data countries EDGAR'!$A$15:$AA$234,'data countries EDGAR'!O$12,FALSE)/1000 -> 2.5979343 | K14: =VLOOKUP($S14,'data countries EDGAR'!$A$15:$AA$234,'data countries EDGAR'!P$12,FALSE)/1000 -> 2.8070805 | L14: =VLOOKUP($S14,'data countries EDGAR'!$A$15:$AA$234,'data countries EDGAR'!Q$12,FALSE)/1000 -> 3.0145226 | M14: =VLOOKUP($S14,'data countries EDGAR'!$A$15:$AA$234,'data countries EDGAR'!R$12,FALSE)/1000 -> 3.1538291 | Q14: =SUMIF(AO14:DQ14,"<0") -> -1.7210841 | R14: =-Q14/U14 -> 0.030027693 | S14: India | T14: 2019 | U14: =G14 -> 57.316563 | V14: =SUM(AN14:DP14) -> 57.316563 | W14: =ROUND(V14/U14-1,4) -> 0 | X14: =VLOOKUP($S14,'data countries EDGAR'!$A$15:$AA$234,'data countries EDGAR'!$M$12,FALSE)/1000 -> 2.5514851 | Y14: =$Y$2*X14 -> -0.051029702 | Z14: =X14-Y14 -> 2.6025148 | AA14: =-2*X14*(T14+1)+Y14*4202-2*U14 -> -10637.06 | AB14: =X14*(T14+1)*(T14+1)+Y14*(T14*(T14+1)-2101*(2*T14+1))+U14*(2*T14+1) -> 10867498 | AC14: =(-AA14-SQRT(AA14^2-4*Z14*AB14))/(2*Z14) -> 2019.5052 | AD14: =(-AA14+SQRT(AA14^2-4*Z14*AB14))/(2*Z14) -> 2067.7183 | AE14: =AD14 -> 2067.7183 | AF14: =(Y14*(T14+0.5)-X14*AG14)/(Y14-X14) -> 2066.7729 | AG14: =AD14 -> 2067.7183 | AH14: =ROUNDDOWN(AG14,0) -> 2067 | AI14: =IF($Y$2=0,ROUNDUP(AF14,0),ROUND(AF14,0)) -> 2067 | AJ14: {=IFERROR(INDEX($AN$6:$DP$6,MATCH(_xlfn.AGGREGATE(14,6,(AN14:DP14)/(AN14:DP14<=0),1),AN14:DP14,0)),"-")} -> 2067 | AL14: E(t) | AM14: =H14 -> 2.5514851 | AN14: =IF(AN$6<=$T14,0,IF(AN$6<$AH14,$X14+($Y14-$X14)/($AG14-($T14+0.5))*(AN$6+0.5-($T14+0.5)), IF(AN$6=$AH14,($X14+($Y14-$X14)/($AG14-($T14+0.5))*(0.5*($AG14+$AH14)-($T14+0.5)))*($AG14-$AH14)+$Y14*($AH14+1-$AG14), $Y14))) -> 2.4975116 | AO14: =IF(AO$6<=$T14,0,IF(AO$6<$AH14,$X14+($Y14-$X14)/($AG14-($T14+0.5))*(AO$6+0.5-($T14+0.5)), IF(AO$6=$AH14,($X14+($Y14-$X14)/($AG14-($T14+0.5))*(0.5*($AG14+$AH14)-($T14+0.5)))*($AG14-$AH14)+$Y14*($AH14+1-$AG14), $Y14))) -> 2.443538 | AP14: =IF(AP$6<=$T14,0,IF(AP$6<$AH14,$X14+($Y14-$X14)/($AG14-($T14+0.5))*(AP$6+0.5-($T14+0.5)), IF(AP$6=$AH14,($X14+($Y14-$X14)/($AG14-($T14+0.5))*(0.5*($AG14+$AH14)-($T14+0.5)))*($AG14-$AH14)+$Y14*($AH14+1-$AG14), $Y14))) -> 2.3895645 | AQ14: =IF(AQ$6<=$T14,0,IF(AQ$6<$AH14,$X14+($Y14-$X14)/($AG14-($T14+0.5))*(AQ$6+0.5-($T14+0.5)), IF(AQ$6=$AH14,($X14+($Y14-$X14)/($AG14-($T14+0.5))*(0.5*($AG14+$AH14)-($T14+0.5)))*($AG14-$AH14)+$Y14*($AH14+1-$AG14), $Y14))) -> 2.3355909 | AR14: =IF(AR$6<=$T14,0,IF(AR$6<$AH14,$X14+($Y14-$X14)/($AG14-($T14+0.5))*(AR$6+0.5-($T14+0.5)), IF(AR$6=$AH14,($X14+($Y14-$X14)/($AG14-($T14+0.5))*(0.5*($AG14+$AH14)-($T14+0.5)))*($AG14-$AH14)+$Y14*($AH14+1-$AG14), $Y14))) -> 2.2816174 | AS14: =IF(AS$6<=$T14,0,IF(AS$6<$AH14,$X14+($Y14-$X14)/($AG14-($T14+0.5))*(AS$6+0.5-($T14+0.5)), IF(AS$6=$AH14,($X14+($Y14-$X14)/($AG14-($T14+0.5))*(0.5*($AG14+$AH14)-($T14+0.5)))*($AG14-$AH14)+$Y14*($AH14+1-$AG14), $Y14))) -> 2.2276439 | AT14: =IF(AT$6<=$T14,0,IF(AT$6<$AH14,$X14+($Y14-$X14)/($AG14-($T14+0.5))*(AT$6+0.5-($T14+0.5)), IF(AT$6=$AH14,($X14+($Y14-$X14)/($AG14-($T14+0.5))*(0.5*($AG14+$AH14)-($T14+0.5)))*($AG14-$AH14)+$Y14*($AH14+1-$AG14), $Y14))) -> 2.1736703 | AU14: =IF(AU$6<=$T14,0,IF(AU$6<$AH14,$X14+($Y14-$X14)/($AG14-($T14+0.5))*(AU$6+0.5-($T14+0.5)), IF(AU$6=$AH14,($X14+($Y14-$X14)/($AG14-($T14+0.5))*(0.5*($AG14+$AH14)-($T14+0.5)))*($AG14-$AH14)+$Y14*($AH14+1-$AG14), $Y14))) -> 2.1196968 | ... DP14: =IF(DP$6<=$T14,0,IF(DP$6<$AH14,$X14+($Y14-$X14)/($AG14-($T14+0.5))*(DP$6+0.5-($T14+0.5)), IF(DP$6=$AH14,($X14+($Y14-$X14)/($AG14-($T14+0.5))*(0.5*($AG14+$AH14)-($T14+0.5)))*($AG14-$AH14)+$Y14*($AH14+1-$AG14), $Y14))) -> -0.051029702
B15: =S15 -> Russia | C15: ='web app'!$C$29 -> 668.55 | D15: ='web app'!$C$17 -> 0.15 | E15: =VLOOKUP($S15,'data countries EDGAR'!$A$15:$AA$234,'data countries EDGAR'!$AA$12,FALSE) -> 0.018659255 | F15: =VLOOKUP($S15,'data countries EDGAR'!$A$15:$AA$234,'data countries EDGAR'!$Z$12,FALSE) -> 0.050639801 | G15: =C15*(D15*E15+(1-D15)*F15) -> 30.64815 | H15: =VLOOKUP($S15,'data countries EDGAR'!$A$15:$AA$234,'data countries EDGAR'!M$12,FALSE)/1000 -> 1.858002 | I15: =VLOOKUP($S15,'data countries EDGAR'!$A$15:$AA$234,'data countries EDGAR'!N$12,FALSE)/1000 -> 1.7841991 | J15: =VLOOKUP($S15,'data countries EDGAR'!$A$15:$AA$234,'data countries EDGAR'!O$12,FALSE)/1000 -> 1.9384596 | K15: =VLOOKUP($S15,'data countries EDGAR'!$A$15:$AA$234,'data countries EDGAR'!P$12,FALSE)/1000 -> 1.8954729 | L15: =VLOOKUP($S15,'data countries EDGAR'!$A$15:$AA$234,'data countries EDGAR'!Q$12,FALSE)/1000 -> 1.9483024 | M15: =VLOOKUP($S15,'data countries EDGAR'!$A$15:$AA$234,'data countries EDGAR'!R$12,FALSE)/1000 -> 2.0091541 | Q15: =SUMIF(AO15:DQ15,"<0") -> -1.682721 | R15: =-Q15/U15 -> 0.054904489 | S15: Russia | T15: 2019 | U15: =G15 -> 30.64815 | V15: =SUM(AN15:DP15) -> 30.64815 | W15: =ROUND(V15/U15-1,4) -> 0 | X15: =VLOOKUP($S15,'data countries EDGAR'!$A$15:$AA$234,'data countries EDGAR'!$M$12,FALSE)/1000 -> 1.858002 | Y15: =$Y$2*X15 -> -0.037160041 | Z15: =X15-Y15 -> 1.8951621 | AA15: =-2*X15*(T15+1)+Y15*4202-2*U15 -> -7723.771 | AB15: =X15*(T15+1)*(T15+1)+Y15*(T15*(T15+1)-2101*(2*T15+1))+U15*(2*T15+1) -> 7868964.4 | AC15: =(-AA15-SQRT(AA15^2-4*Z15*AB15))/(2*Z15) -> 2019.5068 | AD15: =(-AA15+SQRT(AA15^2-4*Z15*AB15))/(2*Z15) -> 2056.0132 | AE15: =AD15 -> 2056.0132 | AF15: =(Y15*(T15+0.5)-X15*AG15)/(Y15-X15) -> 2055.2972 | AG15: =AD15 -> 2056.0132 | AH15: =ROUNDDOWN(AG15,0) -> 2056 | AI15: =IF($Y$2=0,ROUNDUP(AF15,0),ROUND(AF15,0)) -> 2055 | AJ15: {=IFERROR(INDEX($AN$6:$DP$6,MATCH(_xlfn.AGGREGATE(14,6,(AN15:DP15)/(AN15:DP15<=0),1),AN15:DP15,0)),"-")} -> 2055 | AL15: E(t) | AM15: =H15 -> 1.858002 | AN15: =IF(AN$6<=$T15,0,IF(AN$6<$AH15,$X15+($Y15-$X15)/($AG15-($T15+0.5))*(AN$6+0.5-($T15+0.5)), IF(AN$6=$AH15,($X15+($Y15-$X15)/($AG15-($T15+0.5))*(0.5*($AG15+$AH15)-($T15+0.5)))*($AG15-$AH15)+$Y15*($AH15+1-$AG15), $Y15))) -> 1.8060985 | AO15: =IF(AO$6<=$T15,0,IF(AO$6<$AH15,$X15+($Y15-$X15)/($AG15-($T15+0.5))*(AO$6+0.5-($T15+0.5)), IF(AO$6=$AH15,($X15+($Y15-$X15)/($AG15-($T15+0.5))*(0.5*($AG15+$AH15)-($T15+0.5)))*($AG15-$AH15)+$Y15*($AH15+1-$AG15), $Y15))) -> 1.754195 | AP15: =IF(AP$6<=$T15,0,IF(AP$6<$AH15,$X15+($Y15-$X15)/($AG15-($T15+0.5))*(AP$6+0.5-($T15+0.5)), IF(AP$6=$AH15,($X15+($Y15-$X15)/($AG15-($T15+0.5))*(0.5*($AG15+$AH15)-($T15+0.5)))*($AG15-$AH15)+$Y15*($AH15+1-$AG15), $Y15))) -> 1.7022916 | AQ15: =IF(AQ$6<=$T15,0,IF(AQ$6<$AH15,$X15+($Y15-$X15)/($AG15-($T15+0.5))*(AQ$6+0.5-($T15+0.5)), IF(AQ$6=$AH15,($X15+($Y15-$X15)/($AG15-($T15+0.5))*(0.5*($AG15+$AH15)-($T15+0.5)))*($AG15-$AH15)+$Y15*($AH15+1-$AG15), $Y15))) -> 1.6503881 | AR15: =IF(AR$6<=$T15,0,IF(AR$6<$AH15,$X15+($Y15-$X15)/($AG15-($T15+0.5))*(AR$6+0.5-($T15+0.5)), IF(AR$6=$AH15,($X15+($Y15-$X15)/($AG15-($T15+0.5))*(0.5*($AG15+$AH15)-($T15+0.5)))*($AG15-$AH15)+$Y15*($AH15+1-$AG15), $Y15))) -> 1.5984846 | AS15: =IF(AS$6<=$T15,0,IF(AS$6<$AH15,$X15+($Y15-$X15)/($AG15-($T15+0.5))*(AS$6+0.5-($T15+0.5)), IF(AS$6=$AH15,($X15+($Y15-$X15)/($AG15-($T15+0.5))*(0.5*($AG15+$AH15)-($T15+0.5)))*($AG15-$AH15)+$Y15*($AH15+1-$AG15), $Y15))) -> 1.5465811 | AT15: =IF(AT$6<=$T15,0,IF(AT$6<$AH15,$X15+($Y15-$X15)/($AG15-($T15+0.5))*(AT$6+0.5-($T15+0.5)), IF(AT$6=$AH15,($X15+($Y15-$X15)/($AG15-($T15+0.5))*(0.5*($AG15+$AH15)-($T15+0.5)))*($AG15-$AH15)+$Y15*($AH15+1-$AG15), $Y15))) -> 1.4946776 | AU15: =IF(AU$6<=$T15,0,IF(AU$6<$AH15,$X15+($Y15-$X15)/($AG15-($T15+0.5))*(AU$6+0.5-($T15+0.5)), IF(AU$6=$AH15,($X15+($Y15-$X15)/($AG15-($T15+0.5))*(0.5*($AG15+$AH15)-($T15+0.5)))*($AG15-$AH15)+$Y15*($AH15+1-$AG15), $Y15))) -> 1.4427741 | ... DP15: =IF(DP$6<=$T15,0,IF(DP$6<$AH15,$X15+($Y15-$X15)/($AG15-($T15+0.5))*(DP$6+0.5-($T15+0.5)), IF(DP$6=$AH15,($X15+($Y15-$X15)/($AG15-($T15+0.5))*(0.5*($AG15+$AH15)-($T15+0.5)))*($AG15-$AH15)+$Y15*($AH15+1-$AG15), $Y15))) -> -0.037160041
B16: =S16 -> Japan | C16: ='web app'!$C$29 -> 668.55 | D16: ='web app'!$C$17 -> 0.15 | E16: =VLOOKUP($S16,'data countries EDGAR'!$A$15:$AA$234,'data countries EDGAR'!$AA$12,FALSE) -> 0.016449536 | F16: =VLOOKUP($S16,'data countries EDGAR'!$A$15:$AA$234,'data countries EDGAR'!$Z$12,FALSE) -> 0.030629496 | G16: =C16*(D16*E16+(1-D16)*F16) -> 19.055347 | H16: =VLOOKUP($S16,'data countries EDGAR'!$A$15:$AA$234,'data countries EDGAR'!M$12,FALSE)/1000 -> 1.123813 | I16: =VLOOKUP($S16,'data countries EDGAR'!$A$15:$AA$234,'data countries EDGAR'!N$12,FALSE)/1000 -> 1.0602269 | J16: =VLOOKUP($S16,'data countries EDGAR'!$A$15:$AA$234,'data countries EDGAR'!O$12,FALSE)/1000 -> 1.080206 | K16: =VLOOKUP($S16,'data countries EDGAR'!$A$15:$AA$234,'data countries EDGAR'!P$12,FALSE)/1000 -> 1.0505032 | L16: =VLOOKUP($S16,'data countries EDGAR'!$A$15:$AA$234,'data countries EDGAR'!Q$12,FALSE)/1000 -> 1.0024382 | M16: =VLOOKUP($S16,'data countries EDGAR'!$A$15:$AA$234,'data countries EDGAR'!R$12,FALSE)/1000 -> 0.97226697 | Q16: =SUMIF(AO16:DQ16,"<0") -> -0.99855657 | R16: =-Q16/U16 -> 0.052402958 | S16: Japan | T16: 2019 | U16: =G16 -> 19.055347 | V16: =SUM(AN16:DP16) -> 19.055347 | W16: =ROUND(V16/U16-1,4) -> 0 | X16: =VLOOKUP($S16,'data countries EDGAR'!$A$15:$AA$234,'data countries EDGAR'!$M$12,FALSE)/1000 -> 1.123813 | Y16: =$Y$2*X16 -> -0.022476259 | Z16: =X16-Y16 -> 1.1462892 | AA16: =-2*X16*(T16+1)+Y16*4202-2*U16 -> -4672.7603 | AB16: =X16*(T16+1)*(T16+1)+Y16*(T16*(T16+1)-2101*(2*T16+1))+U16*(2*T16+1) -> 4761636.4 | AC16: =(-AA16-SQRT(AA16^2-4*Z16*AB16))/(2*Z16) -> 2019.5067 | AD16: =(-AA16+SQRT(AA16^2-4*Z16*AB16))/(2*Z16) -> 2056.9168 | AE16: =AD16 -> 2056.9168 | AF16: =(Y16*(T16+0.5)-X16*AG16)/(Y16-X16) -> 2056.1831 | AG16: =AD16 -> 2056.9168 | AH16: =ROUNDDOWN(AG16,0) -> 2056 | AI16: =IF($Y$2=0,ROUNDUP(AF16,0),ROUND(AF16,0)) -> 2056 | AJ16: {=IFERROR(INDEX($AN$6:$DP$6,MATCH(_xlfn.AGGREGATE(14,6,(AN16:DP16)/(AN16:DP16<=0),1),AN16:DP16,0)),"-")} -> 2056 | AL16: E(t) | AM16: =H16 -> 1.123813 | AN16: =IF(AN$6<=$T16,0,IF(AN$6<$AH16,$X16+($Y16-$X16)/($AG16-($T16+0.5))*(AN$6+0.5-($T16+0.5)), IF(AN$6=$AH16,($X16+($Y16-$X16)/($AG16-($T16+0.5))*(0.5*($AG16+$AH16)-($T16+0.5)))*($AG16-$AH16)+$Y16*($AH16+1-$AG16), $Y16))) -> 1.0931773 | AO16: =IF(AO$6<=$T16,0,IF(AO$6<$AH16,$X16+($Y16-$X16)/($AG16-($T16+0.5))*(AO$6+0.5-($T16+0.5)), IF(AO$6=$AH16,($X16+($Y16-$X16)/($AG16-($T16+0.5))*(0.5*($AG16+$AH16)-($T16+0.5)))*($AG16-$AH16)+$Y16*($AH16+1-$AG16), $Y16))) -> 1.0625416 | AP16: =IF(AP$6<=$T16,0,IF(AP$6<$AH16,$X16+($Y16-$X16)/($AG16-($T16+0.5))*(AP$6+0.5-($T16+0.5)), IF(AP$6=$AH16,($X16+($Y16-$X16)/($AG16-($T16+0.5))*(0.5*($AG16+$AH16)-($T16+0.5)))*($AG16-$AH16)+$Y16*($AH16+1-$AG16), $Y16))) -> 1.0319059 | AQ16: =IF(AQ$6<=$T16,0,IF(AQ$6<$AH16,$X16+($Y16-$X16)/($AG16-($T16+0.5))*(AQ$6+0.5-($T16+0.5)), IF(AQ$6=$AH16,($X16+($Y16-$X16)/($AG16-($T16+0.5))*(0.5*($AG16+$AH16)-($T16+0.5)))*($AG16-$AH16)+$Y16*($AH16+1-$AG16), $Y16))) -> 1.0012702 | AR16: =IF(AR$6<=$T16,0,IF(AR$6<$AH16,$X16+($Y16-$X16)/($AG16-($T16+0.5))*(AR$6+0.5-($T16+0.5)), IF(AR$6=$AH16,($X16+($Y16-$X16)/($AG16-($T16+0.5))*(0.5*($AG16+$AH16)-($T16+0.5)))*($AG16-$AH16)+$Y16*($AH16+1-$AG16), $Y16))) -> 0.97063457 | AS16: =IF(AS$6<=$T16,0,IF(AS$6<$AH16,$X16+($Y16-$X16)/($AG16-($T16+0.5))*(AS$6+0.5-($T16+0.5)), IF(AS$6=$AH16,($X16+($Y16-$X16)/($AG16-($T16+0.5))*(0.5*($AG16+$AH16)-($T16+0.5)))*($AG16-$AH16)+$Y16*($AH16+1-$AG16), $Y16))) -> 0.93999889 | AT16: =IF(AT$6<=$T16,0,IF(AT$6<$AH16,$X16+($Y16-$X16)/($AG16-($T16+0.5))*(AT$6+0.5-($T16+0.5)), IF(AT$6=$AH16,($X16+($Y16-$X16)/($AG16-($T16+0.5))*(0.5*($AG16+$AH16)-($T16+0.5)))*($AG16-$AH16)+$Y16*($AH16+1-$AG16), $Y16))) -> 0.90936321 | AU16: =IF(AU$6<=$T16,0,IF(AU$6<$AH16,$X16+($Y16-$X16)/($AG16-($T16+0.5))*(AU$6+0.5-($T16+0.5)), IF(AU$6=$AH16,($X16+($Y16-$X16)/($AG16-($T16+0.5))*(0.5*($AG16+$AH16)-($T16+0.5)))*($AG16-$AH16)+$Y16*($AH16+1-$AG16), $Y16))) -> 0.87872753 | ... DP16: =IF(DP$6<=$T16,0,IF(DP$6<$AH16,$X16+($Y16-$X16)/($AG16-($T16+0.5))*(DP$6+0.5-($T16+0.5)), IF(DP$6=$AH16,($X16+($Y16-$X16)/($AG16-($T16+0.5))*(0.5*($AG16+$AH16)-($T16+0.5)))*($AG16-$AH16)+$Y16*($AH16+1-$AG16), $Y16))) -> -0.022476259
B17: =S17 -> Global | C17: ='web app'!$C$29 -> 668.55 | D17: ='web app'!$C$17 -> 0.15 | E17: =VLOOKUP($S17,'data countries EDGAR'!$A$15:$AA$234,'data countries EDGAR'!$AA$12,FALSE) -> 1 | F17: =VLOOKUP($S17,'data countries EDGAR'!$A$15:$AA$234,'data countries EDGAR'!$Z$12,FALSE) -> 1 | G17: =C17*(D17*E17+(1-D17)*F17) -> 668.55 | H17: =VLOOKUP($S17,'data countries EDGAR'!$A$15:$AA$234,'data countries EDGAR'!M$12,FALSE)/1000 -> 36.690548 | I17: =VLOOKUP($S17,'data countries EDGAR'!$A$15:$AA$234,'data countries EDGAR'!N$12,FALSE)/1000 -> 35.278461 | J17: =VLOOKUP($S17,'data countries EDGAR'!$A$15:$AA$234,'data countries EDGAR'!O$12,FALSE)/1000 -> 37.236275 | K17: =VLOOKUP($S17,'data countries EDGAR'!$A$15:$AA$234,'data countries EDGAR'!P$12,FALSE)/1000 -> 37.417336 | L17: =VLOOKUP($S17,'data countries EDGAR'!$A$15:$AA$234,'data countries EDGAR'!Q$12,FALSE)/1000 -> 37.829568 | M17: =VLOOKUP($S17,'data countries EDGAR'!$A$15:$AA$234,'data countries EDGAR'!R$12,FALSE)/1000 -> 38.320611 | Q17: =SUMIF(AO17:DQ17,"<0") -> -30.745667 | R17: =-Q17/U17 -> 0.045988583 | S17: Global | T17: 2019 | U17: =G17 -> 668.55 | V17: =SUM(AN17:DP17) -> 668.55 | W17: =ROUND(V17/U17-1,4) -> 0 | X17: =VLOOKUP($S17,'data countries EDGAR'!$A$15:$AA$234,'data countries EDGAR'!$M$12,FALSE)/1000 -> 36.690548 | Y17: =$Y$2*X17 -> -0.73381095 | Z17: =X17-Y17 -> 37.424358 | AA17: =-2*X17*(T17+1)+Y17*4202-2*U17 -> -152650.39 | AB17: =X17*(T17+1)*(T17+1)+Y17*(T17*(T17+1)-2101*(2*T17+1))+U17*(2*T17+1) -> 1.556467e+08 | AC17: =(-AA17-SQRT(AA17^2-4*Z17*AB17))/(2*Z17) -> 2019.5063 | AD17: =(-AA17+SQRT(AA17^2-4*Z17*AB17))/(2*Z17) -> 2059.3983 | AE17: =AD17 -> 2059.3983 | AF17: =(Y17*(T17+0.5)-X17*AG17)/(Y17-X17) -> 2058.616 | AG17: =AD17 -> 2059.3983 | AH17: =ROUNDDOWN(AG17,0) -> 2059 | AI17: =IF($Y$2=0,ROUNDUP(AF17,0),ROUND(AF17,0)) -> 2059 | AJ17: {=IFERROR(INDEX($AN$6:$DP$6,MATCH(_xlfn.AGGREGATE(14,6,(AN17:DP17)/(AN17:DP17<=0),1),AN17:DP17,0)),"-")} -> 2059 | AL17: E(t) | AM17: =H17 -> 36.690548 | AN17: =IF(AN$6<=$T17,0,IF(AN$6<$AH17,$X17+($Y17-$X17)/($AG17-($T17+0.5))*(AN$6+0.5-($T17+0.5)), IF(AN$6=$AH17,($X17+($Y17-$X17)/($AG17-($T17+0.5))*(0.5*($AG17+$AH17)-($T17+0.5)))*($AG17-$AH17)+$Y17*($AH17+1-$AG17), $Y17))) -> 35.752553 | AO17: =IF(AO$6<=$T17,0,IF(AO$6<$AH17,$X17+($Y17-$X17)/($AG17-($T17+0.5))*(AO$6+0.5-($T17+0.5)), IF(AO$6=$AH17,($X17+($Y17-$X17)/($AG17-($T17+0.5))*(0.5*($AG17+$AH17)-($T17+0.5)))*($AG17-$AH17)+$Y17*($AH17+1-$AG17), $Y17))) -> 34.814559 | AP17: =IF(AP$6<=$T17,0,IF(AP$6<$AH17,$X17+($Y17-$X17)/($AG17-($T17+0.5))*(AP$6+0.5-($T17+0.5)), IF(AP$6=$AH17,($X17+($Y17-$X17)/($AG17-($T17+0.5))*(0.5*($AG17+$AH17)-($T17+0.5)))*($AG17-$AH17)+$Y17*($AH17+1-$AG17), $Y17))) -> 33.876564 | AQ17: =IF(AQ$6<=$T17,0,IF(AQ$6<$AH17,$X17+($Y17-$X17)/($AG17-($T17+0.5))*(AQ$6+0.5-($T17+0.5)), IF(AQ$6=$AH17,($X17+($Y17-$X17)/($AG17-($T17+0.5))*(0.5*($AG17+$AH17)-($T17+0.5)))*($AG17-$AH17)+$Y17*($AH17+1-$AG17), $Y17))) -> 32.93857 | AR17: =IF(AR$6<=$T17,0,IF(AR$6<$AH17,$X17+($Y17-$X17)/($AG17-($T17+0.5))*(AR$6+0.5-($T17+0.5)), IF(AR$6=$AH17,($X17+($Y17-$X17)/($AG17-($T17+0.5))*(0.5*($AG17+$AH17)-($T17+0.5)))*($AG17-$AH17)+$Y17*($AH17+1-$AG17), $Y17))) -> 32.000575 | AS17: =IF(AS$6<=$T17,0,IF(AS$6<$AH17,$X17+($Y17-$X17)/($AG17-($T17+0.5))*(AS$6+0.5-($T17+0.5)), IF(AS$6=$AH17,($X17+($Y17-$X17)/($AG17-($T17+0.5))*(0.5*($AG17+$AH17)-($T17+0.5)))*($AG17-$AH17)+$Y17*($AH17+1-$AG17), $Y17))) -> 31.062581 | AT17: =IF(AT$6<=$T17,0,IF(AT$6<$AH17,$X17+($Y17-$X17)/($AG17-($T17+0.5))*(AT$6+0.5-($T17+0.5)), IF(AT$6=$AH17,($X17+($Y17-$X17)/($AG17-($T17+0.5))*(0.5*($AG17+$AH17)-($T17+0.5)))*($AG17-$AH17)+$Y17*($AH17+1-$AG17), $Y17))) -> 30.124586 | AU17: =IF(AU$6<=$T17,0,IF(AU$6<$AH17,$X17+($Y17-$X17)/($AG17-($T17+0.5))*(AU$6+0.5-($T17+0.5)), IF(AU$6=$AH17,($X17+($Y17-$X17)/($AG17-($T17+0.5))*(0.5*($AG17+$AH17)-($T17+0.5)))*($AG17-$AH17)+$Y17*($AH17+1-$AG17), $Y17))) -> 29.186592 | ... DP17: =IF(DP$6<=$T17,0,IF(DP$6<$AH17,$X17+($Y17-$X17)/($AG17-($T17+0.5))*(DP$6+0.5-($T17+0.5)), IF(DP$6=$AH17,($X17+($Y17-$X17)/($AG17-($T17+0.5))*(0.5*($AG17+$AH17)-($T17+0.5)))*($AG17-$AH17)+$Y17*($AH17+1-$AG17), $Y17))) -> -0.73381095
B18: =S18 -> Germany | C18: ='web app'!$C$29 -> 668.55 | D18: ='web app'!$C$17 -> 0.15 | E18: =VLOOKUP($S18,'data countries EDGAR'!$A$15:$AA$234,'data countries EDGAR'!$AA$12,FALSE) -> 0.010690001 | F18: =VLOOKUP($S18,'data countries EDGAR'!$A$15:$AA$234,'data countries EDGAR'!$Z$12,FALSE) -> 0.018983097 | G18: =C18*(D18*E18+(1-D18)*F18) -> 11.859497 | H18: =VLOOKUP($S18,'data countries EDGAR'!$A$15:$AA$234,'data countries EDGAR'!M$12,FALSE)/1000 -> 0.69650021 | I18: =VLOOKUP($S18,'data countries EDGAR'!$A$15:$AA$234,'data countries EDGAR'!N$12,FALSE)/1000 -> 0.64208778 | J18: =VLOOKUP($S18,'data countries EDGAR'!$A$15:$AA$234,'data countries EDGAR'!O$12,FALSE)/1000 -> 0.67066699 | K18: =VLOOKUP($S18,'data countries EDGAR'!$A$15:$AA$234,'data countries EDGAR'!P$12,FALSE)/1000 -> 0.65808856 | L18: =VLOOKUP($S18,'data countries EDGAR'!$A$15:$AA$234,'data countries EDGAR'!Q$12,FALSE)/1000 -> 0.58965963 | M18: =VLOOKUP($S18,'data countries EDGAR'!$A$15:$AA$234,'data countries EDGAR'!R$12,FALSE)/1000 -> 0.57993561 | Q18: =SUMIF(AO18:DQ18,"<0") -> -0.61629077 | R18: =-Q18/U18 -> 0.051966012 | S18: Germany | T18: 2019 | U18: =G18 -> 11.859497 | V18: =SUM(AN18:DP18) -> 11.859497 | W18: =ROUND(V18/U18-1,4) -> 0 | X18: =VLOOKUP($S18,'data countries EDGAR'!$A$15:$AA$234,'data countries EDGAR'!$M$12,FALSE)/1000 -> 0.69650021 | Y18: =$Y$2*X18 -> -0.013930004 | Z18: =X18-Y18 -> 0.71043022 | AA18: =-2*X18*(T18+1)+Y18*4202-2*U18 -> -2896.1137 | AB18: =X18*(T18+1)*(T18+1)+Y18*(T18*(T18+1)-2101*(2*T18+1))+U18*(2*T18+1) -> 2951297.3 | AC18: =(-AA18-SQRT(AA18^2-4*Z18*AB18))/(2*Z18) -> 2019.5067 | AD18: =(-AA18+SQRT(AA18^2-4*Z18*AB18))/(2*Z18) -> 2057.0566 | AE18: =AD18 -> 2057.0566 | AF18: =(Y18*(T18+0.5)-X18*AG18)/(Y18-X18) -> 2056.3202 | AG18: =AD18 -> 2057.0566 | AH18: =ROUNDDOWN(AG18,0) -> 2057 | AI18: =IF($Y$2=0,ROUNDUP(AF18,0),ROUND(AF18,0)) -> 2056 | AJ18: {=IFERROR(INDEX($AN$6:$DP$6,MATCH(_xlfn.AGGREGATE(14,6,(AN18:DP18)/(AN18:DP18<=0),1),AN18:DP18,0)),"-")} -> 2056 | AL18: E(t) | AM18: =H18 -> 0.69650021 | AN18: =IF(AN$6<=$T18,0,IF(AN$6<$AH18,$X18+($Y18-$X18)/($AG18-($T18+0.5))*(AN$6+0.5-($T18+0.5)), IF(AN$6=$AH18,($X18+($Y18-$X18)/($AG18-($T18+0.5))*(0.5*($AG18+$AH18)-($T18+0.5)))*($AG18-$AH18)+$Y18*($AH18+1-$AG18), $Y18))) -> 0.67758397 | AO18: =IF(AO$6<=$T18,0,IF(AO$6<$AH18,$X18+($Y18-$X18)/($AG18-($T18+0.5))*(AO$6+0.5-($T18+0.5)), IF(AO$6=$AH18,($X18+($Y18-$X18)/($AG18-($T18+0.5))*(0.5*($AG18+$AH18)-($T18+0.5)))*($AG18-$AH18)+$Y18*($AH18+1-$AG18), $Y18))) -> 0.65866772 | AP18: =IF(AP$6<=$T18,0,IF(AP$6<$AH18,$X18+($Y18-$X18)/($AG18-($T18+0.5))*(AP$6+0.5-($T18+0.5)), IF(AP$6=$AH18,($X18+($Y18-$X18)/($AG18-($T18+0.5))*(0.5*($AG18+$AH18)-($T18+0.5)))*($AG18-$AH18)+$Y18*($AH18+1-$AG18), $Y18))) -> 0.63975148 | AQ18: =IF(AQ$6<=$T18,0,IF(AQ$6<$AH18,$X18+($Y18-$X18)/($AG18-($T18+0.5))*(AQ$6+0.5-($T18+0.5)), IF(AQ$6=$AH18,($X18+($Y18-$X18)/($AG18-($T18+0.5))*(0.5*($AG18+$AH18)-($T18+0.5)))*($AG18-$AH18)+$Y18*($AH18+1-$AG18), $Y18))) -> 0.62083523 | AR18: =IF(AR$6<=$T18,0,IF(AR$6<$AH18,$X18+($Y18-$X18)/($AG18-($T18+0.5))*(AR$6+0.5-($T18+0.5)), IF(AR$6=$AH18,($X18+($Y18-$X18)/($AG18-($T18+0.5))*(0.5*($AG18+$AH18)-($T18+0.5)))*($AG18-$AH18)+$Y18*($AH18+1-$AG18), $Y18))) -> 0.60191898 | AS18: =IF(AS$6<=$T18,0,IF(AS$6<$AH18,$X18+($Y18-$X18)/($AG18-($T18+0.5))*(AS$6+0.5-($T18+0.5)), IF(AS$6=$AH18,($X18+($Y18-$X18)/($AG18-($T18+0.5))*(0.5*($AG18+$AH18)-($T18+0.5)))*($AG18-$AH18)+$Y18*($AH18+1-$AG18), $Y18))) -> 0.58300274 | AT18: =IF(AT$6<=$T18,0,IF(AT$6<$AH18,$X18+($Y18-$X18)/($AG18-($T18+0.5))*(AT$6+0.5-($T18+0.5)), IF(AT$6=$AH18,($X18+($Y18-$X18)/($AG18-($T18+0.5))*(0.5*($AG18+$AH18)-($T18+0.5)))*($AG18-$AH18)+$Y18*($AH18+1-$AG18), $Y18))) -> 0.56408649 | AU18: =IF(AU$6<=$T18,0,IF(AU$6<$AH18,$X18+($Y18-$X18)/($AG18-($T18+0.5))*(AU$6+0.5-($T18+0.5)), IF(AU$6=$AH18,($X18+($Y18-$X18)/($AG18-($T18+0.5))*(0.5*($AG18+$AH18)-($T18+0.5)))*($AG18-$AH18)+$Y18*($AH18+1-$AG18), $Y18))) -> 0.54517024 | ... DP18: =IF(DP$6<=$T18,0,IF(DP$6<$AH18,$X18+($Y18-$X18)/($AG18-($T18+0.5))*(DP$6+0.5-($T18+0.5)), IF(DP$6=$AH18,($X18+($Y18-$X18)/($AG18-($T18+0.5))*(0.5*($AG18+$AH18)-($T18+0.5)))*($AG18-$AH18)+$Y18*($AH18+1-$AG18), $Y18))) -> -0.013930004
C20: E_min corrected | G20: =G7 -> Start year 2020 | X20: 2019 | Z20: a | AA20: b | AB20: c | AC20: x_1 | AD20: x_2 | AE20: U | AF20: T | AG20: U | AH20: [U] | AL20: t | AM20: 2019 | AN20: =AM20+1 -> 2020 | AO20: =AN20+1 -> 2021 | AP20: =AO20+1 -> 2022 | AQ20: =AP20+1 -> 2023 | AR20: =AQ20+1 -> 2024 | AS20: =AR20+1 -> 2025 | AT20: =AS20+1 -> 2026 | AU20: =AT20+1 -> 2027 | ... DP20: =DO20+1 -> 2100
B21: =S21 -> China | C21: =C9 -> 668.55 | D21: =D9 -> 0.15 | E21: =E9 -> 0.18414259 | F21: =F9 -> 0.32196462 | G21: =G9 -> 201.42831 | H21: =H9 -> 11.813058 | I21: =I9 -> 11.964129 | J21: =J9 -> 12.551865 | ... N21: =N9 -> 0 | Q21: =SUMIF(AO21:DQ21,"<0") -> -10.436553 | R21: =-Q21/U21 -> 0.051812743 | S21: ='web app'!$B$23 -> China | T21: 2019 | U21: =G21 -> 201.42831 | V21: =SUM(AN21:DP21) -> 201.42831 | W21: =ROUND(V21/U21-1,4) -> 0 | X21: =H21 -> 11.813058 | Y21: =IF(AH9>2100,0,Y9) -> -0.23626116 | Z21: =X21-Y21 -> 12.049319 | AA21: =-2*X21*(T21+1)+Y21*4202-2*U21 -> -49120.381 | AB21: =X21*(T21+1)*(T21+1)+Y21*(T21*(T21+1)-2101*(2*T21+1))+U21*(2*T21+1) -> 50056907 | AC21: =(-AA21-SQRT(AA21^2-4*Z21*AB21))/(2*Z21) -> 2019.5066 | AD21: =(-AA21+SQRT(AA21^2-4*Z21*AB21))/(2*Z21) -> 2057.1038 | AE21: =AD21 -> 2057.1038 | AF21: =(Y21*(T21+0.5)-X21*AG21)/(Y21-X21) -> 2056.3665 | AG21: =AD21 -> 2057.1038 | AH21: =ROUNDDOWN(AG21,0) -> 2057 | AI21: =IF($Y$2=0,ROUNDUP(AF21,0),ROUND(AF21,0)) -> 2056 | AJ21: {=IFERROR(INDEX($AN$6:$DP$6,MATCH(_xlfn.AGGREGATE(14,6,(AN21:DP21)/(AN21:DP21<=0),1),AN21:DP21,0)),"-")} -> 2056 | AL21: E(t) | AM21: =H21 -> 11.813058 | AN21: =IF(AN$6<=$T21,0,IF(AN$6<$AH21,$X21+($Y21-$X21)/($AG21-($T21+0.5))*(AN$6+0.5-($T21+0.5)), IF(AN$6=$AH21,($X21+($Y21-$X21)/($AG21-($T21+0.5))*(0.5*($AG21+$AH21)-($T21+0.5)))*($AG21-$AH21)+$Y21*($AH21+1-$AG21), $Y21))) -> 11.49263 | AO21: =IF(AO$6<=$T21,0,IF(AO$6<$AH21,$X21+($Y21-$X21)/($AG21-($T21+0.5))*(AO$6+0.5-($T21+0.5)), IF(AO$6=$AH21,($X21+($Y21-$X21)/($AG21-($T21+0.5))*(0.5*($AG21+$AH21)-($T21+0.5)))*($AG21-$AH21)+$Y21*($AH21+1-$AG21), $Y21))) -> 11.172202 | AP21: =IF(AP$6<=$T21,0,IF(AP$6<$AH21,$X21+($Y21-$X21)/($AG21-($T21+0.5))*(AP$6+0.5-($T21+0.5)), IF(AP$6=$AH21,($X21+($Y21-$X21)/($AG21-($T21+0.5))*(0.5*($AG21+$AH21)-($T21+0.5)))*($AG21-$AH21)+$Y21*($AH21+1-$AG21), $Y21))) -> 10.851773 | AQ21: =IF(AQ$6<=$T21,0,IF(AQ$6<$AH21,$X21+($Y21-$X21)/($AG21-($T21+0.5))*(AQ$6+0.5-($T21+0.5)), IF(AQ$6=$AH21,($X21+($Y21-$X21)/($AG21-($T21+0.5))*(0.5*($AG21+$AH21)-($T21+0.5)))*($AG21-$AH21)+$Y21*($AH21+1-$AG21), $Y21))) -> 10.531345 | AR21: =IF(AR$6<=$T21,0,IF(AR$6<$AH21,$X21+($Y21-$X21)/($AG21-($T21+0.5))*(AR$6+0.5-($T21+0.5)), IF(AR$6=$AH21,($X21+($Y21-$X21)/($AG21-($T21+0.5))*(0.5*($AG21+$AH21)-($T21+0.5)))*($AG21-$AH21)+$Y21*($AH21+1-$AG21), $Y21))) -> 10.210917 | AS21: =IF(AS$6<=$T21,0,IF(AS$6<$AH21,$X21+($Y21-$X21)/($AG21-($T21+0.5))*(AS$6+0.5-($T21+0.5)), IF(AS$6=$AH21,($X21+($Y21-$X21)/($AG21-($T21+0.5))*(0.5*($AG21+$AH21)-($T21+0.5)))*($AG21-$AH21)+$Y21*($AH21+1-$AG21), $Y21))) -> 9.8904885 | AT21: =IF(AT$6<=$T21,0,IF(AT$6<$AH21,$X21+($Y21-$X21)/($AG21-($T21+0.5))*(AT$6+0.5-($T21+0.5)), IF(AT$6=$AH21,($X21+($Y21-$X21)/($AG21-($T21+0.5))*(0.5*($AG21+$AH21)-($T21+0.5)))*($AG21-$AH21)+$Y21*($AH21+1-$AG21), $Y21))) -> 9.5700602 | AU21: =IF(AU$6<=$T21,0,IF(AU$6<$AH21,$X21+($Y21-$X21)/($AG21-($T21+0.5))*(AU$6+0.5-($T21+0.5)), IF(AU$6=$AH21,($X21+($Y21-$X21)/($AG21-($T21+0.5))*(0.5*($AG21+$AH21)-($T21+0.5)))*($AG21-$AH21)+$Y21*($AH21+1-$AG21), $Y21))) -> 9.249632 | ... DP21: =IF(DP$6<=$T21,0,IF(DP$6<$AH21,$X21+($Y21-$X21)/($AG21-($T21+0.5))*(DP$6+0.5-($T21+0.5)), IF(DP$6=$AH21,($X21+($Y21-$X21)/($AG21-($T21+0.5))*(0.5*($AG21+$AH21)-($T21+0.5)))*($AG21-$AH21)+$Y21*($AH21+1-$AG21), $Y21))) -> -0.23626116
B23: =S23 -> China | C23: =C11 -> 668.55 | D23: =D11 -> 0.15 | E23: =E11 -> 0.18414259 | F23: =F11 -> 0.32196462 | G23: =G11 -> 201.42831 | H23: =H11 -> 11.813058 | I23: =I11 -> 11.964129 | J23: =J11 -> 12.551865 | ... M23: =M11 -> 13.124728 | Q23: =SUMIF(AO23:DQ23,"<0") -> -10.436553 | R23: =-Q23/U23 -> 0.051812743 | S23: China | T23: 2019 | U23: =G23 -> 201.42831 | V23: =SUM(AN23:DP23) -> 201.42831 | W23: =ROUND(V23/U23-1,4) -> 0 | X23: =VLOOKUP($S23,'data countries EDGAR'!$A$15:$AA$234,'data countries EDGAR'!$M$12,FALSE)/1000 -> 11.813058 | Y23: =IF(AH11>2100,0,Y11) -> -0.23626116 | Z23: =X23-Y23 -> 12.049319 | AA23: =-2*X23*(T23+1)+Y23*4202-2*U23 -> -49120.381 | AB23: =X23*(T23+1)*(T23+1)+Y23*(T23*(T23+1)-2101*(2*T23+1))+U23*(2*T23+1) -> 50056907 | AC23: =(-AA23-SQRT(AA23^2-4*Z23*AB23))/(2*Z23) -> 2019.5066 | AD23: =(-AA23+SQRT(AA23^2-4*Z23*AB23))/(2*Z23) -> 2057.1038 | AE23: =AD23 -> 2057.1038 | AF23: =(Y23*(T23+0.5)-X23*AG23)/(Y23-X23) -> 2056.3665 | AG23: =AD23 -> 2057.1038 | AH23: =ROUNDDOWN(AG23,0) -> 2057 | AI23: =IF($Y$2=0,ROUNDUP(AF23,0),ROUND(AF23,0)) -> 2056 | AJ23: {=IFERROR(INDEX($AN$6:$DP$6,MATCH(_xlfn.AGGREGATE(14,6,(AN23:DP23)/(AN23:DP23<=0),1),AN23:DP23,0)),"-")} -> 2056 | AL23: E(t) | AM23: =H23 -> 11.813058 | AN23: =IF(AN$6<=$T23,0,IF(AN$6<$AH23,$X23+($Y23-$X23)/($AG23-($T23+0.5))*(AN$6+0.5-($T23+0.5)), IF(AN$6=$AH23,($X23+($Y23-$X23)/($AG23-($T23+0.5))*(0.5*($AG23+$AH23)-($T23+0.5)))*($AG23-$AH23)+$Y23*($AH23+1-$AG23), $Y23))) -> 11.49263 | AO23: =IF(AO$6<=$T23,0,IF(AO$6<$AH23,$X23+($Y23-$X23)/($AG23-($T23+0.5))*(AO$6+0.5-($T23+0.5)), IF(AO$6=$AH23,($X23+($Y23-$X23)/($AG23-($T23+0.5))*(0.5*($AG23+$AH23)-($T23+0.5)))*($AG23-$AH23)+$Y23*($AH23+1-$AG23), $Y23))) -> 11.172202 | AP23: =IF(AP$6<=$T23,0,IF(AP$6<$AH23,$X23+($Y23-$X23)/($AG23-($T23+0.5))*(AP$6+0.5-($T23+0.5)), IF(AP$6=$AH23,($X23+($Y23-$X23)/($AG23-($T23+0.5))*(0.5*($AG23+$AH23)-($T23+0.5)))*($AG23-$AH23)+$Y23*($AH23+1-$AG23), $Y23))) -> 10.851773 | AQ23: =IF(AQ$6<=$T23,0,IF(AQ$6<$AH23,$X23+($Y23-$X23)/($AG23-($T23+0.5))*(AQ$6+0.5-($T23+0.5)), IF(AQ$6=$AH23,($X23+($Y23-$X23)/($AG23-($T23+0.5))*(0.5*($AG23+$AH23)-($T23+0.5)))*($AG23-$AH23)+$Y23*($AH23+1-$AG23), $Y23))) -> 10.531345 | AR23: =IF(AR$6<=$T23,0,IF(AR$6<$AH23,$X23+($Y23-$X23)/($AG23-($T23+0.5))*(AR$6+0.5-($T23+0.5)), IF(AR$6=$AH23,($X23+($Y23-$X23)/($AG23-($T23+0.5))*(0.5*($AG23+$AH23)-($T23+0.5)))*($AG23-$AH23)+$Y23*($AH23+1-$AG23), $Y23))) -> 10.210917 | AS23: =IF(AS$6<=$T23,0,IF(AS$6<$AH23,$X23+($Y23-$X23)/($AG23-($T23+0.5))*(AS$6+0.5-($T23+0.5)), IF(AS$6=$AH23,($X23+($Y23-$X23)/($AG23-($T23+0.5))*(0.5*($AG23+$AH23)-($T23+0.5)))*($AG23-$AH23)+$Y23*($AH23+1-$AG23), $Y23))) -> 9.8904885 | AT23: =IF(AT$6<=$T23,0,IF(AT$6<$AH23,$X23+($Y23-$X23)/($AG23-($T23+0.5))*(AT$6+0.5-($T23+0.5)), IF(AT$6=$AH23,($X23+($Y23-$X23)/($AG23-($T23+0.5))*(0.5*($AG23+$AH23)-($T23+0.5)))*($AG23-$AH23)+$Y23*($AH23+1-$AG23), $Y23))) -> 9.5700602 | AU23: =IF(AU$6<=$T23,0,IF(AU$6<$AH23,$X23+($Y23-$X23)/($AG23-($T23+0.5))*(AU$6+0.5-($T23+0.5)), IF(AU$6=$AH23,($X23+($Y23-$X23)/($AG23-($T23+0.5))*(0.5*($AG23+$AH23)-($T23+0.5)))*($AG23-$AH23)+$Y23*($AH23+1-$AG23), $Y23))) -> 9.249632 | ... DP23: =IF(DP$6<=$T23,0,IF(DP$6<$AH23,$X23+($Y23-$X23)/($AG23-($T23+0.5))*(DP$6+0.5-($T23+0.5)), IF(DP$6=$AH23,($X23+($Y23-$X23)/($AG23-($T23+0.5))*(0.5*($AG23+$AH23)-($T23+0.5)))*($AG23-$AH23)+$Y23*($AH23+1-$AG23), $Y23))) -> -0.23626116
B24: =S24 -> United States | C24: =C12 -> 668.55 | D24: =D12 -> 0.15 | E24: =E12 -> 0.042674232 | F24: =F12 -> 0.13540033 | G24: =G12 -> 81.223084 | H24: =H12 -> 4.9679122 | I24: =I12 -> 4.4668765 | J24: =J12 -> 4.7543785 | ... M24: =M12 -> 4.6321649 | Q24: =SUMIF(AO24:DQ24,"<0") -> -4.5334653 | R24: =-Q24/U24 -> 0.055814986 | S24: United States | T24: 2019 | U24: =G24 -> 81.223084 | V24: =SUM(AN24:DP24) -> 81.223084 | W24: =ROUND(V24/U24-1,4) -> 0 | X24: =VLOOKUP($S24,'data countries EDGAR'!$A$15:$AA$234,'data countries EDGAR'!$M$12,FALSE)/1000 -> 4.9679122 | Y24: =IF(AH12>2100,0,Y12) -> -0.099358243 | Z24: =X24-Y24 -> 5.0672704 | AA24: =-2*X24*(T24+1)+Y24*4202-2*U24 -> -20650.315 | AB24: =X24*(T24+1)*(T24+1)+Y24*(T24*(T24+1)-2101*(2*T24+1))+U24*(2*T24+1) -> 21037056 | AC24: =(-AA24-SQRT(AA24^2-4*Z24*AB24))/(2*Z24) -> 2019.5069 | AD24: =(-AA24+SQRT(AA24^2-4*Z24*AB24))/(2*Z24) -> 2055.7275 | AE24: =AD24 -> 2055.7275 | AF24: =(Y24*(T24+0.5)-X24*AG24)/(Y24-X24) -> 2055.0172 | AG24: =AD24 -> 2055.7275 | AH24: =ROUNDDOWN(AG24,0) -> 2055 | AI24: =IF($Y$2=0,ROUNDUP(AF24,0),ROUND(AF24,0)) -> 2055 | AJ24: {=IFERROR(INDEX($AN$6:$DP$6,MATCH(_xlfn.AGGREGATE(14,6,(AN24:DP24)/(AN24:DP24<=0),1),AN24:DP24,0)),"-")} -> 2055 | AL24: E(t) | AM24: =H24 -> 4.9679122 | AN24: =IF(AN$6<=$T24,0,IF(AN$6<$AH24,$X24+($Y24-$X24)/($AG24-($T24+0.5))*(AN$6+0.5-($T24+0.5)), IF(AN$6=$AH24,($X24+($Y24-$X24)/($AG24-($T24+0.5))*(0.5*($AG24+$AH24)-($T24+0.5)))*($AG24-$AH24)+$Y24*($AH24+1-$AG24), $Y24))) -> 4.8280385 | AO24: =IF(AO$6<=$T24,0,IF(AO$6<$AH24,$X24+($Y24-$X24)/($AG24-($T24+0.5))*(AO$6+0.5-($T24+0.5)), IF(AO$6=$AH24,($X24+($Y24-$X24)/($AG24-($T24+0.5))*(0.5*($AG24+$AH24)-($T24+0.5)))*($AG24-$AH24)+$Y24*($AH24+1-$AG24), $Y24))) -> 4.6881649 | AP24: =IF(AP$6<=$T24,0,IF(AP$6<$AH24,$X24+($Y24-$X24)/($AG24-($T24+0.5))*(AP$6+0.5-($T24+0.5)), IF(AP$6=$AH24,($X24+($Y24-$X24)/($AG24-($T24+0.5))*(0.5*($AG24+$AH24)-($T24+0.5)))*($AG24-$AH24)+$Y24*($AH24+1-$AG24), $Y24))) -> 4.5482913 | AQ24: =IF(AQ$6<=$T24,0,IF(AQ$6<$AH24,$X24+($Y24-$X24)/($AG24-($T24+0.5))*(AQ$6+0.5-($T24+0.5)), IF(AQ$6=$AH24,($X24+($Y24-$X24)/($AG24-($T24+0.5))*(0.5*($AG24+$AH24)-($T24+0.5)))*($AG24-$AH24)+$Y24*($AH24+1-$AG24), $Y24))) -> 4.4084177 | AR24: =IF(AR$6<=$T24,0,IF(AR$6<$AH24,$X24+($Y24-$X24)/($AG24-($T24+0.5))*(AR$6+0.5-($T24+0.5)), IF(AR$6=$AH24,($X24+($Y24-$X24)/($AG24-($T24+0.5))*(0.5*($AG24+$AH24)-($T24+0.5)))*($AG24-$AH24)+$Y24*($AH24+1-$AG24), $Y24))) -> 4.2685441 | AS24: =IF(AS$6<=$T24,0,IF(AS$6<$AH24,$X24+($Y24-$X24)/($AG24-($T24+0.5))*(AS$6+0.5-($T24+0.5)), IF(AS$6=$AH24,($X24+($Y24-$X24)/($AG24-($T24+0.5))*(0.5*($AG24+$AH24)-($T24+0.5)))*($AG24-$AH24)+$Y24*($AH24+1-$AG24), $Y24))) -> 4.1286705 | AT24: =IF(AT$6<=$T24,0,IF(AT$6<$AH24,$X24+($Y24-$X24)/($AG24-($T24+0.5))*(AT$6+0.5-($T24+0.5)), IF(AT$6=$AH24,($X24+($Y24-$X24)/($AG24-($T24+0.5))*(0.5*($AG24+$AH24)-($T24+0.5)))*($AG24-$AH24)+$Y24*($AH24+1-$AG24), $Y24))) -> 3.9887969 | AU24: =IF(AU$6<=$T24,0,IF(AU$6<$AH24,$X24+($Y24-$X24)/($AG24-($T24+0.5))*(AU$6+0.5-($T24+0.5)), IF(AU$6=$AH24,($X24+($Y24-$X24)/($AG24-($T24+0.5))*(0.5*($AG24+$AH24)-($T24+0.5)))*($AG24-$AH24)+$Y24*($AH24+1-$AG24), $Y24))) -> 3.8489233 | ... DP24: =IF(DP$6<=$T24,0,IF(DP$6<$AH24,$X24+($Y24-$X24)/($AG24-($T24+0.5))*(DP$6+0.5-($T24+0.5)), IF(DP$6=$AH24,($X24+($Y24-$X24)/($AG24-($T24+0.5))*(0.5*($AG24+$AH24)-($T24+0.5)))*($AG24-$AH24)+$Y24*($AH24+1-$AG24), $Y24))) -> -0.099358243
B25: =S25 -> EU27 | C25: =C13 -> 668.55 | D25: =D13 -> 0.15 | E25: =E13 -> 0.05749956 | F25: =F13 -> 0.079267912 | G25: =G13 -> 50.811578 | H25: =H13 -> 2.9083831 | I25: =I13 -> 2.6384092 | J25: =J13 -> 2.8183079 | ... M25: =M13 -> 2.4623896 | Q25: =SUMIF(AO25:DQ25,"<0") -> -2.5262567 | R25: =-Q25/U25 -> 0.049718131 | S25: EU27 | T25: 2019 | U25: =G25 -> 50.811578 | V25: =SUM(AN25:DP25) -> 50.811578 | W25: =ROUND(V25/U25-1,4) -> 0 | X25: =VLOOKUP($S25,'data countries EDGAR'!$A$15:$AA$234,'data countries EDGAR'!$M$12,FALSE)/1000 -> 2.9083831 | Y25: =IF(AH13>2100,0,Y13) -> -0.058167662 | Z25: =X25-Y25 -> 2.9665507 | AA25: =-2*X25*(T25+1)+Y25*4202-2*U25 -> -12095.911 | AB25: =X25*(T25+1)*(T25+1)+Y25*(T25*(T25+1)-2101*(2*T25+1))+U25*(2*T25+1) -> 12328972 | AC25: =(-AA25-SQRT(AA25^2-4*Z25*AB25))/(2*Z25) -> 2019.5065 | AD25: =(-AA25+SQRT(AA25^2-4*Z25*AB25))/(2*Z25) -> 2057.9263 | AE25: =AD25 -> 2057.9263 | AF25: =(Y25*(T25+0.5)-X25*AG25)/(Y25-X25) -> 2057.1728 | AG25: =AD25 -> 2057.9263 | AH25: =ROUNDDOWN(AG25,0) -> 2057 | AI25: =IF($Y$2=0,ROUNDUP(AF25,0),ROUND(AF25,0)) -> 2057 | AJ25: {=IFERROR(INDEX($AN$6:$DP$6,MATCH(_xlfn.AGGREGATE(14,6,(AN25:DP25)/(AN25:DP25<=0),1),AN25:DP25,0)),"-")} -> 2057 | AL25: E(t) | AM25: =H25 -> 2.9083831 | AN25: =IF(AN$6<=$T25,0,IF(AN$6<$AH25,$X25+($Y25-$X25)/($AG25-($T25+0.5))*(AN$6+0.5-($T25+0.5)), IF(AN$6=$AH25,($X25+($Y25-$X25)/($AG25-($T25+0.5))*(0.5*($AG25+$AH25)-($T25+0.5)))*($AG25-$AH25)+$Y25*($AH25+1-$AG25), $Y25))) -> 2.831182 | AO25: =IF(AO$6<=$T25,0,IF(AO$6<$AH25,$X25+($Y25-$X25)/($AG25-($T25+0.5))*(AO$6+0.5-($T25+0.5)), IF(AO$6=$AH25,($X25+($Y25-$X25)/($AG25-($T25+0.5))*(0.5*($AG25+$AH25)-($T25+0.5)))*($AG25-$AH25)+$Y25*($AH25+1-$AG25), $Y25))) -> 2.753981 | AP25: =IF(AP$6<=$T25,0,IF(AP$6<$AH25,$X25+($Y25-$X25)/($AG25-($T25+0.5))*(AP$6+0.5-($T25+0.5)), IF(AP$6=$AH25,($X25+($Y25-$X25)/($AG25-($T25+0.5))*(0.5*($AG25+$AH25)-($T25+0.5)))*($AG25-$AH25)+$Y25*($AH25+1-$AG25), $Y25))) -> 2.6767799 | AQ25: =IF(AQ$6<=$T25,0,IF(AQ$6<$AH25,$X25+($Y25-$X25)/($AG25-($T25+0.5))*(AQ$6+0.5-($T25+0.5)), IF(AQ$6=$AH25,($X25+($Y25-$X25)/($AG25-($T25+0.5))*(0.5*($AG25+$AH25)-($T25+0.5)))*($AG25-$AH25)+$Y25*($AH25+1-$AG25), $Y25))) -> 2.5995789 | AR25: =IF(AR$6<=$T25,0,IF(AR$6<$AH25,$X25+($Y25-$X25)/($AG25-($T25+0.5))*(AR$6+0.5-($T25+0.5)), IF(AR$6=$AH25,($X25+($Y25-$X25)/($AG25-($T25+0.5))*(0.5*($AG25+$AH25)-($T25+0.5)))*($AG25-$AH25)+$Y25*($AH25+1-$AG25), $Y25))) -> 2.5223778 | AS25: =IF(AS$6<=$T25,0,IF(AS$6<$AH25,$X25+($Y25-$X25)/($AG25-($T25+0.5))*(AS$6+0.5-($T25+0.5)), IF(AS$6=$AH25,($X25+($Y25-$X25)/($AG25-($T25+0.5))*(0.5*($AG25+$AH25)-($T25+0.5)))*($AG25-$AH25)+$Y25*($AH25+1-$AG25), $Y25))) -> 2.4451768 | AT25: =IF(AT$6<=$T25,0,IF(AT$6<$AH25,$X25+($Y25-$X25)/($AG25-($T25+0.5))*(AT$6+0.5-($T25+0.5)), IF(AT$6=$AH25,($X25+($Y25-$X25)/($AG25-($T25+0.5))*(0.5*($AG25+$AH25)-($T25+0.5)))*($AG25-$AH25)+$Y25*($AH25+1-$AG25), $Y25))) -> 2.3679757 | AU25: =IF(AU$6<=$T25,0,IF(AU$6<$AH25,$X25+($Y25-$X25)/($AG25-($T25+0.5))*(AU$6+0.5-($T25+0.5)), IF(AU$6=$AH25,($X25+($Y25-$X25)/($AG25-($T25+0.5))*(0.5*($AG25+$AH25)-($T25+0.5)))*($AG25-$AH25)+$Y25*($AH25+1-$AG25), $Y25))) -> 2.2907747 | ... DP25: =IF(DP$6<=$T25,0,IF(DP$6<$AH25,$X25+($Y25-$X25)/($AG25-($T25+0.5))*(DP$6+0.5-($T25+0.5)), IF(DP$6=$AH25,($X25+($Y25-$X25)/($AG25-($T25+0.5))*(0.5*($AG25+$AH25)-($T25+0.5)))*($AG25-$AH25)+$Y25*($AH25+1-$AG25), $Y25))) -> -0.058167662
B26: =S26 -> India | C26: =C14 -> 668.55 | D26: =D14 -> 0.15 | E26: =E14 -> 0.17748722 | F26: =F14 -> 0.069540666 | G26: =G14 -> 57.316563 | H26: =H14 -> 2.5514851 | I26: =I14 -> 2.356959 | J26: =J14 -> 2.5979343 | ... M26: =M14 -> 3.1538291 | Q26: =SUMIF(AO26:DQ26,"<0") -> -1.7210841 | R26: =-Q26/U26 -> 0.030027693 | S26: India | T26: 2019 | U26: =G26 -> 57.316563 | V26: =SUM(AN26:DP26) -> 57.316563 | W26: =ROUND(V26/U26-1,4) -> 0 | X26: =VLOOKUP($S26,'data countries EDGAR'!$A$15:$AA$234,'data countries EDGAR'!$M$12,FALSE)/1000 -> 2.5514851 | Y26: =IF(AH14>2100,0,Y14) -> -0.051029702 | Z26: =X26-Y26 -> 2.6025148 | AA26: =-2*X26*(T26+1)+Y26*4202-2*U26 -> -10637.06 | AB26: =X26*(T26+1)*(T26+1)+Y26*(T26*(T26+1)-2101*(2*T26+1))+U26*(2*T26+1) -> 10867498 | AC26: =(-AA26-SQRT(AA26^2-4*Z26*AB26))/(2*Z26) -> 2019.5052 | AD26: =(-AA26+SQRT(AA26^2-4*Z26*AB26))/(2*Z26) -> 2067.7183 | AE26: =AD26 -> 2067.7183 | AF26: =(Y26*(T26+0.5)-X26*AG26)/(Y26-X26) -> 2066.7729 | AG26: =AD26 -> 2067.7183 | AH26: =ROUNDDOWN(AG26,0) -> 2067 | AI26: =IF($Y$2=0,ROUNDUP(AF26,0),ROUND(AF26,0)) -> 2067 | AJ26: {=IFERROR(INDEX($AN$6:$DP$6,MATCH(_xlfn.AGGREGATE(14,6,(AN26:DP26)/(AN26:DP26<=0),1),AN26:DP26,0)),"-")} -> 2067 | AL26: E(t) | AM26: =H26 -> 2.5514851 | AN26: =IF(AN$6<=$T26,0,IF(AN$6<$AH26,$X26+($Y26-$X26)/($AG26-($T26+0.5))*(AN$6+0.5-($T26+0.5)), IF(AN$6=$AH26,($X26+($Y26-$X26)/($AG26-($T26+0.5))*(0.5*($AG26+$AH26)-($T26+0.5)))*($AG26-$AH26)+$Y26*($AH26+1-$AG26), $Y26))) -> 2.4975116 | AO26: =IF(AO$6<=$T26,0,IF(AO$6<$AH26,$X26+($Y26-$X26)/($AG26-($T26+0.5))*(AO$6+0.5-($T26+0.5)), IF(AO$6=$AH26,($X26+($Y26-$X26)/($AG26-($T26+0.5))*(0.5*($AG26+$AH26)-($T26+0.5)))*($AG26-$AH26)+$Y26*($AH26+1-$AG26), $Y26))) -> 2.443538 | AP26: =IF(AP$6<=$T26,0,IF(AP$6<$AH26,$X26+($Y26-$X26)/($AG26-($T26+0.5))*(AP$6+0.5-($T26+0.5)), IF(AP$6=$AH26,($X26+($Y26-$X26)/($AG26-($T26+0.5))*(0.5*($AG26+$AH26)-($T26+0.5)))*($AG26-$AH26)+$Y26*($AH26+1-$AG26), $Y26))) -> 2.3895645 | AQ26: =IF(AQ$6<=$T26,0,IF(AQ$6<$AH26,$X26+($Y26-$X26)/($AG26-($T26+0.5))*(AQ$6+0.5-($T26+0.5)), IF(AQ$6=$AH26,($X26+($Y26-$X26)/($AG26-($T26+0.5))*(0.5*($AG26+$AH26)-($T26+0.5)))*($AG26-$AH26)+$Y26*($AH26+1-$AG26), $Y26))) -> 2.3355909 | AR26: =IF(AR$6<=$T26,0,IF(AR$6<$AH26,$X26+($Y26-$X26)/($AG26-($T26+0.5))*(AR$6+0.5-($T26+0.5)), IF(AR$6=$AH26,($X26+($Y26-$X26)/($AG26-($T26+0.5))*(0.5*($AG26+$AH26)-($T26+0.5)))*($AG26-$AH26)+$Y26*($AH26+1-$AG26), $Y26))) -> 2.2816174 | AS26: =IF(AS$6<=$T26,0,IF(AS$6<$AH26,$X26+($Y26-$X26)/($AG26-($T26+0.5))*(AS$6+0.5-($T26+0.5)), IF(AS$6=$AH26,($X26+($Y26-$X26)/($AG26-($T26+0.5))*(0.5*($AG26+$AH26)-($T26+0.5)))*($AG26-$AH26)+$Y26*($AH26+1-$AG26), $Y26))) -> 2.2276439 | AT26: =IF(AT$6<=$T26,0,IF(AT$6<$AH26,$X26+($Y26-$X26)/($AG26-($T26+0.5))*(AT$6+0.5-($T26+0.5)), IF(AT$6=$AH26,($X26+($Y26-$X26)/($AG26-($T26+0.5))*(0.5*($AG26+$AH26)-($T26+0.5)))*($AG26-$AH26)+$Y26*($AH26+1-$AG26), $Y26))) -> 2.1736703 | AU26: =IF(AU$6<=$T26,0,IF(AU$6<$AH26,$X26+($Y26-$X26)/($AG26-($T26+0.5))*(AU$6+0.5-($T26+0.5)), IF(AU$6=$AH26,($X26+($Y26-$X26)/($AG26-($T26+0.5))*(0.5*($AG26+$AH26)-($T26+0.5)))*($AG26-$AH26)+$Y26*($AH26+1-$AG26), $Y26))) -> 2.1196968 | ... DP26: =IF(DP$6<=$T26,0,IF(DP$6<$AH26,$X26+($Y26-$X26)/($AG26-($T26+0.5))*(DP$6+0.5-($T26+0.5)), IF(DP$6=$AH26,($X26+($Y26-$X26)/($AG26-($T26+0.5))*(0.5*($AG26+$AH26)-($T26+0.5)))*($AG26-$AH26)+$Y26*($AH26+1-$AG26), $Y26))) -> -0.051029702
B27: =S27 -> Russia | C27: =C15 -> 668.55 | D27: =D15 -> 0.15 | E27: =E15 -> 0.018659255 | F27: =F15 -> 0.050639801 | G27: =G15 -> 30.64815 | H27: =H15 -> 1.858002 | I27: =I15 -> 1.7841991 | J27: =J15 -> 1.9384596 | ... M27: =M15 -> 2.0091541 | Q27: =SUMIF(AO27:DQ27,"<0") -> -1.682721 | R27: =-Q27/U27 -> 0.054904489 | S27: Russia | T27: 2019 | U27: =G27 -> 30.64815 | V27: =SUM(AN27:DP27) -> 30.64815 | W27: =ROUND(V27/U27-1,4) -> 0 | X27: =VLOOKUP($S27,'data countries EDGAR'!$A$15:$AA$234,'data countries EDGAR'!$M$12,FALSE)/1000 -> 1.858002 | Y27: =IF(AH15>2100,0,Y15) -> -0.037160041 | Z27: =X27-Y27 -> 1.8951621 | AA27: =-2*X27*(T27+1)+Y27*4202-2*U27 -> -7723.771 | AB27: =X27*(T27+1)*(T27+1)+Y27*(T27*(T27+1)-2101*(2*T27+1))+U27*(2*T27+1) -> 7868964.4 | AC27: =(-AA27-SQRT(AA27^2-4*Z27*AB27))/(2*Z27) -> 2019.5068 | AD27: =(-AA27+SQRT(AA27^2-4*Z27*AB27))/(2*Z27) -> 2056.0132 | AE27: =AD27 -> 2056.0132 | AF27: =(Y27*(T27+0.5)-X27*AG27)/(Y27-X27) -> 2055.2972 | AG27: =AD27 -> 2056.0132 | AH27: =ROUNDDOWN(AG27,0) -> 2056 | AI27: =IF($Y$2=0,ROUNDUP(AF27,0),ROUND(AF27,0)) -> 2055 | AJ27: {=IFERROR(INDEX($AN$6:$DP$6,MATCH(_xlfn.AGGREGATE(14,6,(AN27:DP27)/(AN27:DP27<=0),1),AN27:DP27,0)),"-")} -> 2055 | AL27: E(t) | AM27: =H27 -> 1.858002 | AN27: =IF(AN$6<=$T27,0,IF(AN$6<$AH27,$X27+($Y27-$X27)/($AG27-($T27+0.5))*(AN$6+0.5-($T27+0.5)), IF(AN$6=$AH27,($X27+($Y27-$X27)/($AG27-($T27+0.5))*(0.5*($AG27+$AH27)-($T27+0.5)))*($AG27-$AH27)+$Y27*($AH27+1-$AG27), $Y27))) -> 1.8060985 | AO27: =IF(AO$6<=$T27,0,IF(AO$6<$AH27,$X27+($Y27-$X27)/($AG27-($T27+0.5))*(AO$6+0.5-($T27+0.5)), IF(AO$6=$AH27,($X27+($Y27-$X27)/($AG27-($T27+0.5))*(0.5*($AG27+$AH27)-($T27+0.5)))*($AG27-$AH27)+$Y27*($AH27+1-$AG27), $Y27))) -> 1.754195 | AP27: =IF(AP$6<=$T27,0,IF(AP$6<$AH27,$X27+($Y27-$X27)/($AG27-($T27+0.5))*(AP$6+0.5-($T27+0.5)), IF(AP$6=$AH27,($X27+($Y27-$X27)/($AG27-($T27+0.5))*(0.5*($AG27+$AH27)-($T27+0.5)))*($AG27-$AH27)+$Y27*($AH27+1-$AG27), $Y27))) -> 1.7022916 | AQ27: =IF(AQ$6<=$T27,0,IF(AQ$6<$AH27,$X27+($Y27-$X27)/($AG27-($T27+0.5))*(AQ$6+0.5-($T27+0.5)), IF(AQ$6=$AH27,($X27+($Y27-$X27)/($AG27-($T27+0.5))*(0.5*($AG27+$AH27)-($T27+0.5)))*($AG27-$AH27)+$Y27*($AH27+1-$AG27), $Y27))) -> 1.6503881 | AR27: =IF(AR$6<=$T27,0,IF(AR$6<$AH27,$X27+($Y27-$X27)/($AG27-($T27+0.5))*(AR$6+0.5-($T27+0.5)), IF(AR$6=$AH27,($X27+($Y27-$X27)/($AG27-($T27+0.5))*(0.5*($AG27+$AH27)-($T27+0.5)))*($AG27-$AH27)+$Y27*($AH27+1-$AG27), $Y27))) -> 1.5984846 | AS27: =IF(AS$6<=$T27,0,IF(AS$6<$AH27,$X27+($Y27-$X27)/($AG27-($T27+0.5))*(AS$6+0.5-($T27+0.5)), IF(AS$6=$AH27,($X27+($Y27-$X27)/($AG27-($T27+0.5))*(0.5*($AG27+$AH27)-($T27+0.5)))*($AG27-$AH27)+$Y27*($AH27+1-$AG27), $Y27))) -> 1.5465811 | AT27: =IF(AT$6<=$T27,0,IF(AT$6<$AH27,$X27+($Y27-$X27)/($AG27-($T27+0.5))*(AT$6+0.5-($T27+0.5)), IF(AT$6=$AH27,($X27+($Y27-$X27)/($AG27-($T27+0.5))*(0.5*($AG27+$AH27)-($T27+0.5)))*($AG27-$AH27)+$Y27*($AH27+1-$AG27), $Y27))) -> 1.4946776 | AU27: =IF(AU$6<=$T27,0,IF(AU$6<$AH27,$X27+($Y27-$X27)/($AG27-($T27+0.5))*(AU$6+0.5-($T27+0.5)), IF(AU$6=$AH27,($X27+($Y27-$X27)/($AG27-($T27+0.5))*(0.5*($AG27+$AH27)-($T27+0.5)))*($AG27-$AH27)+$Y27*($AH27+1-$AG27), $Y27))) -> 1.4427741 | ... DP27: =IF(DP$6<=$T27,0,IF(DP$6<$AH27,$X27+($Y27-$X27)/($AG27-($T27+0.5))*(DP$6+0.5-($T27+0.5)), IF(DP$6=$AH27,($X27+($Y27-$X27)/($AG27-($T27+0.5))*(0.5*($AG27+$AH27)-($T27+0.5)))*($AG27-$AH27)+$Y27*($AH27+1-$AG27), $Y27))) -> -0.037160041
B28: =S28 -> Japan | C28: =C16 -> 668.55 | D28: =D16 -> 0.15 | E28: =E16 -> 0.016449536 | F28: =F16 -> 0.030629496 | G28: =G16 -> 19.055347 | H28: =H16 -> 1.123813 | I28: =I16 -> 1.0602269 | J28: =J16 -> 1.080206 | ... M28: =M16 -> 0.97226697 | Q28: =SUMIF(AO28:DQ28,"<0") -> -0.99855657 | R28: =-Q28/U28 -> 0.052402958 | S28: Japan | T28: 2019 | U28: =G28 -> 19.055347 | V28: =SUM(AN28:DP28) -> 19.055347 | W28: =ROUND(V28/U28-1,4) -> 0 | X28: =VLOOKUP($S28,'data countries EDGAR'!$A$15:$AA$234,'data countries EDGAR'!$M$12,FALSE)/1000 -> 1.123813 | Y28: =IF(AH16>2100,0,Y16) -> -0.022476259 | Z28: =X28-Y28 -> 1.1462892 | AA28: =-2*X28*(T28+1)+Y28*4202-2*U28 -> -4672.7603 | AB28: =X28*(T28+1)*(T28+1)+Y28*(T28*(T28+1)-2101*(2*T28+1))+U28*(2*T28+1) -> 4761636.4 | AC28: =(-AA28-SQRT(AA28^2-4*Z28*AB28))/(2*Z28) -> 2019.5067 | AD28: =(-AA28+SQRT(AA28^2-4*Z28*AB28))/(2*Z28) -> 2056.9168 | AE28: =AD28 -> 2056.9168 | AF28: =(Y28*(T28+0.5)-X28*AG28)/(Y28-X28) -> 2056.1831 | AG28: =AD28 -> 2056.9168 | AH28: =ROUNDDOWN(AG28,0) -> 2056 | AI28: =IF($Y$2=0,ROUNDUP(AF28,0),ROUND(AF28,0)) -> 2056 | AJ28: {=IFERROR(INDEX($AN$6:$DP$6,MATCH(_xlfn.AGGREGATE(14,6,(AN28:DP28)/(AN28:DP28<=0),1),AN28:DP28,0)),"-")} -> 2056 | AL28: E(t) | AM28: =H28 -> 1.123813 | AN28: =IF(AN$6<=$T28,0,IF(AN$6<$AH28,$X28+($Y28-$X28)/($AG28-($T28+0.5))*(AN$6+0.5-($T28+0.5)), IF(AN$6=$AH28,($X28+($Y28-$X28)/($AG28-($T28+0.5))*(0.5*($AG28+$AH28)-($T28+0.5)))*($AG28-$AH28)+$Y28*($AH28+1-$AG28), $Y28))) -> 1.0931773 | AO28: =IF(AO$6<=$T28,0,IF(AO$6<$AH28,$X28+($Y28-$X28)/($AG28-($T28+0.5))*(AO$6+0.5-($T28+0.5)), IF(AO$6=$AH28,($X28+($Y28-$X28)/($AG28-($T28+0.5))*(0.5*($AG28+$AH28)-($T28+0.5)))*($AG28-$AH28)+$Y28*($AH28+1-$AG28), $Y28))) -> 1.0625416 | AP28: =IF(AP$6<=$T28,0,IF(AP$6<$AH28,$X28+($Y28-$X28)/($AG28-($T28+0.5))*(AP$6+0.5-($T28+0.5)), IF(AP$6=$AH28,($X28+($Y28-$X28)/($AG28-($T28+0.5))*(0.5*($AG28+$AH28)-($T28+0.5)))*($AG28-$AH28)+$Y28*($AH28+1-$AG28), $Y28))) -> 1.0319059 | AQ28: =IF(AQ$6<=$T28,0,IF(AQ$6<$AH28,$X28+($Y28-$X28)/($AG28-($T28+0.5))*(AQ$6+0.5-($T28+0.5)), IF(AQ$6=$AH28,($X28+($Y28-$X28)/($AG28-($T28+0.5))*(0.5*($AG28+$AH28)-($T28+0.5)))*($AG28-$AH28)+$Y28*($AH28+1-$AG28), $Y28))) -> 1.0012702 | AR28: =IF(AR$6<=$T28,0,IF(AR$6<$AH28,$X28+($Y28-$X28)/($AG28-($T28+0.5))*(AR$6+0.5-($T28+0.5)), IF(AR$6=$AH28,($X28+($Y28-$X28)/($AG28-($T28+0.5))*(0.5*($AG28+$AH28)-($T28+0.5)))*($AG28-$AH28)+$Y28*($AH28+1-$AG28), $Y28))) -> 0.97063457 | AS28: =IF(AS$6<=$T28,0,IF(AS$6<$AH28,$X28+($Y28-$X28)/($AG28-($T28+0.5))*(AS$6+0.5-($T28+0.5)), IF(AS$6=$AH28,($X28+($Y28-$X28)/($AG28-($T28+0.5))*(0.5*($AG28+$AH28)-($T28+0.5)))*($AG28-$AH28)+$Y28*($AH28+1-$AG28), $Y28))) -> 0.93999889 | AT28: =IF(AT$6<=$T28,0,IF(AT$6<$AH28,$X28+($Y28-$X28)/($AG28-($T28+0.5))*(AT$6+0.5-($T28+0.5)), IF(AT$6=$AH28,($X28+($Y28-$X28)/($AG28-($T28+0.5))*(0.5*($AG28+$AH28)-($T28+0.5)))*($AG28-$AH28)+$Y28*($AH28+1-$AG28), $Y28))) -> 0.90936321 | AU28: =IF(AU$6<=$T28,0,IF(AU$6<$AH28,$X28+($Y28-$X28)/($AG28-($T28+0.5))*(AU$6+0.5-($T28+0.5)), IF(AU$6=$AH28,($X28+($Y28-$X28)/($AG28-($T28+0.5))*(0.5*($AG28+$AH28)-($T28+0.5)))*($AG28-$AH28)+$Y28*($AH28+1-$AG28), $Y28))) -> 0.87872753 | ... DP28: =IF(DP$6<=$T28,0,IF(DP$6<$AH28,$X28+($Y28-$X28)/($AG28-($T28+0.5))*(DP$6+0.5-($T28+0.5)), IF(DP$6=$AH28,($X28+($Y28-$X28)/($AG28-($T28+0.5))*(0.5*($AG28+$AH28)-($T28+0.5)))*($AG28-$AH28)+$Y28*($AH28+1-$AG28), $Y28))) -> -0.022476259
B29: =S29 -> Global | C29: =C17 -> 668.55 | D29: =D17 -> 0.15 | E29: =E17 -> 1 | F29: =F17 -> 1 | G29: =G17 -> 668.55 | H29: =H17 -> 36.690548 | I29: =I17 -> 35.278461 | J29: =J17 -> 37.236275 | ... M29: =M17 -> 38.320611 | Q29: =SUMIF(AO29:DQ29,"<0") -> -30.745667 | R29: =-Q29/U29 -> 0.045988583 | S29: Global | T29: 2019 | U29: =G29 -> 668.55 | V29: =SUM(AN29:DP29) -> 668.55 | W29: =ROUND(V29/U29-1,4) -> 0 | X29: =VLOOKUP($S29,'data countries EDGAR'!$A$15:$AA$234,'data countries EDGAR'!$M$12,FALSE)/1000 -> 36.690548 | Y29: =IF(AH17>2100,0,Y17) -> -0.73381095 | Z29: =X29-Y29 -> 37.424358 | AA29: =-2*X29*(T29+1)+Y29*4202-2*U29 -> -152650.39 | AB29: =X29*(T29+1)*(T29+1)+Y29*(T29*(T29+1)-2101*(2*T29+1))+U29*(2*T29+1) -> 1.556467e+08 | AC29: =(-AA29-SQRT(AA29^2-4*Z29*AB29))/(2*Z29) -> 2019.5063 | AD29: =(-AA29+SQRT(AA29^2-4*Z29*AB29))/(2*Z29) -> 2059.3983 | AE29: =AD29 -> 2059.3983 | AF29: =(Y29*(T29+0.5)-X29*AG29)/(Y29-X29) -> 2058.616 | AG29: =AD29 -> 2059.3983 | AH29: =ROUNDDOWN(AG29,0) -> 2059 | AI29: =IF($Y$2=0,ROUNDUP(AF29,0),ROUND(AF29,0)) -> 2059 | AJ29: {=IFERROR(INDEX($AN$6:$DP$6,MATCH(_xlfn.AGGREGATE(14,6,(AN29:DP29)/(AN29:DP29<=0),1),AN29:DP29,0)),"-")} -> 2059 | AL29: E(t) | AM29: =H29 -> 36.690548 | AN29: =IF(AN$6<=$T29,0,IF(AN$6<$AH29,$X29+($Y29-$X29)/($AG29-($T29+0.5))*(AN$6+0.5-($T29+0.5)), IF(AN$6=$AH29,($X29+($Y29-$X29)/($AG29-($T29+0.5))*(0.5*($AG29+$AH29)-($T29+0.5)))*($AG29-$AH29)+$Y29*($AH29+1-$AG29), $Y29))) -> 35.752553 | AO29: =IF(AO$6<=$T29,0,IF(AO$6<$AH29,$X29+($Y29-$X29)/($AG29-($T29+0.5))*(AO$6+0.5-($T29+0.5)), IF(AO$6=$AH29,($X29+($Y29-$X29)/($AG29-($T29+0.5))*(0.5*($AG29+$AH29)-($T29+0.5)))*($AG29-$AH29)+$Y29*($AH29+1-$AG29), $Y29))) -> 34.814559 | AP29: =IF(AP$6<=$T29,0,IF(AP$6<$AH29,$X29+($Y29-$X29)/($AG29-($T29+0.5))*(AP$6+0.5-($T29+0.5)), IF(AP$6=$AH29,($X29+($Y29-$X29)/($AG29-($T29+0.5))*(0.5*($AG29+$AH29)-($T29+0.5)))*($AG29-$AH29)+$Y29*($AH29+1-$AG29), $Y29))) -> 33.876564 | AQ29: =IF(AQ$6<=$T29,0,IF(AQ$6<$AH29,$X29+($Y29-$X29)/($AG29-($T29+0.5))*(AQ$6+0.5-($T29+0.5)), IF(AQ$6=$AH29,($X29+($Y29-$X29)/($AG29-($T29+0.5))*(0.5*($AG29+$AH29)-($T29+0.5)))*($AG29-$AH29)+$Y29*($AH29+1-$AG29), $Y29))) -> 32.93857 | AR29: =IF(AR$6<=$T29,0,IF(AR$6<$AH29,$X29+($Y29-$X29)/($AG29-($T29+0.5))*(AR$6+0.5-($T29+0.5)), IF(AR$6=$AH29,($X29+($Y29-$X29)/($AG29-($T29+0.5))*(0.5*($AG29+$AH29)-($T29+0.5)))*($AG29-$AH29)+$Y29*($AH29+1-$AG29), $Y29))) -> 32.000575 | AS29: =IF(AS$6<=$T29,0,IF(AS$6<$AH29,$X29+($Y29-$X29)/($AG29-($T29+0.5))*(AS$6+0.5-($T29+0.5)), IF(AS$6=$AH29,($X29+($Y29-$X29)/($AG29-($T29+0.5))*(0.5*($AG29+$AH29)-($T29+0.5)))*($AG29-$AH29)+$Y29*($AH29+1-$AG29), $Y29))) -> 31.062581 | AT29: =IF(AT$6<=$T29,0,IF(AT$6<$AH29,$X29+($Y29-$X29)/($AG29-($T29+0.5))*(AT$6+0.5-($T29+0.5)), IF(AT$6=$AH29,($X29+($Y29-$X29)/($AG29-($T29+0.5))*(0.5*($AG29+$AH29)-($T29+0.5)))*($AG29-$AH29)+$Y29*($AH29+1-$AG29), $Y29))) -> 30.124586 | AU29: =IF(AU$6<=$T29,0,IF(AU$6<$AH29,$X29+($Y29-$X29)/($AG29-($T29+0.5))*(AU$6+0.5-($T29+0.5)), IF(AU$6=$AH29,($X29+($Y29-$X29)/($AG29-($T29+0.5))*(0.5*($AG29+$AH29)-($T29+0.5)))*($AG29-$AH29)+$Y29*($AH29+1-$AG29), $Y29))) -> 29.186592 | ... DP29: =IF(DP$6<=$T29,0,IF(DP$6<$AH29,$X29+($Y29-$X29)/($AG29-($T29+0.5))*(DP$6+0.5-($T29+0.5)), IF(DP$6=$AH29,($X29+($Y29-$X29)/($AG29-($T29+0.5))*(0.5*($AG29+$AH29)-($T29+0.5)))*($AG29-$AH29)+$Y29*($AH29+1-$AG29), $Y29))) -> -0.73381095
B30: =S30 -> Germany | C30: =C18 -> 668.55 | D30: =D18 -> 0.15 | E30: =E18 -> 0.010690001 | F30: =F18 -> 0.018983097 | G30: =G18 -> 11.859497 | H30: =H18 -> 0.69650021 | I30: =I18 -> 0.64208778 | J30: =J18 -> 0.67066699 | ... M30: =M18 -> 0.57993561 | Q30: =SUMIF(AO30:DQ30,"<0") -> -0.61629077 | R30: =-Q30/U30 -> 0.051966012 | S30: Germany | T30: 2019 | U30: =G30 -> 11.859497 | V30: =SUM(AN30:DP30) -> 11.859497 | W30: =ROUND(V30/U30-1,4) -> 0 | X30: =VLOOKUP($S30,'data countries EDGAR'!$A$15:$AA$234,'data countries EDGAR'!$M$12,FALSE)/1000 -> 0.69650021 | Y30: =IF(AH18>2100,0,Y18) -> -0.013930004 | Z30: =X30-Y30 -> 0.71043022 | AA30: =-2*X30*(T30+1)+Y30*4202-2*U30 -> -2896.1137 | AB30: =X30*(T30+1)*(T30+1)+Y30*(T30*(T30+1)-2101*(2*T30+1))+U30*(2*T30+1) -> 2951297.3 | AC30: =(-AA30-SQRT(AA30^2-4*Z30*AB30))/(2*Z30) -> 2019.5067 | AD30: =(-AA30+SQRT(AA30^2-4*Z30*AB30))/(2*Z30) -> 2057.0566 | AE30: =AD30 -> 2057.0566 | AF30: =(Y30*(T30+0.5)-X30*AG30)/(Y30-X30) -> 2056.3202 | AG30: =AD30 -> 2057.0566 | AH30: =ROUNDDOWN(AG30,0) -> 2057 | AI30: =IF($Y$2=0,ROUNDUP(AF30,0),ROUND(AF30,0)) -> 2056 | AJ30: {=IFERROR(INDEX($AN$6:$DP$6,MATCH(_xlfn.AGGREGATE(14,6,(AN30:DP30)/(AN30:DP30<=0),1),AN30:DP30,0)),"-")} -> 2056 | AL30: E(t) | AM30: =H30 -> 0.69650021 | AN30: =IF(AN$6<=$T30,0,IF(AN$6<$AH30,$X30+($Y30-$X30)/($AG30-($T30+0.5))*(AN$6+0.5-($T30+0.5)), IF(AN$6=$AH30,($X30+($Y30-$X30)/($AG30-($T30+0.5))*(0.5*($AG30+$AH30)-($T30+0.5)))*($AG30-$AH30)+$Y30*($AH30+1-$AG30), $Y30))) -> 0.67758397 | AO30: =IF(AO$6<=$T30,0,IF(AO$6<$AH30,$X30+($Y30-$X30)/($AG30-($T30+0.5))*(AO$6+0.5-($T30+0.5)), IF(AO$6=$AH30,($X30+($Y30-$X30)/($AG30-($T30+0.5))*(0.5*($AG30+$AH30)-($T30+0.5)))*($AG30-$AH30)+$Y30*($AH30+1-$AG30), $Y30))) -> 0.65866772 | AP30: =IF(AP$6<=$T30,0,IF(AP$6<$AH30,$X30+($Y30-$X30)/($AG30-($T30+0.5))*(AP$6+0.5-($T30+0.5)), IF(AP$6=$AH30,($X30+($Y30-$X30)/($AG30-($T30+0.5))*(0.5*($AG30+$AH30)-($T30+0.5)))*($AG30-$AH30)+$Y30*($AH30+1-$AG30), $Y30))) -> 0.63975148 | AQ30: =IF(AQ$6<=$T30,0,IF(AQ$6<$AH30,$X30+($Y30-$X30)/($AG30-($T30+0.5))*(AQ$6+0.5-($T30+0.5)), IF(AQ$6=$AH30,($X30+($Y30-$X30)/($AG30-($T30+0.5))*(0.5*($AG30+$AH30)-($T30+0.5)))*($AG30-$AH30)+$Y30*($AH30+1-$AG30), $Y30))) -> 0.62083523 | AR30: =IF(AR$6<=$T30,0,IF(AR$6<$AH30,$X30+($Y30-$X30)/($AG30-($T30+0.5))*(AR$6+0.5-($T30+0.5)), IF(AR$6=$AH30,($X30+($Y30-$X30)/($AG30-($T30+0.5))*(0.5*($AG30+$AH30)-($T30+0.5)))*($AG30-$AH30)+$Y30*($AH30+1-$AG30), $Y30))) -> 0.60191898 | AS30: =IF(AS$6<=$T30,0,IF(AS$6<$AH30,$X30+($Y30-$X30)/($AG30-($T30+0.5))*(AS$6+0.5-($T30+0.5)), IF(AS$6=$AH30,($X30+($Y30-$X30)/($AG30-($T30+0.5))*(0.5*($AG30+$AH30)-($T30+0.5)))*($AG30-$AH30)+$Y30*($AH30+1-$AG30), $Y30))) -> 0.58300274 | AT30: =IF(AT$6<=$T30,0,IF(AT$6<$AH30,$X30+($Y30-$X30)/($AG30-($T30+0.5))*(AT$6+0.5-($T30+0.5)), IF(AT$6=$AH30,($X30+($Y30-$X30)/($AG30-($T30+0.5))*(0.5*($AG30+$AH30)-($T30+0.5)))*($AG30-$AH30)+$Y30*($AH30+1-$AG30), $Y30))) -> 0.56408649 | AU30: =IF(AU$6<=$T30,0,IF(AU$6<$AH30,$X30+($Y30-$X30)/($AG30-($T30+0.5))*(AU$6+0.5-($T30+0.5)), IF(AU$6=$AH30,($X30+($Y30-$X30)/($AG30-($T30+0.5))*(0.5*($AG30+$AH30)-($T30+0.5)))*($AG30-$AH30)+$Y30*($AH30+1-$AG30), $Y30))) -> 0.54517024 | ... DP30: =IF(DP$6<=$T30,0,IF(DP$6<$AH30,$X30+($Y30-$X30)/($AG30-($T30+0.5))*(DP$6+0.5-($T30+0.5)), IF(DP$6=$AH30,($X30+($Y30-$X30)/($AG30-($T30+0.5))*(0.5*($AG30+$AH30)-($T30+0.5)))*($AG30-$AH30)+$Y30*($AH30+1-$AG30), $Y30))) -> -0.013930004
B32: Actual emissions | AN32: actual | AS32: global total
H33: =H5 -> 2019 | I33: =I5 -> 2020 | J33: =J5 -> 2021 | K33: =K5 -> 2022 | L33: =L5 -> 2023 | M33: =M5 -> 2024 | N33: =N5 -> 2025 | Z33: a | AA33: b | AB33: c | AC33: x_1 | AD33: x_2 | AE33: U | AF33: T | AG33: U | AH33: [U] | AL33: t | AM33: 2019 | AN33: =AM33+1 -> 2020 | AO33: =AN33+1 -> 2021 | AP33: =AO33+1 -> 2022 | AQ33: =AP33+1 -> 2023 | AR33: =AQ33+1 -> 2024 | AS33: =AR33+1 -> 2025 | AT33: =AS33+1 -> 2026 | AU33: =AT33+1 -> 2027 | ... DP33: =DO33+1 -> 2100
B34: =S34 -> China | C34: =C9 -> 668.55 | D34: =D9 -> 0.15 | E34: =E9 -> 0.18414259 | F34: =F9 -> 0.32196462 | G34: =G9 -> 201.42831 | H34: =H9 -> 11.813058 | I34: =I9 -> 11.964129 | J34: =J9 -> 12.551865 | ... N34: =N9 -> 0 | P34: =SUM(I34:O34) -> 63.180647 | Q34: =SUMIF(AO34:DQ34,"<0") -> -13.645543 | R34: =-Q34/U34 -> 0.09870361 | S34: ='web app'!$B$23 -> China | T34: =IF(B34='data countries EDGAR'!A234,'web app'!M23-1,'web app'!M22-1) -> 2024 | U34: =G34-P34 -> 138.24766 | V34: =SUMIFS(AN34:DP34,$AN$6:$DP$6,">"&T34) -> 138.24766 | W34: =ROUND(V34/U34-1,4) -> 0 | X34: =_xlfn.XLOOKUP(T34,$H$33:$O$33,H34:O34) -> 13.124728 | Y34: =$Y$2*X34 -> -0.26249456 | Z34: =X34-Y34 -> 13.387223 | AA34: =-2*X34*(T34+1)+Y34*4202-2*U34 -> -54534.646 | AB34: =X34*(T34+1)*(T34+1)+Y34*(T34*(T34+1)-2101*(2*T34+1))+U34*(2*T34+1) -> 55536520 | AC34: =(-AA34-SQRT(AA34^2-4*Z34*AB34))/(2*Z34) -> 2024.5102 | AD34: =(-AA34+SQRT(AA34^2-4*Z34*AB34))/(2*Z34) -> 2049.1239 | AE34: =AD34 -> 2049.1239 | AF34: =(Y34*(T34+0.5)-X34*AG34)/(Y34-X34) -> 2048.6411 | AG34: =AD34 -> 2049.1239 | AH34: =ROUNDDOWN(AG34,0) -> 2049 | AI34: =IF($Y$2=0,ROUNDUP(AF34,0),ROUND(AF34,0)) -> 2049 | AJ34: {=IFERROR(INDEX($AN$6:$DP$6,MATCH(_xlfn.AGGREGATE(14,6,(AN34:DP34)/(AN34:DP34<=0),1),AN34:DP34,0)),"-")} -> 2049 | AL34: E(t) | AM34: =H34 -> 11.813058 | AN34: =I34 -> 11.964129 | AO34: =J34 -> 12.551865 | AP34: =K34 -> 12.518684 | AQ34: =L34 -> 13.021242 | AR34: =M34 -> 13.124728 | AS34: =IF(B34='data countries EDGAR'!$A$234,paths!N34,IF(AS$6<=$T34,0,IF(AS$6<$AH34,$X34+($Y34-$X34)/($AG34-($T34+0.5))*(AS$6+0.5-($T34+0.5)), IF(AS$6=$AH34,($X34+($Y34-$X34)/($AG34-($T34+0.5))*(0.5*($AG34+$AH34)-($T34+0.5)))*($AG34-$AH34)+$Y34*($AH34+1-$AG34), $Y34)))) -> 12.58106 | AT34: =IF(AT$6<=$T34,0,IF(AT$6<$AH34,$X34+($Y34-$X34)/($AG34-($T34+0.5))*(AT$6+0.5-($T34+0.5)), IF(AT$6=$AH34,($X34+($Y34-$X34)/($AG34-($T34+0.5))*(0.5*($AG34+$AH34)-($T34+0.5)))*($AG34-$AH34)+$Y34*($AH34+1-$AG34), $Y34))) -> 12.037393 | AU34: =IF(AU$6<=$T34,0,IF(AU$6<$AH34,$X34+($Y34-$X34)/($AG34-($T34+0.5))*(AU$6+0.5-($T34+0.5)), IF(AU$6=$AH34,($X34+($Y34-$X34)/($AG34-($T34+0.5))*(0.5*($AG34+$AH34)-($T34+0.5)))*($AG34-$AH34)+$Y34*($AH34+1-$AG34), $Y34))) -> 11.493725 | AV34: =IF(AV$6<=$T34,0,IF(AV$6<$AH34,$X34+($Y34-$X34)/($AG34-($T34+0.5))*(AV$6+0.5-($T34+0.5)), IF(AV$6=$AH34,($X34+($Y34-$X34)/($AG34-($T34+0.5))*(0.5*($AG34+$AH34)-($T34+0.5)))*($AG34-$AH34)+$Y34*($AH34+1-$AG34), $Y34))) -> 10.950058 | AW34: =IF(AW$6<=$T34,0,IF(AW$6<$AH34,$X34+($Y34-$X34)/($AG34-($T34+0.5))*(AW$6+0.5-($T34+0.5)), IF(AW$6=$AH34,($X34+($Y34-$X34)/($AG34-($T34+0.5))*(0.5*($AG34+$AH34)-($T34+0.5)))*($AG34-$AH34)+$Y34*($AH34+1-$AG34), $Y34))) -> 10.40639 | AX34: =IF(AX$6<=$T34,0,IF(AX$6<$AH34,$X34+($Y34-$X34)/($AG34-($T34+0.5))*(AX$6+0.5-($T34+0.5)), IF(AX$6=$AH34,($X34+($Y34-$X34)/($AG34-($T34+0.5))*(0.5*($AG34+$AH34)-($T34+0.5)))*($AG34-$AH34)+$Y34*($AH34+1-$AG34), $Y34))) -> 9.8627226 | AY34: =IF(AY$6<=$T34,0,IF(AY$6<$AH34,$X34+($Y34-$X34)/($AG34-($T34+0.5))*(AY$6+0.5-($T34+0.5)), IF(AY$6=$AH34,($X34+($Y34-$X34)/($AG34-($T34+0.5))*(0.5*($AG34+$AH34)-($T34+0.5)))*($AG34-$AH34)+$Y34*($AH34+1-$AG34), $Y34))) -> 9.3190551 | AZ34: =IF(AZ$6<=$T34,0,IF(AZ$6<$AH34,$X34+($Y34-$X34)/($AG34-($T34+0.5))*(AZ$6+0.5-($T34+0.5)), IF(AZ$6=$AH34,($X34+($Y34-$X34)/($AG34-($T34+0.5))*(0.5*($AG34+$AH34)-($T34+0.5)))*($AG34-$AH34)+$Y34*($AH34+1-$AG34), $Y34))) -> 8.7753875 | BA34: =IF(BA$6<=$T34,0,IF(BA$6<$AH34,$X34+($Y34-$X34)/($AG34-($T34+0.5))*(BA$6+0.5-($T34+0.5)), IF(BA$6=$AH34,($X34+($Y34-$X34)/($AG34-($T34+0.5))*(0.5*($AG34+$AH34)-($T34+0.5)))*($AG34-$AH34)+$Y34*($AH34+1-$AG34), $Y34))) -> 8.23172 | ... DP34: =IF(DP$6<=$T34,0,IF(DP$6<$AH34,$X34+($Y34-$X34)/($AG34-($T34+0.5))*(DP$6+0.5-($T34+0.5)), IF(DP$6=$AH34,($X34+($Y34-$X34)/($AG34-($T34+0.5))*(0.5*($AG34+$AH34)-($T34+0.5)))*($AG34-$AH34)+$Y34*($AH34+1-$AG34), $Y34))) -> -0.26249456
B36: =S36 -> China | C36: =C11 -> 668.55 | D36: =D11 -> 0.15 | E36: =E11 -> 0.18414259 | F36: =F11 -> 0.32196462 | G36: =G11 -> 201.42831 | H36: =H11 -> 11.813058 | I36: =I11 -> 11.964129 | J36: =J11 -> 12.551865 | ... M36: =M11 -> 13.124728 | P36: =SUM(I36:O36) -> 63.180647 | Q36: =SUMIF(AO36:DQ36,"<0") -> -13.645543 | R36: =-Q36/U36 -> 0.09870361 | S36: China | T36: ='web app'!$M$22-1 -> 2024 | U36: =G36-P36 -> 138.24766 | V36: =SUMIFS(AN36:DP36,$AN$6:$DP$6,">"&T36) -> 138.24766 | W36: =ROUND(V36/U36-1,4) -> 0 | X36: =_xlfn.XLOOKUP(T36,$H$33:$O$33,H36:O36) -> 13.124728 | Y36: =$Y$2*X36 -> -0.26249456 | Z36: =X36-Y36 -> 13.387223 | AA36: =-2*X36*(T36+1)+Y36*4202-2*U36 -> -54534.646 | AB36: =X36*(T36+1)*(T36+1)+Y36*(T36*(T36+1)-2101*(2*T36+1))+U36*(2*T36+1) -> 55536520 | AC36: =(-AA36-SQRT(AA36^2-4*Z36*AB36))/(2*Z36) -> 2024.5102 | AD36: =(-AA36+SQRT(AA36^2-4*Z36*AB36))/(2*Z36) -> 2049.1239 | AE36: =AD36 -> 2049.1239 | AF36: =(Y36*(T36+0.5)-X36*AG36)/(Y36-X36) -> 2048.6411 | AG36: =AD36 -> 2049.1239 | AH36: =ROUNDDOWN(AG36,0) -> 2049 | AI36: =IF($Y$2=0,ROUNDUP(AF36,0),ROUND(AF36,0)) -> 2049 | AJ36: {=IFERROR(INDEX($AN$6:$DP$6,MATCH(_xlfn.AGGREGATE(14,6,(AN36:DP36)/(AN36:DP36<=0),1),AN36:DP36,0)),"-")} -> 2049 | AL36: E(t) | AM36: =H36 -> 11.813058 | AN36: =I36 -> 11.964129 | AO36: =J36 -> 12.551865 | AP36: =K36 -> 12.518684 | AQ36: =L36 -> 13.021242 | AR36: =M36 -> 13.124728 | AS36: =IF(AS$6<=$T36,0,IF(AS$6<$AH36,$X36+($Y36-$X36)/($AG36-($T36+0.5))*(AS$6+0.5-($T36+0.5)), IF(AS$6=$AH36,($X36+($Y36-$X36)/($AG36-($T36+0.5))*(0.5*($AG36+$AH36)-($T36+0.5)))*($AG36-$AH36)+$Y36*($AH36+1-$AG36), $Y36))) -> 12.58106 | AT36: =IF(AT$6<=$T36,0,IF(AT$6<$AH36,$X36+($Y36-$X36)/($AG36-($T36+0.5))*(AT$6+0.5-($T36+0.5)), IF(AT$6=$AH36,($X36+($Y36-$X36)/($AG36-($T36+0.5))*(0.5*($AG36+$AH36)-($T36+0.5)))*($AG36-$AH36)+$Y36*($AH36+1-$AG36), $Y36))) -> 12.037393 | AU36: =IF(AU$6<=$T36,0,IF(AU$6<$AH36,$X36+($Y36-$X36)/($AG36-($T36+0.5))*(AU$6+0.5-($T36+0.5)), IF(AU$6=$AH36,($X36+($Y36-$X36)/($AG36-($T36+0.5))*(0.5*($AG36+$AH36)-($T36+0.5)))*($AG36-$AH36)+$Y36*($AH36+1-$AG36), $Y36))) -> 11.493725 | AV36: =IF(AV$6<=$T36,0,IF(AV$6<$AH36,$X36+($Y36-$X36)/($AG36-($T36+0.5))*(AV$6+0.5-($T36+0.5)), IF(AV$6=$AH36,($X36+($Y36-$X36)/($AG36-($T36+0.5))*(0.5*($AG36+$AH36)-($T36+0.5)))*($AG36-$AH36)+$Y36*($AH36+1-$AG36), $Y36))) -> 10.950058 | AW36: =IF(AW$6<=$T36,0,IF(AW$6<$AH36,$X36+($Y36-$X36)/($AG36-($T36+0.5))*(AW$6+0.5-($T36+0.5)), IF(AW$6=$AH36,($X36+($Y36-$X36)/($AG36-($T36+0.5))*(0.5*($AG36+$AH36)-($T36+0.5)))*($AG36-$AH36)+$Y36*($AH36+1-$AG36), $Y36))) -> 10.40639 | AX36: =IF(AX$6<=$T36,0,IF(AX$6<$AH36,$X36+($Y36-$X36)/($AG36-($T36+0.5))*(AX$6+0.5-($T36+0.5)), IF(AX$6=$AH36,($X36+($Y36-$X36)/($AG36-($T36+0.5))*(0.5*($AG36+$AH36)-($T36+0.5)))*($AG36-$AH36)+$Y36*($AH36+1-$AG36), $Y36))) -> 9.8627226 | AY36: =IF(AY$6<=$T36,0,IF(AY$6<$AH36,$X36+($Y36-$X36)/($AG36-($T36+0.5))*(AY$6+0.5-($T36+0.5)), IF(AY$6=$AH36,($X36+($Y36-$X36)/($AG36-($T36+0.5))*(0.5*($AG36+$AH36)-($T36+0.5)))*($AG36-$AH36)+$Y36*($AH36+1-$AG36), $Y36))) -> 9.3190551 | AZ36: =IF(AZ$6<=$T36,0,IF(AZ$6<$AH36,$X36+($Y36-$X36)/($AG36-($T36+0.5))*(AZ$6+0.5-($T36+0.5)), IF(AZ$6=$AH36,($X36+($Y36-$X36)/($AG36-($T36+0.5))*(0.5*($AG36+$AH36)-($T36+0.5)))*($AG36-$AH36)+$Y36*($AH36+1-$AG36), $Y36))) -> 8.7753875 | ... DP36: =IF(DP$6<=$T36,0,IF(DP$6<$AH36,$X36+($Y36-$X36)/($AG36-($T36+0.5))*(DP$6+0.5-($T36+0.5)), IF(DP$6=$AH36,($X36+($Y36-$X36)/($AG36-($T36+0.5))*(0.5*($AG36+$AH36)-($T36+0.5)))*($AG36-$AH36)+$Y36*($AH36+1-$AG36), $Y36))) -> -0.26249456
B37: =S37 -> United States | C37: =C12 -> 668.55 | D37: =D12 -> 0.15 | E37: =E12 -> 0.042674232 | F37: =F12 -> 0.13540033 | G37: =G12 -> 81.223084 | H37: =H12 -> 4.9679122 | I37: =I12 -> 4.4668765 | J37: =J12 -> 4.7543785 | ... M37: =M12 -> 4.6321649 | P37: =SUM(I37:O37) -> 23.287454 | Q37: =SUMIF(AO37:DQ37,"<0") -> -4.4573401 | R37: =-Q37/U37 -> 0.076936076 | S37: United States | T37: ='web app'!$M$22-1 -> 2024 | U37: =G37-P37 -> 57.93563 | V37: =SUMIFS(AN37:DP37,$AN$6:$DP$6,">"&T37) -> 57.93563 | W37: =ROUND(V37/U37-1,4) -> 0 | X37: =_xlfn.XLOOKUP(T37,$H$33:$O$33,H37:O37) -> 4.6321649 | Y37: =$Y$2*X37 -> -0.092643298 | Z37: =X37-Y37 -> 4.7248082 | AA37: =-2*X37*(T37+1)+Y37*4202-2*U37 -> -19265.426 | AB37: =X37*(T37+1)*(T37+1)+Y37*(T37*(T37+1)-2101*(2*T37+1))+U37*(2*T37+1) -> 19637756 | AC37: =(-AA37-SQRT(AA37^2-4*Z37*AB37))/(2*Z37) -> 2024.5088 | AD37: =(-AA37+SQRT(AA37^2-4*Z37*AB37))/(2*Z37) -> 2052.9956 | AE37: =AD37 -> 2052.9956 | AF37: =(Y37*(T37+0.5)-X37*AG37)/(Y37-X37) -> 2052.4369 | AG37: =AD37 -> 2052.9956 | AH37: =ROUNDDOWN(AG37,0) -> 2052 | AI37: =IF($Y$2=0,ROUNDUP(AF37,0),ROUND(AF37,0)) -> 2052 | AJ37: {=IFERROR(INDEX($AN$6:$DP$6,MATCH(_xlfn.AGGREGATE(14,6,(AN37:DP37)/(AN37:DP37<=0),1),AN37:DP37,0)),"-")} -> 2052 | AL37: E(t) | AM37: =H37 -> 4.9679122 | AN37: =I37 -> 4.4668765 | AO37: =J37 -> 4.7543785 | AP37: =K37 -> 4.8157665 | AQ37: =L37 -> 4.6182675 | AR37: =M37 -> 4.6321649 | AS37: =IF(AS$6<=$T37,0,IF(AS$6<$AH37,$X37+($Y37-$X37)/($AG37-($T37+0.5))*(AS$6+0.5-($T37+0.5)), IF(AS$6=$AH37,($X37+($Y37-$X37)/($AG37-($T37+0.5))*(0.5*($AG37+$AH37)-($T37+0.5)))*($AG37-$AH37)+$Y37*($AH37+1-$AG37), $Y37))) -> 4.4663567 | AT37: =IF(AT$6<=$T37,0,IF(AT$6<$AH37,$X37+($Y37-$X37)/($AG37-($T37+0.5))*(AT$6+0.5-($T37+0.5)), IF(AT$6=$AH37,($X37+($Y37-$X37)/($AG37-($T37+0.5))*(0.5*($AG37+$AH37)-($T37+0.5)))*($AG37-$AH37)+$Y37*($AH37+1-$AG37), $Y37))) -> 4.3005486 | AU37: =IF(AU$6<=$T37,0,IF(AU$6<$AH37,$X37+($Y37-$X37)/($AG37-($T37+0.5))*(AU$6+0.5-($T37+0.5)), IF(AU$6=$AH37,($X37+($Y37-$X37)/($AG37-($T37+0.5))*(0.5*($AG37+$AH37)-($T37+0.5)))*($AG37-$AH37)+$Y37*($AH37+1-$AG37), $Y37))) -> 4.1347404 | AV37: =IF(AV$6<=$T37,0,IF(AV$6<$AH37,$X37+($Y37-$X37)/($AG37-($T37+0.5))*(AV$6+0.5-($T37+0.5)), IF(AV$6=$AH37,($X37+($Y37-$X37)/($AG37-($T37+0.5))*(0.5*($AG37+$AH37)-($T37+0.5)))*($AG37-$AH37)+$Y37*($AH37+1-$AG37), $Y37))) -> 3.9689323 | AW37: =IF(AW$6<=$T37,0,IF(AW$6<$AH37,$X37+($Y37-$X37)/($AG37-($T37+0.5))*(AW$6+0.5-($T37+0.5)), IF(AW$6=$AH37,($X37+($Y37-$X37)/($AG37-($T37+0.5))*(0.5*($AG37+$AH37)-($T37+0.5)))*($AG37-$AH37)+$Y37*($AH37+1-$AG37), $Y37))) -> 3.8031241 | AX37: =IF(AX$6<=$T37,0,IF(AX$6<$AH37,$X37+($Y37-$X37)/($AG37-($T37+0.5))*(AX$6+0.5-($T37+0.5)), IF(AX$6=$AH37,($X37+($Y37-$X37)/($AG37-($T37+0.5))*(0.5*($AG37+$AH37)-($T37+0.5)))*($AG37-$AH37)+$Y37*($AH37+1-$AG37), $Y37))) -> 3.637316 | AY37: =IF(AY$6<=$T37,0,IF(AY$6<$AH37,$X37+($Y37-$X37)/($AG37-($T37+0.5))*(AY$6+0.5-($T37+0.5)), IF(AY$6=$AH37,($X37+($Y37-$X37)/($AG37-($T37+0.5))*(0.5*($AG37+$AH37)-($T37+0.5)))*($AG37-$AH37)+$Y37*($AH37+1-$AG37), $Y37))) -> 3.4715078 | AZ37: =IF(AZ$6<=$T37,0,IF(AZ$6<$AH37,$X37+($Y37-$X37)/($AG37-($T37+0.5))*(AZ$6+0.5-($T37+0.5)), IF(AZ$6=$AH37,($X37+($Y37-$X37)/($AG37-($T37+0.5))*(0.5*($AG37+$AH37)-($T37+0.5)))*($AG37-$AH37)+$Y37*($AH37+1-$AG37), $Y37))) -> 3.3056997 | ... DP37: =IF(DP$6<=$T37,0,IF(DP$6<$AH37,$X37+($Y37-$X37)/($AG37-($T37+0.5))*(DP$6+0.5-($T37+0.5)), IF(DP$6=$AH37,($X37+($Y37-$X37)/($AG37-($T37+0.5))*(0.5*($AG37+$AH37)-($T37+0.5)))*($AG37-$AH37)+$Y37*($AH37+1-$AG37), $Y37))) -> -0.092643298
B38: =S38 -> EU27 | C38: =C13 -> 668.55 | D38: =D13 -> 0.15 | E38: =E13 -> 0.05749956 | F38: =F13 -> 0.079267912 | G38: =G13 -> 50.811578 | H38: =H13 -> 2.9083831 | I38: =I13 -> 2.6384092 | J38: =J13 -> 2.8183079 | ... M38: =M13 -> 2.4623896 | P38: =SUM(I38:O38) -> 13.177466 | Q38: =SUMIF(AO38:DQ38,"<0") -> -2.1104651 | R38: =-Q38/U38 -> 0.056078515 | S38: EU27 | T38: ='web app'!$M$22-1 -> 2024 | U38: =G38-P38 -> 37.634112 | V38: =SUMIFS(AN38:DP38,$AN$6:$DP$6,">"&T38) -> 37.634112 | W38: =ROUND(V38/U38-1,4) -> 0 | X38: =_xlfn.XLOOKUP(T38,$H$33:$O$33,H38:O38) -> 2.4623896 | Y38: =$Y$2*X38 -> -0.049247791 | Z38: =X38-Y38 -> 2.5116373 | AA38: =-2*X38*(T38+1)+Y38*4202-2*U38 -> -10254.885 | AB38: =X38*(T38+1)*(T38+1)+Y38*(T38*(T38+1)-2101*(2*T38+1))+U38*(2*T38+1) -> 10466818 | AC38: =(-AA38-SQRT(AA38^2-4*Z38*AB38))/(2*Z38) -> 2024.5074 | AD38: =(-AA38+SQRT(AA38^2-4*Z38*AB38))/(2*Z38) -> 2058.4408 | AE38: =AD38 -> 2058.4408 | AF38: =(Y38*(T38+0.5)-X38*AG38)/(Y38-X38) -> 2057.7753 | AG38: =AD38 -> 2058.4408 | AH38: =ROUNDDOWN(AG38,0) -> 2058 | AI38: =IF($Y$2=0,ROUNDUP(AF38,0),ROUND(AF38,0)) -> 2058 | AJ38: {=IFERROR(INDEX($AN$6:$DP$6,MATCH(_xlfn.AGGREGATE(14,6,(AN38:DP38)/(AN38:DP38<=0),1),AN38:DP38,0)),"-")} -> 2058 | AL38: E(t) | AM38: =H38 -> 2.9083831 | AN38: =I38 -> 2.6384092 | AO38: =J38 -> 2.8183079 | AP38: =K38 -> 2.7486638 | AQ38: =L38 -> 2.5096953 | AR38: =M38 -> 2.4623896 | AS38: =IF(AS$6<=$T38,0,IF(AS$6<$AH38,$X38+($Y38-$X38)/($AG38-($T38+0.5))*(AS$6+0.5-($T38+0.5)), IF(AS$6=$AH38,($X38+($Y38-$X38)/($AG38-($T38+0.5))*(0.5*($AG38+$AH38)-($T38+0.5)))*($AG38-$AH38)+$Y38*($AH38+1-$AG38), $Y38))) -> 2.3883891 | AT38: =IF(AT$6<=$T38,0,IF(AT$6<$AH38,$X38+($Y38-$X38)/($AG38-($T38+0.5))*(AT$6+0.5-($T38+0.5)), IF(AT$6=$AH38,($X38+($Y38-$X38)/($AG38-($T38+0.5))*(0.5*($AG38+$AH38)-($T38+0.5)))*($AG38-$AH38)+$Y38*($AH38+1-$AG38), $Y38))) -> 2.3143886 | AU38: =IF(AU$6<=$T38,0,IF(AU$6<$AH38,$X38+($Y38-$X38)/($AG38-($T38+0.5))*(AU$6+0.5-($T38+0.5)), IF(AU$6=$AH38,($X38+($Y38-$X38)/($AG38-($T38+0.5))*(0.5*($AG38+$AH38)-($T38+0.5)))*($AG38-$AH38)+$Y38*($AH38+1-$AG38), $Y38))) -> 2.2403881 | AV38: =IF(AV$6<=$T38,0,IF(AV$6<$AH38,$X38+($Y38-$X38)/($AG38-($T38+0.5))*(AV$6+0.5-($T38+0.5)), IF(AV$6=$AH38,($X38+($Y38-$X38)/($AG38-($T38+0.5))*(0.5*($AG38+$AH38)-($T38+0.5)))*($AG38-$AH38)+$Y38*($AH38+1-$AG38), $Y38))) -> 2.1663876 | AW38: =IF(AW$6<=$T38,0,IF(AW$6<$AH38,$X38+($Y38-$X38)/($AG38-($T38+0.5))*(AW$6+0.5-($T38+0.5)), IF(AW$6=$AH38,($X38+($Y38-$X38)/($AG38-($T38+0.5))*(0.5*($AG38+$AH38)-($T38+0.5)))*($AG38-$AH38)+$Y38*($AH38+1-$AG38), $Y38))) -> 2.0923871 | AX38: =IF(AX$6<=$T38,0,IF(AX$6<$AH38,$X38+($Y38-$X38)/($AG38-($T38+0.5))*(AX$6+0.5-($T38+0.5)), IF(AX$6=$AH38,($X38+($Y38-$X38)/($AG38-($T38+0.5))*(0.5*($AG38+$AH38)-($T38+0.5)))*($AG38-$AH38)+$Y38*($AH38+1-$AG38), $Y38))) -> 2.0183866 | AY38: =IF(AY$6<=$T38,0,IF(AY$6<$AH38,$X38+($Y38-$X38)/($AG38-($T38+0.5))*(AY$6+0.5-($T38+0.5)), IF(AY$6=$AH38,($X38+($Y38-$X38)/($AG38-($T38+0.5))*(0.5*($AG38+$AH38)-($T38+0.5)))*($AG38-$AH38)+$Y38*($AH38+1-$AG38), $Y38))) -> 1.9443861 | AZ38: =IF(AZ$6<=$T38,0,IF(AZ$6<$AH38,$X38+($Y38-$X38)/($AG38-($T38+0.5))*(AZ$6+0.5-($T38+0.5)), IF(AZ$6=$AH38,($X38+($Y38-$X38)/($AG38-($T38+0.5))*(0.5*($AG38+$AH38)-($T38+0.5)))*($AG38-$AH38)+$Y38*($AH38+1-$AG38), $Y38))) -> 1.8703856 | ... DP38: =IF(DP$6<=$T38,0,IF(DP$6<$AH38,$X38+($Y38-$X38)/($AG38-($T38+0.5))*(DP$6+0.5-($T38+0.5)), IF(DP$6=$AH38,($X38+($Y38-$X38)/($AG38-($T38+0.5))*(0.5*($AG38+$AH38)-($T38+0.5)))*($AG38-$AH38)+$Y38*($AH38+1-$AG38), $Y38))) -> -0.049247791
B39: =S39 -> India | C39: =C14 -> 668.55 | D39: =D14 -> 0.15 | E39: =E14 -> 0.17748722 | F39: =F14 -> 0.069540666 | G39: =G14 -> 57.316563 | H39: =H14 -> 2.5514851 | I39: =I14 -> 2.356959 | J39: =J14 -> 2.5979343 | ... M39: =M14 -> 3.1538291 | P39: =SUM(I39:O39) -> 13.930326 | Q39: =SUMIF(AO39:DQ39,"<0") -> -2.8911743 | R39: =-Q39/U39 -> 0.066638052 | S39: India | T39: ='web app'!$M$22-1 -> 2024 | U39: =G39-P39 -> 43.386237 | V39: =SUMIFS(AN39:DP39,$AN$6:$DP$6,">"&T39) -> 43.386237 | W39: =ROUND(V39/U39-1,4) -> 0 | X39: =_xlfn.XLOOKUP(T39,$H$33:$O$33,H39:O39) -> 3.1538291 | Y39: =$Y$2*X39 -> -0.063076583 | Z39: =X39-Y39 -> 3.2169057 | AA39: =-2*X39*(T39+1)+Y39*4202-2*U39 -> -13124.828 | AB39: =X39*(T39+1)*(T39+1)+Y39*(T39*(T39+1)-2101*(2*T39+1))+U39*(2*T39+1) -> 13386405 | AC39: =(-AA39-SQRT(AA39^2-4*Z39*AB39))/(2*Z39) -> 2024.5081 | AD39: =(-AA39+SQRT(AA39^2-4*Z39*AB39))/(2*Z39) -> 2055.4462 | AE39: =AD39 -> 2055.4462 | AF39: =(Y39*(T39+0.5)-X39*AG39)/(Y39-X39) -> 2054.8394 | AG39: =AD39 -> 2055.4462 | AH39: =ROUNDDOWN(AG39,0) -> 2055 | AI39: =IF($Y$2=0,ROUNDUP(AF39,0),ROUND(AF39,0)) -> 2055 | AJ39: {=IFERROR(INDEX($AN$6:$DP$6,MATCH(_xlfn.AGGREGATE(14,6,(AN39:DP39)/(AN39:DP39<=0),1),AN39:DP39,0)),"-")} -> 2055 | AL39: E(t) | AM39: =H39 -> 2.5514851 | AN39: =I39 -> 2.356959 | AO39: =J39 -> 2.5979343 | AP39: =K39 -> 2.8070805 | AQ39: =L39 -> 3.0145226 | AR39: =M39 -> 3.1538291 | AS39: =IF(AS$6<=$T39,0,IF(AS$6<$AH39,$X39+($Y39-$X39)/($AG39-($T39+0.5))*(AS$6+0.5-($T39+0.5)), IF(AS$6=$AH39,($X39+($Y39-$X39)/($AG39-($T39+0.5))*(0.5*($AG39+$AH39)-($T39+0.5)))*($AG39-$AH39)+$Y39*($AH39+1-$AG39), $Y39))) -> 3.0498776 | AT39: =IF(AT$6<=$T39,0,IF(AT$6<$AH39,$X39+($Y39-$X39)/($AG39-($T39+0.5))*(AT$6+0.5-($T39+0.5)), IF(AT$6=$AH39,($X39+($Y39-$X39)/($AG39-($T39+0.5))*(0.5*($AG39+$AH39)-($T39+0.5)))*($AG39-$AH39)+$Y39*($AH39+1-$AG39), $Y39))) -> 2.9459261 | AU39: =IF(AU$6<=$T39,0,IF(AU$6<$AH39,$X39+($Y39-$X39)/($AG39-($T39+0.5))*(AU$6+0.5-($T39+0.5)), IF(AU$6=$AH39,($X39+($Y39-$X39)/($AG39-($T39+0.5))*(0.5*($AG39+$AH39)-($T39+0.5)))*($AG39-$AH39)+$Y39*($AH39+1-$AG39), $Y39))) -> 2.8419745 | AV39: =IF(AV$6<=$T39,0,IF(AV$6<$AH39,$X39+($Y39-$X39)/($AG39-($T39+0.5))*(AV$6+0.5-($T39+0.5)), IF(AV$6=$AH39,($X39+($Y39-$X39)/($AG39-($T39+0.5))*(0.5*($AG39+$AH39)-($T39+0.5)))*($AG39-$AH39)+$Y39*($AH39+1-$AG39), $Y39))) -> 2.738023 | AW39: =IF(AW$6<=$T39,0,IF(AW$6<$AH39,$X39+($Y39-$X39)/($AG39-($T39+0.5))*(AW$6+0.5-($T39+0.5)), IF(AW$6=$AH39,($X39+($Y39-$X39)/($AG39-($T39+0.5))*(0.5*($AG39+$AH39)-($T39+0.5)))*($AG39-$AH39)+$Y39*($AH39+1-$AG39), $Y39))) -> 2.6340715 | AX39: =IF(AX$6<=$T39,0,IF(AX$6<$AH39,$X39+($Y39-$X39)/($AG39-($T39+0.5))*(AX$6+0.5-($T39+0.5)), IF(AX$6=$AH39,($X39+($Y39-$X39)/($AG39-($T39+0.5))*(0.5*($AG39+$AH39)-($T39+0.5)))*($AG39-$AH39)+$Y39*($AH39+1-$AG39), $Y39))) -> 2.5301199 | AY39: =IF(AY$6<=$T39,0,IF(AY$6<$AH39,$X39+($Y39-$X39)/($AG39-($T39+0.5))*(AY$6+0.5-($T39+0.5)), IF(AY$6=$AH39,($X39+($Y39-$X39)/($AG39-($T39+0.5))*(0.5*($AG39+$AH39)-($T39+0.5)))*($AG39-$AH39)+$Y39*($AH39+1-$AG39), $Y39))) -> 2.4261684 | AZ39: =IF(AZ$6<=$T39,0,IF(AZ$6<$AH39,$X39+($Y39-$X39)/($AG39-($T39+0.5))*(AZ$6+0.5-($T39+0.5)), IF(AZ$6=$AH39,($X39+($Y39-$X39)/($AG39-($T39+0.5))*(0.5*($AG39+$AH39)-($T39+0.5)))*($AG39-$AH39)+$Y39*($AH39+1-$AG39), $Y39))) -> 2.3222169 | ... DP39: =IF(DP$6<=$T39,0,IF(DP$6<$AH39,$X39+($Y39-$X39)/($AG39-($T39+0.5))*(DP$6+0.5-($T39+0.5)), IF(DP$6=$AH39,($X39+($Y39-$X39)/($AG39-($T39+0.5))*(0.5*($AG39+$AH39)-($T39+0.5)))*($AG39-$AH39)+$Y39*($AH39+1-$AG39), $Y39))) -> -0.063076583
B40: =S40 -> Russia | C40: =C15 -> 668.55 | D40: =D15 -> 0.15 | E40: =E15 -> 0.018659255 | F40: =F15 -> 0.050639801 | G40: =G15 -> 30.64815 | H40: =H15 -> 1.858002 | I40: =I15 -> 1.7841991 | J40: =J15 -> 1.9384596 | ... M40: =M15 -> 2.0091541 | P40: =SUM(I40:O40) -> 9.575588 | Q40: =SUMIF(AO40:DQ40,"<0") -> -2.0894678 | R40: =-Q40/U40 -> 0.09915585 | S40: Russia | T40: ='web app'!$M$22-1 -> 2024 | U40: =G40-P40 -> 21.072562 | V40: =SUMIFS(AN40:DP40,$AN$6:$DP$6,">"&T40) -> 21.072562 | W40: =ROUND(V40/U40-1,4) -> 0 | X40: =_xlfn.XLOOKUP(T40,$H$33:$O$33,H40:O40) -> 2.0091541 | Y40: =$Y$2*X40 -> -0.040183082 | Z40: =X40-Y40 -> 2.0493372 | AA40: =-2*X40*(T40+1)+Y40*4202-2*U40 -> -8348.0685 | AB40: =X40*(T40+1)*(T40+1)+Y40*(T40*(T40+1)-2101*(2*T40+1))+U40*(2*T40+1) -> 8501251.4 | AC40: =(-AA40-SQRT(AA40^2-4*Z40*AB40))/(2*Z40) -> 2024.5102 | AD40: =(-AA40+SQRT(AA40^2-4*Z40*AB40))/(2*Z40) -> 2049.0354 | AE40: =AD40 -> 2049.0354 | AF40: =(Y40*(T40+0.5)-X40*AG40)/(Y40-X40) -> 2048.5544 | AG40: =AD40 -> 2049.0354 | AH40: =ROUNDDOWN(AG40,0) -> 2049 | AI40: =IF($Y$2=0,ROUNDUP(AF40,0),ROUND(AF40,0)) -> 2049 | AJ40: {=IFERROR(INDEX($AN$6:$DP$6,MATCH(_xlfn.AGGREGATE(14,6,(AN40:DP40)/(AN40:DP40<=0),1),AN40:DP40,0)),"-")} -> 2049 | AL40: E(t) | AM40: =H40 -> 1.858002 | AN40: =I40 -> 1.7841991 | AO40: =J40 -> 1.9384596 | AP40: =K40 -> 1.8954729 | AQ40: =L40 -> 1.9483024 | AR40: =M40 -> 2.0091541 | AS40: =IF(AS$6<=$T40,0,IF(AS$6<$AH40,$X40+($Y40-$X40)/($AG40-($T40+0.5))*(AS$6+0.5-($T40+0.5)), IF(AS$6=$AH40,($X40+($Y40-$X40)/($AG40-($T40+0.5))*(0.5*($AG40+$AH40)-($T40+0.5)))*($AG40-$AH40)+$Y40*($AH40+1-$AG40), $Y40))) -> 1.9256285 | AT40: =IF(AT$6<=$T40,0,IF(AT$6<$AH40,$X40+($Y40-$X40)/($AG40-($T40+0.5))*(AT$6+0.5-($T40+0.5)), IF(AT$6=$AH40,($X40+($Y40-$X40)/($AG40-($T40+0.5))*(0.5*($AG40+$AH40)-($T40+0.5)))*($AG40-$AH40)+$Y40*($AH40+1-$AG40), $Y40))) -> 1.842103 | AU40: =IF(AU$6<=$T40,0,IF(AU$6<$AH40,$X40+($Y40-$X40)/($AG40-($T40+0.5))*(AU$6+0.5-($T40+0.5)), IF(AU$6=$AH40,($X40+($Y40-$X40)/($AG40-($T40+0.5))*(0.5*($AG40+$AH40)-($T40+0.5)))*($AG40-$AH40)+$Y40*($AH40+1-$AG40), $Y40))) -> 1.7585774 | AV40: =IF(AV$6<=$T40,0,IF(AV$6<$AH40,$X40+($Y40-$X40)/($AG40-($T40+0.5))*(AV$6+0.5-($T40+0.5)), IF(AV$6=$AH40,($X40+($Y40-$X40)/($AG40-($T40+0.5))*(0.5*($AG40+$AH40)-($T40+0.5)))*($AG40-$AH40)+$Y40*($AH40+1-$AG40), $Y40))) -> 1.6750518 | AW40: =IF(AW$6<=$T40,0,IF(AW$6<$AH40,$X40+($Y40-$X40)/($AG40-($T40+0.5))*(AW$6+0.5-($T40+0.5)), IF(AW$6=$AH40,($X40+($Y40-$X40)/($AG40-($T40+0.5))*(0.5*($AG40+$AH40)-($T40+0.5)))*($AG40-$AH40)+$Y40*($AH40+1-$AG40), $Y40))) -> 1.5915263 | AX40: =IF(AX$6<=$T40,0,IF(AX$6<$AH40,$X40+($Y40-$X40)/($AG40-($T40+0.5))*(AX$6+0.5-($T40+0.5)), IF(AX$6=$AH40,($X40+($Y40-$X40)/($AG40-($T40+0.5))*(0.5*($AG40+$AH40)-($T40+0.5)))*($AG40-$AH40)+$Y40*($AH40+1-$AG40), $Y40))) -> 1.5080007 | AY40: =IF(AY$6<=$T40,0,IF(AY$6<$AH40,$X40+($Y40-$X40)/($AG40-($T40+0.5))*(AY$6+0.5-($T40+0.5)), IF(AY$6=$AH40,($X40+($Y40-$X40)/($AG40-($T40+0.5))*(0.5*($AG40+$AH40)-($T40+0.5)))*($AG40-$AH40)+$Y40*($AH40+1-$AG40), $Y40))) -> 1.4244752 | AZ40: =IF(AZ$6<=$T40,0,IF(AZ$6<$AH40,$X40+($Y40-$X40)/($AG40-($T40+0.5))*(AZ$6+0.5-($T40+0.5)), IF(AZ$6=$AH40,($X40+($Y40-$X40)/($AG40-($T40+0.5))*(0.5*($AG40+$AH40)-($T40+0.5)))*($AG40-$AH40)+$Y40*($AH40+1-$AG40), $Y40))) -> 1.3409496 | ... DP40: =IF(DP$6<=$T40,0,IF(DP$6<$AH40,$X40+($Y40-$X40)/($AG40-($T40+0.5))*(DP$6+0.5-($T40+0.5)), IF(DP$6=$AH40,($X40+($Y40-$X40)/($AG40-($T40+0.5))*(0.5*($AG40+$AH40)-($T40+0.5)))*($AG40-$AH40)+$Y40*($AH40+1-$AG40), $Y40))) -> -0.040183082
B41: =S41 -> Japan | C41: =C16 -> 668.55 | D41: =D16 -> 0.15 | E41: =E16 -> 0.016449536 | F41: =F16 -> 0.030629496 | G41: =G16 -> 19.055347 | H41: =H16 -> 1.123813 | I41: =I16 -> 1.0602269 | J41: =J16 -> 1.080206 | ... M41: =M16 -> 0.97226697 | P41: =SUM(I41:O41) -> 5.1656413 | Q41: =SUMIF(AO41:DQ41,"<0") -> -0.87140647 | R41: =-Q41/U41 -> 0.062737574 | S41: Japan | T41: ='web app'!$M$22-1 -> 2024 | U41: =G41-P41 -> 13.889706 | V41: =SUMIFS(AN41:DP41,$AN$6:$DP$6,">"&T41) -> 13.889706 | W41: =ROUND(V41/U41-1,4) -> 0 | X41: =_xlfn.XLOOKUP(T41,$H$33:$O$33,H41:O41) -> 0.97226697 | Y41: =$Y$2*X41 -> -0.019445339 | Z41: =X41-Y41 -> 0.99171231 | AA41: =-2*X41*(T41+1)+Y41*4202-2*U41 -> -4047.17 | AB41: =X41*(T41+1)*(T41+1)+Y41*(T41*(T41+1)-2101*(2*T41+1))+U41*(2*T41+1) -> 4128863.5 | AC41: =(-AA41-SQRT(AA41^2-4*Z41*AB41))/(2*Z41) -> 2024.5078 | AD41: =(-AA41+SQRT(AA41^2-4*Z41*AB41))/(2*Z41) -> 2056.4841 | AE41: =AD41 -> 2056.4841 | AF41: =(Y41*(T41+0.5)-X41*AG41)/(Y41-X41) -> 2055.857 | AG41: =AD41 -> 2056.4841 | AH41: =ROUNDDOWN(AG41,0) -> 2056 | AI41: =IF($Y$2=0,ROUNDUP(AF41,0),ROUND(AF41,0)) -> 2056 | AJ41: {=IFERROR(INDEX($AN$6:$DP$6,MATCH(_xlfn.AGGREGATE(14,6,(AN41:DP41)/(AN41:DP41<=0),1),AN41:DP41,0)),"-")} -> 2056 | AL41: E(t) | AM41: =H41 -> 1.123813 | AN41: =I41 -> 1.0602269 | AO41: =J41 -> 1.080206 | AP41: =K41 -> 1.0505032 | AQ41: =L41 -> 1.0024382 | AR41: =M41 -> 0.97226697 | AS41: =IF(AS$6<=$T41,0,IF(AS$6<$AH41,$X41+($Y41-$X41)/($AG41-($T41+0.5))*(AS$6+0.5-($T41+0.5)), IF(AS$6=$AH41,($X41+($Y41-$X41)/($AG41-($T41+0.5))*(0.5*($AG41+$AH41)-($T41+0.5)))*($AG41-$AH41)+$Y41*($AH41+1-$AG41), $Y41))) -> 0.94126059 | AT41: =IF(AT$6<=$T41,0,IF(AT$6<$AH41,$X41+($Y41-$X41)/($AG41-($T41+0.5))*(AT$6+0.5-($T41+0.5)), IF(AT$6=$AH41,($X41+($Y41-$X41)/($AG41-($T41+0.5))*(0.5*($AG41+$AH41)-($T41+0.5)))*($AG41-$AH41)+$Y41*($AH41+1-$AG41), $Y41))) -> 0.91025422 | AU41: =IF(AU$6<=$T41,0,IF(AU$6<$AH41,$X41+($Y41-$X41)/($AG41-($T41+0.5))*(AU$6+0.5-($T41+0.5)), IF(AU$6=$AH41,($X41+($Y41-$X41)/($AG41-($T41+0.5))*(0.5*($AG41+$AH41)-($T41+0.5)))*($AG41-$AH41)+$Y41*($AH41+1-$AG41), $Y41))) -> 0.87924784 | AV41: =IF(AV$6<=$T41,0,IF(AV$6<$AH41,$X41+($Y41-$X41)/($AG41-($T41+0.5))*(AV$6+0.5-($T41+0.5)), IF(AV$6=$AH41,($X41+($Y41-$X41)/($AG41-($T41+0.5))*(0.5*($AG41+$AH41)-($T41+0.5)))*($AG41-$AH41)+$Y41*($AH41+1-$AG41), $Y41))) -> 0.84824146 | AW41: =IF(AW$6<=$T41,0,IF(AW$6<$AH41,$X41+($Y41-$X41)/($AG41-($T41+0.5))*(AW$6+0.5-($T41+0.5)), IF(AW$6=$AH41,($X41+($Y41-$X41)/($AG41-($T41+0.5))*(0.5*($AG41+$AH41)-($T41+0.5)))*($AG41-$AH41)+$Y41*($AH41+1-$AG41), $Y41))) -> 0.81723508 | AX41: =IF(AX$6<=$T41,0,IF(AX$6<$AH41,$X41+($Y41-$X41)/($AG41-($T41+0.5))*(AX$6+0.5-($T41+0.5)), IF(AX$6=$AH41,($X41+($Y41-$X41)/($AG41-($T41+0.5))*(0.5*($AG41+$AH41)-($T41+0.5)))*($AG41-$AH41)+$Y41*($AH41+1-$AG41), $Y41))) -> 0.7862287 | AY41: =IF(AY$6<=$T41,0,IF(AY$6<$AH41,$X41+($Y41-$X41)/($AG41-($T41+0.5))*(AY$6+0.5-($T41+0.5)), IF(AY$6=$AH41,($X41+($Y41-$X41)/($AG41-($T41+0.5))*(0.5*($AG41+$AH41)-($T41+0.5)))*($AG41-$AH41)+$Y41*($AH41+1-$AG41), $Y41))) -> 0.75522233 | AZ41: =IF(AZ$6<=$T41,0,IF(AZ$6<$AH41,$X41+($Y41-$X41)/($AG41-($T41+0.5))*(AZ$6+0.5-($T41+0.5)), IF(AZ$6=$AH41,($X41+($Y41-$X41)/($AG41-($T41+0.5))*(0.5*($AG41+$AH41)-($T41+0.5)))*($AG41-$AH41)+$Y41*($AH41+1-$AG41), $Y41))) -> 0.72421595 | ... DP41: =IF(DP$6<=$T41,0,IF(DP$6<$AH41,$X41+($Y41-$X41)/($AG41-($T41+0.5))*(DP$6+0.5-($T41+0.5)), IF(DP$6=$AH41,($X41+($Y41-$X41)/($AG41-($T41+0.5))*(0.5*($AG41+$AH41)-($T41+0.5)))*($AG41-$AH41)+$Y41*($AH41+1-$AG41), $Y41))) -> -0.019445339
B42: =S42 -> Global | C42: =C17 -> 668.55 | D42: =D17 -> 0.15 | E42: =E17 -> 1 | F42: =F17 -> 1 | G42: =G17 -> 668.55 | H42: =H17 -> 36.690548 | I42: =I17 -> 35.278461 | J42: =J17 -> 37.236275 | ... M42: =M17 -> 38.320611 | P42: =SUM(I42:O42) -> 186.08225 | Q42: =SUMIF(AO42:DQ42,"<0") -> -36.770651 | R42: =-Q42/U42 -> 0.076213696 | S42: Global | T42: ='web app'!$M$22-1 -> 2024 | U42: =G42-P42 -> 482.46775 | V42: =SUMIFS(AN42:DP42,$AN$6:$DP$6,">"&T42) -> 482.46775 | W42: =ROUND(V42/U42-1,4) -> 0 | X42: =_xlfn.XLOOKUP(T42,$H$33:$O$33,H42:O42) -> 38.320611 | Y42: =$Y$2*X42 -> -0.76641222 | Z42: =X42-Y42 -> 39.087023 | AA42: =-2*X42*(T42+1)+Y42*4202-2*U42 -> -159383.87 | AB42: =X42*(T42+1)*(T42+1)+Y42*(T42*(T42+1)-2101*(2*T42+1))+U42*(2*T42+1) -> 1.6247058e+08 | AC42: =(-AA42-SQRT(AA42^2-4*Z42*AB42))/(2*Z42) -> 2024.5087 | AD42: =(-AA42+SQRT(AA42^2-4*Z42*AB42))/(2*Z42) -> 2053.1585 | AE42: =AD42 -> 2053.1585 | AF42: =(Y42*(T42+0.5)-X42*AG42)/(Y42-X42) -> 2052.5966 | AG42: =AD42 -> 2053.1585 | AH42: =ROUNDDOWN(AG42,0) -> 2053 | AI42: =IF($Y$2=0,ROUNDUP(AF42,0),ROUND(AF42,0)) -> 2053 | AJ42: {=IFERROR(INDEX($AN$6:$DP$6,MATCH(_xlfn.AGGREGATE(14,6,(AN42:DP42)/(AN42:DP42<=0),1),AN42:DP42,0)),"-")} -> 2053 | AL42: E(t) | AM42: =H42 -> 36.690548 | AN42: =I42 -> 35.278461 | AO42: =J42 -> 37.236275 | AP42: =K42 -> 37.417336 | AQ42: =L42 -> 37.829568 | AR42: =M42 -> 38.320611 | AS42: =IF(AS$6<=$T42,0,IF(AS$6<$AH42,$X42+($Y42-$X42)/($AG42-($T42+0.5))*(AS$6+0.5-($T42+0.5)), IF(AS$6=$AH42,($X42+($Y42-$X42)/($AG42-($T42+0.5))*(0.5*($AG42+$AH42)-($T42+0.5)))*($AG42-$AH42)+$Y42*($AH42+1-$AG42), $Y42))) -> 36.956723 | AT42: =IF(AT$6<=$T42,0,IF(AT$6<$AH42,$X42+($Y42-$X42)/($AG42-($T42+0.5))*(AT$6+0.5-($T42+0.5)), IF(AT$6=$AH42,($X42+($Y42-$X42)/($AG42-($T42+0.5))*(0.5*($AG42+$AH42)-($T42+0.5)))*($AG42-$AH42)+$Y42*($AH42+1-$AG42), $Y42))) -> 35.592834 | AU42: =IF(AU$6<=$T42,0,IF(AU$6<$AH42,$X42+($Y42-$X42)/($AG42-($T42+0.5))*(AU$6+0.5-($T42+0.5)), IF(AU$6=$AH42,($X42+($Y42-$X42)/($AG42-($T42+0.5))*(0.5*($AG42+$AH42)-($T42+0.5)))*($AG42-$AH42)+$Y42*($AH42+1-$AG42), $Y42))) -> 34.228946 | AV42: =IF(AV$6<=$T42,0,IF(AV$6<$AH42,$X42+($Y42-$X42)/($AG42-($T42+0.5))*(AV$6+0.5-($T42+0.5)), IF(AV$6=$AH42,($X42+($Y42-$X42)/($AG42-($T42+0.5))*(0.5*($AG42+$AH42)-($T42+0.5)))*($AG42-$AH42)+$Y42*($AH42+1-$AG42), $Y42))) -> 32.865057 | AW42: =IF(AW$6<=$T42,0,IF(AW$6<$AH42,$X42+($Y42-$X42)/($AG42-($T42+0.5))*(AW$6+0.5-($T42+0.5)), IF(AW$6=$AH42,($X42+($Y42-$X42)/($AG42-($T42+0.5))*(0.5*($AG42+$AH42)-($T42+0.5)))*($AG42-$AH42)+$Y42*($AH42+1-$AG42), $Y42))) -> 31.501169 | AX42: =IF(AX$6<=$T42,0,IF(AX$6<$AH42,$X42+($Y42-$X42)/($AG42-($T42+0.5))*(AX$6+0.5-($T42+0.5)), IF(AX$6=$AH42,($X42+($Y42-$X42)/($AG42-($T42+0.5))*(0.5*($AG42+$AH42)-($T42+0.5)))*($AG42-$AH42)+$Y42*($AH42+1-$AG42), $Y42))) -> 30.13728 | AY42: =IF(AY$6<=$T42,0,IF(AY$6<$AH42,$X42+($Y42-$X42)/($AG42-($T42+0.5))*(AY$6+0.5-($T42+0.5)), IF(AY$6=$AH42,($X42+($Y42-$X42)/($AG42-($T42+0.5))*(0.5*($AG42+$AH42)-($T42+0.5)))*($AG42-$AH42)+$Y42*($AH42+1-$AG42), $Y42))) -> 28.773392 | AZ42: =IF(AZ$6<=$T42,0,IF(AZ$6<$AH42,$X42+($Y42-$X42)/($AG42-($T42+0.5))*(AZ$6+0.5-($T42+0.5)), IF(AZ$6=$AH42,($X42+($Y42-$X42)/($AG42-($T42+0.5))*(0.5*($AG42+$AH42)-($T42+0.5)))*($AG42-$AH42)+$Y42*($AH42+1-$AG42), $Y42))) -> 27.409503 | ... DP42: =IF(DP$6<=$T42,0,IF(DP$6<$AH42,$X42+($Y42-$X42)/($AG42-($T42+0.5))*(DP$6+0.5-($T42+0.5)), IF(DP$6=$AH42,($X42+($Y42-$X42)/($AG42-($T42+0.5))*(0.5*($AG42+$AH42)-($T42+0.5)))*($AG42-$AH42)+$Y42*($AH42+1-$AG42), $Y42))) -> -0.76641222
B43: =S43 -> Germany | C43: =C18 -> 668.55 | D43: =D18 -> 0.15 | E43: =E18 -> 0.010690001 | F43: =F18 -> 0.018983097 | G43: =G18 -> 11.859497 | H43: =H18 -> 0.69650021 | I43: =I18 -> 0.64208778 | J43: =J18 -> 0.67066699 | ... M43: =M18 -> 0.57993561 | P43: =SUM(I43:O43) -> 3.1404386 | Q43: =SUMIF(AO43:DQ43,"<0") -> -0.5023238 | R43: =-Q43/U43 -> 0.057612161 | S43: Germany | T43: ='web app'!$M$22-1 -> 2024 | U43: =G43-P43 -> 8.7190584 | V43: =SUMIFS(AN43:DP43,$AN$6:$DP$6,">"&T43) -> 8.7190584 | W43: =ROUND(V43/U43-1,4) -> 0 | X43: =_xlfn.XLOOKUP(T43,$H$33:$O$33,H43:O43) -> 0.57993561 | Y43: =$Y$2*X43 -> -0.011598712 | Z43: =X43-Y43 -> 0.59153432 | AA43: =-2*X43*(T43+1)+Y43*4202-2*U43 -> -2414.9151 | AB43: =X43*(T43+1)*(T43+1)+Y43*(T43*(T43+1)-2101*(2*T43+1))+U43*(2*T43+1) -> 2464533.1 | AC43: =(-AA43-SQRT(AA43^2-4*Z43*AB43))/(2*Z43) -> 2024.5075 | AD43: =(-AA43+SQRT(AA43^2-4*Z43*AB43))/(2*Z43) -> 2057.9524 | AE43: =AD43 -> 2057.9524 | AF43: =(Y43*(T43+0.5)-X43*AG43)/(Y43-X43) -> 2057.2965 | AG43: =AD43 -> 2057.9524 | AH43: =ROUNDDOWN(AG43,0) -> 2057 | AI43: =IF($Y$2=0,ROUNDUP(AF43,0),ROUND(AF43,0)) -> 2057 | AJ43: {=IFERROR(INDEX($AN$6:$DP$6,MATCH(_xlfn.AGGREGATE(14,6,(AN43:DP43)/(AN43:DP43<=0),1),AN43:DP43,0)),"-")} -> 2057 | AL43: E(t) | AM43: =H43 -> 0.69650021 | AN43: =I43 -> 0.64208778 | AO43: =J43 -> 0.67066699 | AP43: =K43 -> 0.65808856 | AQ43: =L43 -> 0.58965963 | AR43: =M43 -> 0.57993561 | AS43: =IF(AS$6<=$T43,0,IF(AS$6<$AH43,$X43+($Y43-$X43)/($AG43-($T43+0.5))*(AS$6+0.5-($T43+0.5)), IF(AS$6=$AH43,($X43+($Y43-$X43)/($AG43-($T43+0.5))*(0.5*($AG43+$AH43)-($T43+0.5)))*($AG43-$AH43)+$Y43*($AH43+1-$AG43), $Y43))) -> 0.56225273 | AT43: =IF(AT$6<=$T43,0,IF(AT$6<$AH43,$X43+($Y43-$X43)/($AG43-($T43+0.5))*(AT$6+0.5-($T43+0.5)), IF(AT$6=$AH43,($X43+($Y43-$X43)/($AG43-($T43+0.5))*(0.5*($AG43+$AH43)-($T43+0.5)))*($AG43-$AH43)+$Y43*($AH43+1-$AG43), $Y43))) -> 0.54456986 | AU43: =IF(AU$6<=$T43,0,IF(AU$6<$AH43,$X43+($Y43-$X43)/($AG43-($T43+0.5))*(AU$6+0.5-($T43+0.5)), IF(AU$6=$AH43,($X43+($Y43-$X43)/($AG43-($T43+0.5))*(0.5*($AG43+$AH43)-($T43+0.5)))*($AG43-$AH43)+$Y43*($AH43+1-$AG43), $Y43))) -> 0.52688699 | AV43: =IF(AV$6<=$T43,0,IF(AV$6<$AH43,$X43+($Y43-$X43)/($AG43-($T43+0.5))*(AV$6+0.5-($T43+0.5)), IF(AV$6=$AH43,($X43+($Y43-$X43)/($AG43-($T43+0.5))*(0.5*($AG43+$AH43)-($T43+0.5)))*($AG43-$AH43)+$Y43*($AH43+1-$AG43), $Y43))) -> 0.50920411 | AW43: =IF(AW$6<=$T43,0,IF(AW$6<$AH43,$X43+($Y43-$X43)/($AG43-($T43+0.5))*(AW$6+0.5-($T43+0.5)), IF(AW$6=$AH43,($X43+($Y43-$X43)/($AG43-($T43+0.5))*(0.5*($AG43+$AH43)-($T43+0.5)))*($AG43-$AH43)+$Y43*($AH43+1-$AG43), $Y43))) -> 0.49152124 | AX43: =IF(AX$6<=$T43,0,IF(AX$6<$AH43,$X43+($Y43-$X43)/($AG43-($T43+0.5))*(AX$6+0.5-($T43+0.5)), IF(AX$6=$AH43,($X43+($Y43-$X43)/($AG43-($T43+0.5))*(0.5*($AG43+$AH43)-($T43+0.5)))*($AG43-$AH43)+$Y43*($AH43+1-$AG43), $Y43))) -> 0.47383837 | AY43: =IF(AY$6<=$T43,0,IF(AY$6<$AH43,$X43+($Y43-$X43)/($AG43-($T43+0.5))*(AY$6+0.5-($T43+0.5)), IF(AY$6=$AH43,($X43+($Y43-$X43)/($AG43-($T43+0.5))*(0.5*($AG43+$AH43)-($T43+0.5)))*($AG43-$AH43)+$Y43*($AH43+1-$AG43), $Y43))) -> 0.45615549 | AZ43: =IF(AZ$6<=$T43,0,IF(AZ$6<$AH43,$X43+($Y43-$X43)/($AG43-($T43+0.5))*(AZ$6+0.5-($T43+0.5)), IF(AZ$6=$AH43,($X43+($Y43-$X43)/($AG43-($T43+0.5))*(0.5*($AG43+$AH43)-($T43+0.5)))*($AG43-$AH43)+$Y43*($AH43+1-$AG43), $Y43))) -> 0.43847262 | ... DP43: =IF(DP$6<=$T43,0,IF(DP$6<$AH43,$X43+($Y43-$X43)/($AG43-($T43+0.5))*(DP$6+0.5-($T43+0.5)), IF(DP$6=$AH43,($X43+($Y43-$X43)/($AG43-($T43+0.5))*(0.5*($AG43+$AH43)-($T43+0.5)))*($AG43-$AH43)+$Y43*($AH43+1-$AG43), $Y43))) -> -0.011598712
C45: E_min corrected | H45: =H5 -> 2019 | I45: =I5 -> 2020 | J45: =J5 -> 2021 | K45: =K5 -> 2022 | L45: =L5 -> 2023 | M45: =M5 -> 2024 | N45: =N5 -> 2025 | Z45: a | AA45: b | AB45: c | AC45: x_1 | AD45: x_2 | AE45: U | AF45: T | AG45: U | AH45: [U] | AL45: t | AM45: 2019 | AN45: =AM45+1 -> 2020 | AO45: =AN45+1 -> 2021 | AP45: =AO45+1 -> 2022 | AQ45: =AP45+1 -> 2023 | AR45: =AQ45+1 -> 2024 | AS45: =AR45+1 -> 2025 | AT45: =AS45+1 -> 2026 | AU45: =AT45+1 -> 2027 | ... DP45: =DO45+1 -> 2100
B46: =S46 -> China | C46: =C9 -> 668.55 | D46: =D9 -> 0.15 | E46: =E9 -> 0.18414259 | F46: =F9 -> 0.32196462 | G46: =G9 -> 201.42831 | H46: =H9 -> 11.813058 | I46: =I9 -> 11.964129 | J46: =J9 -> 12.551865 | ... N46: =N9 -> 0 | P46: =SUM(I46:O46) -> 63.180647 | Q46: =SUMIF(AO46:DQ46,"<0") -> -13.645543 | R46: =-Q46/U46 -> 0.09870361 | S46: ='web app'!$B$23 -> China | T46: =T34 -> 2024 | U46: =G46-P46 -> 138.24766 | V46: =SUMIFS(AN46:DP46,$AN$6:$DP$6,">"&T46) -> 138.24766 | W46: =ROUND(V46/U46-1,4) -> 0 | X46: =_xlfn.XLOOKUP(T46,$H$33:$O$33,H46:O46) -> 13.124728 | Y46: =IF(OR(AH34>2100,Y21=0),0,Y34) -> -0.26249456 | Z46: =X46-Y46 -> 13.387223 | AA46: =-2*X46*(T46+1)+Y46*4202-2*U46 -> -54534.646 | AB46: =X46*(T46+1)*(T46+1)+Y46*(T46*(T46+1)-2101*(2*T46+1))+U46*(2*T46+1) -> 55536520 | AC46: =(-AA46-SQRT(AA46^2-4*Z46*AB46))/(2*Z46) -> 2024.5102 | AD46: =(-AA46+SQRT(AA46^2-4*Z46*AB46))/(2*Z46) -> 2049.1239 | AE46: =AD46 -> 2049.1239 | AF46: =(Y46*(T46+0.5)-X46*AG46)/(Y46-X46) -> 2048.6411 | AG46: =AD46 -> 2049.1239 | AH46: =ROUNDDOWN(AG46,0) -> 2049 | AI46: =IF($Y$2=0,ROUNDUP(AF46,0),ROUND(AF46,0)) -> 2049 | AJ46: {=IFERROR(INDEX($AN$6:$DP$6,MATCH(_xlfn.AGGREGATE(14,6,(AN46:DP46)/(AN46:DP46<=0),1),AN46:DP46,0)),"-")} -> 2049 | AL46: E(t) | AM46: =H46 -> 11.813058 | AN46: =I46 -> 11.964129 | AO46: =J46 -> 12.551865 | AP46: =K46 -> 12.518684 | AQ46: =L46 -> 13.021242 | AR46: =M46 -> 13.124728 | AS46: =IF(B46='data countries EDGAR'!$A$234,paths!N46,IF(AS$6<=$T46,0,IF(AS$6<$AH46,$X46+($Y46-$X46)/($AG46-($T46+0.5))*(AS$6+0.5-($T46+0.5)), IF(AS$6=$AH46,($X46+($Y46-$X46)/($AG46-($T46+0.5))*(0.5*($AG46+$AH46)-($T46+0.5)))*($AG46-$AH46)+$Y46*($AH46+1-$AG46), $Y46)))) -> 12.58106 | AT46: =IF(AT$6<=$T46,0,IF(AT$6<$AH46,$X46+($Y46-$X46)/($AG46-($T46+0.5))*(AT$6+0.5-($T46+0.5)), IF(AT$6=$AH46,($X46+($Y46-$X46)/($AG46-($T46+0.5))*(0.5*($AG46+$AH46)-($T46+0.5)))*($AG46-$AH46)+$Y46*($AH46+1-$AG46), $Y46))) -> 12.037393 | AU46: =IF(AU$6<=$T46,0,IF(AU$6<$AH46,$X46+($Y46-$X46)/($AG46-($T46+0.5))*(AU$6+0.5-($T46+0.5)), IF(AU$6=$AH46,($X46+($Y46-$X46)/($AG46-($T46+0.5))*(0.5*($AG46+$AH46)-($T46+0.5)))*($AG46-$AH46)+$Y46*($AH46+1-$AG46), $Y46))) -> 11.493725 | AV46: =IF(AV$6<=$T46,0,IF(AV$6<$AH46,$X46+($Y46-$X46)/($AG46-($T46+0.5))*(AV$6+0.5-($T46+0.5)), IF(AV$6=$AH46,($X46+($Y46-$X46)/($AG46-($T46+0.5))*(0.5*($AG46+$AH46)-($T46+0.5)))*($AG46-$AH46)+$Y46*($AH46+1-$AG46), $Y46))) -> 10.950058 | AW46: =IF(AW$6<=$T46,0,IF(AW$6<$AH46,$X46+($Y46-$X46)/($AG46-($T46+0.5))*(AW$6+0.5-($T46+0.5)), IF(AW$6=$AH46,($X46+($Y46-$X46)/($AG46-($T46+0.5))*(0.5*($AG46+$AH46)-($T46+0.5)))*($AG46-$AH46)+$Y46*($AH46+1-$AG46), $Y46))) -> 10.40639 | AX46: =IF(AX$6<=$T46,0,IF(AX$6<$AH46,$X46+($Y46-$X46)/($AG46-($T46+0.5))*(AX$6+0.5-($T46+0.5)), IF(AX$6=$AH46,($X46+($Y46-$X46)/($AG46-($T46+0.5))*(0.5*($AG46+$AH46)-($T46+0.5)))*($AG46-$AH46)+$Y46*($AH46+1-$AG46), $Y46))) -> 9.8627226 | AY46: =IF(AY$6<=$T46,0,IF(AY$6<$AH46,$X46+($Y46-$X46)/($AG46-($T46+0.5))*(AY$6+0.5-($T46+0.5)), IF(AY$6=$AH46,($X46+($Y46-$X46)/($AG46-($T46+0.5))*(0.5*($AG46+$AH46)-($T46+0.5)))*($AG46-$AH46)+$Y46*($AH46+1-$AG46), $Y46))) -> 9.3190551 | AZ46: =IF(AZ$6<=$T46,0,IF(AZ$6<$AH46,$X46+($Y46-$X46)/($AG46-($T46+0.5))*(AZ$6+0.5-($T46+0.5)), IF(AZ$6=$AH46,($X46+($Y46-$X46)/($AG46-($T46+0.5))*(0.5*($AG46+$AH46)-($T46+0.5)))*($AG46-$AH46)+$Y46*($AH46+1-$AG46), $Y46))) -> 8.7753875 | BA46: =IF(BA$6<=$T46,0,IF(BA$6<$AH46,$X46+($Y46-$X46)/($AG46-($T46+0.5))*(BA$6+0.5-($T46+0.5)), IF(BA$6=$AH46,($X46+($Y46-$X46)/($AG46-($T46+0.5))*(0.5*($AG46+$AH46)-($T46+0.5)))*($AG46-$AH46)+$Y46*($AH46+1-$AG46), $Y46))) -> 8.23172 | ... DP46: =IF(DP$6<=$T46,0,IF(DP$6<$AH46,$X46+($Y46-$X46)/($AG46-($T46+0.5))*(DP$6+0.5-($T46+0.5)), IF(DP$6=$AH46,($X46+($Y46-$X46)/($AG46-($T46+0.5))*(0.5*($AG46+$AH46)-($T46+0.5)))*($AG46-$AH46)+$Y46*($AH46+1-$AG46), $Y46))) -> -0.26249456
B48: =S48 -> China | C48: =C11 -> 668.55 | D48: =D11 -> 0.15 | E48: =E11 -> 0.18414259 | F48: =F11 -> 0.32196462 | G48: =G11 -> 201.42831 | H48: =H11 -> 11.813058 | I48: =I11 -> 11.964129 | J48: =J11 -> 12.551865 | ... M48: =M11 -> 13.124728 | P48: =SUM(I48:O48) -> 63.180647 | Q48: =SUMIF(AO48:DQ48,"<0") -> -13.645543 | R48: =-Q48/U48 -> 0.09870361 | S48: China | T48: =T36 -> 2024 | U48: =G48-P48 -> 138.24766 | V48: =SUMIFS(AN48:DP48,$AN$6:$DP$6,">"&T48) -> 138.24766 | W48: =ROUND(V48/U48-1,4) -> 0 | X48: =_xlfn.XLOOKUP(T48,$H$33:$O$33,H48:O48) -> 13.124728 | Y48: =IF(OR(AH36>2100,Y23=0),0,Y36) -> -0.26249456 | Z48: =X48-Y48 -> 13.387223 | AA48: =-2*X48*(T48+1)+Y48*4202-2*U48 -> -54534.646 | AB48: =X48*(T48+1)*(T48+1)+Y48*(T48*(T48+1)-2101*(2*T48+1))+U48*(2*T48+1) -> 55536520 | AC48: =(-AA48-SQRT(AA48^2-4*Z48*AB48))/(2*Z48) -> 2024.5102 | AD48: =(-AA48+SQRT(AA48^2-4*Z48*AB48))/(2*Z48) -> 2049.1239 | AE48: =AD48 -> 2049.1239 | AF48: =(Y48*(T48+0.5)-X48*AG48)/(Y48-X48) -> 2048.6411 | AG48: =AD48 -> 2049.1239 | AH48: =ROUNDDOWN(AG48,0) -> 2049 | AI48: =IF($Y$2=0,ROUNDUP(AF48,0),ROUND(AF48,0)) -> 2049 | AJ48: {=IFERROR(INDEX($AN$6:$DP$6,MATCH(_xlfn.AGGREGATE(14,6,(AN48:DP48)/(AN48:DP48<=0),1),AN48:DP48,0)),"-")} -> 2049 | AL48: E(t) | AM48: =H48 -> 11.813058 | AN48: =I48 -> 11.964129 | AO48: =J48 -> 12.551865 | AP48: =K48 -> 12.518684 | AQ48: =L48 -> 13.021242 | AR48: =M48 -> 13.124728 | AS48: =IF(AS$6<=$T48,0,IF(AS$6<$AH48,$X48+($Y48-$X48)/($AG48-($T48+0.5))*(AS$6+0.5-($T48+0.5)), IF(AS$6=$AH48,($X48+($Y48-$X48)/($AG48-($T48+0.5))*(0.5*($AG48+$AH48)-($T48+0.5)))*($AG48-$AH48)+$Y48*($AH48+1-$AG48), $Y48))) -> 12.58106 | AT48: =IF(AT$6<=$T48,0,IF(AT$6<$AH48,$X48+($Y48-$X48)/($AG48-($T48+0.5))*(AT$6+0.5-($T48+0.5)), IF(AT$6=$AH48,($X48+($Y48-$X48)/($AG48-($T48+0.5))*(0.5*($AG48+$AH48)-($T48+0.5)))*($AG48-$AH48)+$Y48*($AH48+1-$AG48), $Y48))) -> 12.037393 | AU48: =IF(AU$6<=$T48,0,IF(AU$6<$AH48,$X48+($Y48-$X48)/($AG48-($T48+0.5))*(AU$6+0.5-($T48+0.5)), IF(AU$6=$AH48,($X48+($Y48-$X48)/($AG48-($T48+0.5))*(0.5*($AG48+$AH48)-($T48+0.5)))*($AG48-$AH48)+$Y48*($AH48+1-$AG48), $Y48))) -> 11.493725 | AV48: =IF(AV$6<=$T48,0,IF(AV$6<$AH48,$X48+($Y48-$X48)/($AG48-($T48+0.5))*(AV$6+0.5-($T48+0.5)), IF(AV$6=$AH48,($X48+($Y48-$X48)/($AG48-($T48+0.5))*(0.5*($AG48+$AH48)-($T48+0.5)))*($AG48-$AH48)+$Y48*($AH48+1-$AG48), $Y48))) -> 10.950058 | AW48: =IF(AW$6<=$T48,0,IF(AW$6<$AH48,$X48+($Y48-$X48)/($AG48-($T48+0.5))*(AW$6+0.5-($T48+0.5)), IF(AW$6=$AH48,($X48+($Y48-$X48)/($AG48-($T48+0.5))*(0.5*($AG48+$AH48)-($T48+0.5)))*($AG48-$AH48)+$Y48*($AH48+1-$AG48), $Y48))) -> 10.40639 | AX48: =IF(AX$6<=$T48,0,IF(AX$6<$AH48,$X48+($Y48-$X48)/($AG48-($T48+0.5))*(AX$6+0.5-($T48+0.5)), IF(AX$6=$AH48,($X48+($Y48-$X48)/($AG48-($T48+0.5))*(0.5*($AG48+$AH48)-($T48+0.5)))*($AG48-$AH48)+$Y48*($AH48+1-$AG48), $Y48))) -> 9.8627226 | AY48: =IF(AY$6<=$T48,0,IF(AY$6<$AH48,$X48+($Y48-$X48)/($AG48-($T48+0.5))*(AY$6+0.5-($T48+0.5)), IF(AY$6=$AH48,($X48+($Y48-$X48)/($AG48-($T48+0.5))*(0.5*($AG48+$AH48)-($T48+0.5)))*($AG48-$AH48)+$Y48*($AH48+1-$AG48), $Y48))) -> 9.3190551 | AZ48: =IF(AZ$6<=$T48,0,IF(AZ$6<$AH48,$X48+($Y48-$X48)/($AG48-($T48+0.5))*(AZ$6+0.5-($T48+0.5)), IF(AZ$6=$AH48,($X48+($Y48-$X48)/($AG48-($T48+0.5))*(0.5*($AG48+$AH48)-($T48+0.5)))*($AG48-$AH48)+$Y48*($AH48+1-$AG48), $Y48))) -> 8.7753875 | ... DP48: =IF(DP$6<=$T48,0,IF(DP$6<$AH48,$X48+($Y48-$X48)/($AG48-($T48+0.5))*(DP$6+0.5-($T48+0.5)), IF(DP$6=$AH48,($X48+($Y48-$X48)/($AG48-($T48+0.5))*(0.5*($AG48+$AH48)-($T48+0.5)))*($AG48-$AH48)+$Y48*($AH48+1-$AG48), $Y48))) -> -0.26249456
B49: =S49 -> United States | C49: =C12 -> 668.55 | D49: =D12 -> 0.15 | E49: =E12 -> 0.042674232 | F49: =F12 -> 0.13540033 | G49: =G12 -> 81.223084 | H49: =H12 -> 4.9679122 | I49: =I12 -> 4.4668765 | J49: =J12 -> 4.7543785 | ... M49: =M12 -> 4.6321649 | P49: =SUM(I49:O49) -> 23.287454 | Q49: =SUMIF(AO49:DQ49,"<0") -> -4.4573401 | R49: =-Q49/U49 -> 0.076936076 | S49: United States | T49: =T37 -> 2024 | U49: =G49-P49 -> 57.93563 | V49: =SUMIFS(AN49:DP49,$AN$6:$DP$6,">"&T49) -> 57.93563 | W49: =ROUND(V49/U49-1,4) -> 0 | X49: =_xlfn.XLOOKUP(T49,$H$33:$O$33,H49:O49) -> 4.6321649 | Y49: =IF(OR(AH37>2100,Y24=0),0,Y37) -> -0.092643298 | Z49: =X49-Y49 -> 4.7248082 | AA49: =-2*X49*(T49+1)+Y49*4202-2*U49 -> -19265.426 | AB49: =X49*(T49+1)*(T49+1)+Y49*(T49*(T49+1)-2101*(2*T49+1))+U49*(2*T49+1) -> 19637756 | AC49: =(-AA49-SQRT(AA49^2-4*Z49*AB49))/(2*Z49) -> 2024.5088 | AD49: =(-AA49+SQRT(AA49^2-4*Z49*AB49))/(2*Z49) -> 2052.9956 | AE49: =AD49 -> 2052.9956 | AF49: =(Y49*(T49+0.5)-X49*AG49)/(Y49-X49) -> 2052.4369 | AG49: =AD49 -> 2052.9956 | AH49: =ROUNDDOWN(AG49,0) -> 2052 | AI49: =IF($Y$2=0,ROUNDUP(AF49,0),ROUND(AF49,0)) -> 2052 | AJ49: {=IFERROR(INDEX($AN$6:$DP$6,MATCH(_xlfn.AGGREGATE(14,6,(AN49:DP49)/(AN49:DP49<=0),1),AN49:DP49,0)),"-")} -> 2052 | AL49: E(t) | AM49: =H49 -> 4.9679122 | AN49: =I49 -> 4.4668765 | AO49: =J49 -> 4.7543785 | AP49: =K49 -> 4.8157665 | AQ49: =L49 -> 4.6182675 | AR49: =M49 -> 4.6321649 | AS49: =IF(AS$6<=$T49,0,IF(AS$6<$AH49,$X49+($Y49-$X49)/($AG49-($T49+0.5))*(AS$6+0.5-($T49+0.5)), IF(AS$6=$AH49,($X49+($Y49-$X49)/($AG49-($T49+0.5))*(0.5*($AG49+$AH49)-($T49+0.5)))*($AG49-$AH49)+$Y49*($AH49+1-$AG49), $Y49))) -> 4.4663567 | AT49: =IF(AT$6<=$T49,0,IF(AT$6<$AH49,$X49+($Y49-$X49)/($AG49-($T49+0.5))*(AT$6+0.5-($T49+0.5)), IF(AT$6=$AH49,($X49+($Y49-$X49)/($AG49-($T49+0.5))*(0.5*($AG49+$AH49)-($T49+0.5)))*($AG49-$AH49)+$Y49*($AH49+1-$AG49), $Y49))) -> 4.3005486 | AU49: =IF(AU$6<=$T49,0,IF(AU$6<$AH49,$X49+($Y49-$X49)/($AG49-($T49+0.5))*(AU$6+0.5-($T49+0.5)), IF(AU$6=$AH49,($X49+($Y49-$X49)/($AG49-($T49+0.5))*(0.5*($AG49+$AH49)-($T49+0.5)))*($AG49-$AH49)+$Y49*($AH49+1-$AG49), $Y49))) -> 4.1347404 | AV49: =IF(AV$6<=$T49,0,IF(AV$6<$AH49,$X49+($Y49-$X49)/($AG49-($T49+0.5))*(AV$6+0.5-($T49+0.5)), IF(AV$6=$AH49,($X49+($Y49-$X49)/($AG49-($T49+0.5))*(0.5*($AG49+$AH49)-($T49+0.5)))*($AG49-$AH49)+$Y49*($AH49+1-$AG49), $Y49))) -> 3.9689323 | AW49: =IF(AW$6<=$T49,0,IF(AW$6<$AH49,$X49+($Y49-$X49)/($AG49-($T49+0.5))*(AW$6+0.5-($T49+0.5)), IF(AW$6=$AH49,($X49+($Y49-$X49)/($AG49-($T49+0.5))*(0.5*($AG49+$AH49)-($T49+0.5)))*($AG49-$AH49)+$Y49*($AH49+1-$AG49), $Y49))) -> 3.8031241 | AX49: =IF(AX$6<=$T49,0,IF(AX$6<$AH49,$X49+($Y49-$X49)/($AG49-($T49+0.5))*(AX$6+0.5-($T49+0.5)), IF(AX$6=$AH49,($X49+($Y49-$X49)/($AG49-($T49+0.5))*(0.5*($AG49+$AH49)-($T49+0.5)))*($AG49-$AH49)+$Y49*($AH49+1-$AG49), $Y49))) -> 3.637316 | AY49: =IF(AY$6<=$T49,0,IF(AY$6<$AH49,$X49+($Y49-$X49)/($AG49-($T49+0.5))*(AY$6+0.5-($T49+0.5)), IF(AY$6=$AH49,($X49+($Y49-$X49)/($AG49-($T49+0.5))*(0.5*($AG49+$AH49)-($T49+0.5)))*($AG49-$AH49)+$Y49*($AH49+1-$AG49), $Y49))) -> 3.4715078 | AZ49: =IF(AZ$6<=$T49,0,IF(AZ$6<$AH49,$X49+($Y49-$X49)/($AG49-($T49+0.5))*(AZ$6+0.5-($T49+0.5)), IF(AZ$6=$AH49,($X49+($Y49-$X49)/($AG49-($T49+0.5))*(0.5*($AG49+$AH49)-($T49+0.5)))*($AG49-$AH49)+$Y49*($AH49+1-$AG49), $Y49))) -> 3.3056997 | ... DP49: =IF(DP$6<=$T49,0,IF(DP$6<$AH49,$X49+($Y49-$X49)/($AG49-($T49+0.5))*(DP$6+0.5-($T49+0.5)), IF(DP$6=$AH49,($X49+($Y49-$X49)/($AG49-($T49+0.5))*(0.5*($AG49+$AH49)-($T49+0.5)))*($AG49-$AH49)+$Y49*($AH49+1-$AG49), $Y49))) -> -0.092643298
B50: =S50 -> EU27 | C50: =C13 -> 668.55 | D50: =D13 -> 0.15 | E50: =E13 -> 0.05749956 | F50: =F13 -> 0.079267912 | G50: =G13 -> 50.811578 | H50: =H13 -> 2.9083831 | I50: =I13 -> 2.6384092 | J50: =J13 -> 2.8183079 | ... M50: =M13 -> 2.4623896 | P50: =SUM(I50:O50) -> 13.177466 | Q50: =SUMIF(AO50:DQ50,"<0") -> -2.1104651 | R50: =-Q50/U50 -> 0.056078515 | S50: EU27 | T50: =T38 -> 2024 | U50: =G50-P50 -> 37.634112 | V50: =SUMIFS(AN50:DP50,$AN$6:$DP$6,">"&T50) -> 37.634112 | W50: =ROUND(V50/U50-1,4) -> 0 | X50: =_xlfn.XLOOKUP(T50,$H$33:$O$33,H50:O50) -> 2.4623896 | Y50: =IF(OR(AH38>2100,Y25=0),0,Y38) -> -0.049247791 | Z50: =X50-Y50 -> 2.5116373 | AA50: =-2*X50*(T50+1)+Y50*4202-2*U50 -> -10254.885 | AB50: =X50*(T50+1)*(T50+1)+Y50*(T50*(T50+1)-2101*(2*T50+1))+U50*(2*T50+1) -> 10466818 | AC50: =(-AA50-SQRT(AA50^2-4*Z50*AB50))/(2*Z50) -> 2024.5074 | AD50: =(-AA50+SQRT(AA50^2-4*Z50*AB50))/(2*Z50) -> 2058.4408 | AE50: =AD50 -> 2058.4408 | AF50: =(Y50*(T50+0.5)-X50*AG50)/(Y50-X50) -> 2057.7753 | AG50: =AD50 -> 2058.4408 | AH50: =ROUNDDOWN(AG50,0) -> 2058 | AI50: =IF($Y$2=0,ROUNDUP(AF50,0),ROUND(AF50,0)) -> 2058 | AJ50: {=IFERROR(INDEX($AN$6:$DP$6,MATCH(_xlfn.AGGREGATE(14,6,(AN50:DP50)/(AN50:DP50<=0),1),AN50:DP50,0)),"-")} -> 2058 | AL50: E(t) | AM50: =H50 -> 2.9083831 | AN50: =I50 -> 2.6384092 | AO50: =J50 -> 2.8183079 | AP50: =K50 -> 2.7486638 | AQ50: =L50 -> 2.5096953 | AR50: =M50 -> 2.4623896 | AS50: =IF(AS$6<=$T50,0,IF(AS$6<$AH50,$X50+($Y50-$X50)/($AG50-($T50+0.5))*(AS$6+0.5-($T50+0.5)), IF(AS$6=$AH50,($X50+($Y50-$X50)/($AG50-($T50+0.5))*(0.5*($AG50+$AH50)-($T50+0.5)))*($AG50-$AH50)+$Y50*($AH50+1-$AG50), $Y50))) -> 2.3883891 | AT50: =IF(AT$6<=$T50,0,IF(AT$6<$AH50,$X50+($Y50-$X50)/($AG50-($T50+0.5))*(AT$6+0.5-($T50+0.5)), IF(AT$6=$AH50,($X50+($Y50-$X50)/($AG50-($T50+0.5))*(0.5*($AG50+$AH50)-($T50+0.5)))*($AG50-$AH50)+$Y50*($AH50+1-$AG50), $Y50))) -> 2.3143886 | AU50: =IF(AU$6<=$T50,0,IF(AU$6<$AH50,$X50+($Y50-$X50)/($AG50-($T50+0.5))*(AU$6+0.5-($T50+0.5)), IF(AU$6=$AH50,($X50+($Y50-$X50)/($AG50-($T50+0.5))*(0.5*($AG50+$AH50)-($T50+0.5)))*($AG50-$AH50)+$Y50*($AH50+1-$AG50), $Y50))) -> 2.2403881 | AV50: =IF(AV$6<=$T50,0,IF(AV$6<$AH50,$X50+($Y50-$X50)/($AG50-($T50+0.5))*(AV$6+0.5-($T50+0.5)), IF(AV$6=$AH50,($X50+($Y50-$X50)/($AG50-($T50+0.5))*(0.5*($AG50+$AH50)-($T50+0.5)))*($AG50-$AH50)+$Y50*($AH50+1-$AG50), $Y50))) -> 2.1663876 | AW50: =IF(AW$6<=$T50,0,IF(AW$6<$AH50,$X50+($Y50-$X50)/($AG50-($T50+0.5))*(AW$6+0.5-($T50+0.5)), IF(AW$6=$AH50,($X50+($Y50-$X50)/($AG50-($T50+0.5))*(0.5*($AG50+$AH50)-($T50+0.5)))*($AG50-$AH50)+$Y50*($AH50+1-$AG50), $Y50))) -> 2.0923871 | AX50: =IF(AX$6<=$T50,0,IF(AX$6<$AH50,$X50+($Y50-$X50)/($AG50-($T50+0.5))*(AX$6+0.5-($T50+0.5)), IF(AX$6=$AH50,($X50+($Y50-$X50)/($AG50-($T50+0.5))*(0.5*($AG50+$AH50)-($T50+0.5)))*($AG50-$AH50)+$Y50*($AH50+1-$AG50), $Y50))) -> 2.0183866 | AY50: =IF(AY$6<=$T50,0,IF(AY$6<$AH50,$X50+($Y50-$X50)/($AG50-($T50+0.5))*(AY$6+0.5-($T50+0.5)), IF(AY$6=$AH50,($X50+($Y50-$X50)/($AG50-($T50+0.5))*(0.5*($AG50+$AH50)-($T50+0.5)))*($AG50-$AH50)+$Y50*($AH50+1-$AG50), $Y50))) -> 1.9443861 | AZ50: =IF(AZ$6<=$T50,0,IF(AZ$6<$AH50,$X50+($Y50-$X50)/($AG50-($T50+0.5))*(AZ$6+0.5-($T50+0.5)), IF(AZ$6=$AH50,($X50+($Y50-$X50)/($AG50-($T50+0.5))*(0.5*($AG50+$AH50)-($T50+0.5)))*($AG50-$AH50)+$Y50*($AH50+1-$AG50), $Y50))) -> 1.8703856 | ... DP50: =IF(DP$6<=$T50,0,IF(DP$6<$AH50,$X50+($Y50-$X50)/($AG50-($T50+0.5))*(DP$6+0.5-($T50+0.5)), IF(DP$6=$AH50,($X50+($Y50-$X50)/($AG50-($T50+0.5))*(0.5*($AG50+$AH50)-($T50+0.5)))*($AG50-$AH50)+$Y50*($AH50+1-$AG50), $Y50))) -> -0.049247791
B51: =S51 -> India | C51: =C14 -> 668.55 | D51: =D14 -> 0.15 | E51: =E14 -> 0.17748722 | F51: =F14 -> 0.069540666 | G51: =G14 -> 57.316563 | H51: =H14 -> 2.5514851 | I51: =I14 -> 2.356959 | J51: =J14 -> 2.5979343 | ... M51: =M14 -> 3.1538291 | P51: =SUM(I51:O51) -> 13.930326 | Q51: =SUMIF(AO51:DQ51,"<0") -> -2.8911743 | R51: =-Q51/U51 -> 0.066638052 | S51: India | T51: =T39 -> 2024 | U51: =G51-P51 -> 43.386237 | V51: =SUMIFS(AN51:DP51,$AN$6:$DP$6,">"&T51) -> 43.386237 | W51: =ROUND(V51/U51-1,4) -> 0 | X51: =_xlfn.XLOOKUP(T51,$H$33:$O$33,H51:O51) -> 3.1538291 | Y51: =IF(OR(AH39>2100,Y26=0),0,Y39) -> -0.063076583 | Z51: =X51-Y51 -> 3.2169057 | AA51: =-2*X51*(T51+1)+Y51*4202-2*U51 -> -13124.828 | AB51: =X51*(T51+1)*(T51+1)+Y51*(T51*(T51+1)-2101*(2*T51+1))+U51*(2*T51+1) -> 13386405 | AC51: =(-AA51-SQRT(AA51^2-4*Z51*AB51))/(2*Z51) -> 2024.5081 | AD51: =(-AA51+SQRT(AA51^2-4*Z51*AB51))/(2*Z51) -> 2055.4462 | AE51: =AD51 -> 2055.4462 | AF51: =(Y51*(T51+0.5)-X51*AG51)/(Y51-X51) -> 2054.8394 | AG51: =AD51 -> 2055.4462 | AH51: =ROUNDDOWN(AG51,0) -> 2055 | AI51: =IF($Y$2=0,ROUNDUP(AF51,0),ROUND(AF51,0)) -> 2055 | AJ51: {=IFERROR(INDEX($AN$6:$DP$6,MATCH(_xlfn.AGGREGATE(14,6,(AN51:DP51)/(AN51:DP51<=0),1),AN51:DP51,0)),"-")} -> 2055 | AL51: E(t) | AM51: =H51 -> 2.5514851 | AN51: =I51 -> 2.356959 | AO51: =J51 -> 2.5979343 | AP51: =K51 -> 2.8070805 | AQ51: =L51 -> 3.0145226 | AR51: =M51 -> 3.1538291 | AS51: =IF(AS$6<=$T51,0,IF(AS$6<$AH51,$X51+($Y51-$X51)/($AG51-($T51+0.5))*(AS$6+0.5-($T51+0.5)), IF(AS$6=$AH51,($X51+($Y51-$X51)/($AG51-($T51+0.5))*(0.5*($AG51+$AH51)-($T51+0.5)))*($AG51-$AH51)+$Y51*($AH51+1-$AG51), $Y51))) -> 3.0498776 | AT51: =IF(AT$6<=$T51,0,IF(AT$6<$AH51,$X51+($Y51-$X51)/($AG51-($T51+0.5))*(AT$6+0.5-($T51+0.5)), IF(AT$6=$AH51,($X51+($Y51-$X51)/($AG51-($T51+0.5))*(0.5*($AG51+$AH51)-($T51+0.5)))*($AG51-$AH51)+$Y51*($AH51+1-$AG51), $Y51))) -> 2.9459261 | AU51: =IF(AU$6<=$T51,0,IF(AU$6<$AH51,$X51+($Y51-$X51)/($AG51-($T51+0.5))*(AU$6+0.5-($T51+0.5)), IF(AU$6=$AH51,($X51+($Y51-$X51)/($AG51-($T51+0.5))*(0.5*($AG51+$AH51)-($T51+0.5)))*($AG51-$AH51)+$Y51*($AH51+1-$AG51), $Y51))) -> 2.8419745 | AV51: =IF(AV$6<=$T51,0,IF(AV$6<$AH51,$X51+($Y51-$X51)/($AG51-($T51+0.5))*(AV$6+0.5-($T51+0.5)), IF(AV$6=$AH51,($X51+($Y51-$X51)/($AG51-($T51+0.5))*(0.5*($AG51+$AH51)-($T51+0.5)))*($AG51-$AH51)+$Y51*($AH51+1-$AG51), $Y51))) -> 2.738023 | AW51: =IF(AW$6<=$T51,0,IF(AW$6<$AH51,$X51+($Y51-$X51)/($AG51-($T51+0.5))*(AW$6+0.5-($T51+0.5)), IF(AW$6=$AH51,($X51+($Y51-$X51)/($AG51-($T51+0.5))*(0.5*($AG51+$AH51)-($T51+0.5)))*($AG51-$AH51)+$Y51*($AH51+1-$AG51), $Y51))) -> 2.6340715 | AX51: =IF(AX$6<=$T51,0,IF(AX$6<$AH51,$X51+($Y51-$X51)/($AG51-($T51+0.5))*(AX$6+0.5-($T51+0.5)), IF(AX$6=$AH51,($X51+($Y51-$X51)/($AG51-($T51+0.5))*(0.5*($AG51+$AH51)-($T51+0.5)))*($AG51-$AH51)+$Y51*($AH51+1-$AG51), $Y51))) -> 2.5301199 | AY51: =IF(AY$6<=$T51,0,IF(AY$6<$AH51,$X51+($Y51-$X51)/($AG51-($T51+0.5))*(AY$6+0.5-($T51+0.5)), IF(AY$6=$AH51,($X51+($Y51-$X51)/($AG51-($T51+0.5))*(0.5*($AG51+$AH51)-($T51+0.5)))*($AG51-$AH51)+$Y51*($AH51+1-$AG51), $Y51))) -> 2.4261684 | AZ51: =IF(AZ$6<=$T51,0,IF(AZ$6<$AH51,$X51+($Y51-$X51)/($AG51-($T51+0.5))*(AZ$6+0.5-($T51+0.5)), IF(AZ$6=$AH51,($X51+($Y51-$X51)/($AG51-($T51+0.5))*(0.5*($AG51+$AH51)-($T51+0.5)))*($AG51-$AH51)+$Y51*($AH51+1-$AG51), $Y51))) -> 2.3222169 | ... DP51: =IF(DP$6<=$T51,0,IF(DP$6<$AH51,$X51+($Y51-$X51)/($AG51-($T51+0.5))*(DP$6+0.5-($T51+0.5)), IF(DP$6=$AH51,($X51+($Y51-$X51)/($AG51-($T51+0.5))*(0.5*($AG51+$AH51)-($T51+0.5)))*($AG51-$AH51)+$Y51*($AH51+1-$AG51), $Y51))) -> -0.063076583
B52: =S52 -> Russia | C52: =C15 -> 668.55 | D52: =D15 -> 0.15 | E52: =E15 -> 0.018659255 | F52: =F15 -> 0.050639801 | G52: =G15 -> 30.64815 | H52: =H15 -> 1.858002 | I52: =I15 -> 1.7841991 | J52: =J15 -> 1.9384596 | ... M52: =M15 -> 2.0091541 | P52: =SUM(I52:O52) -> 9.575588 | Q52: =SUMIF(AO52:DQ52,"<0") -> -2.0894678 | R52: =-Q52/U52 -> 0.09915585 | S52: Russia | T52: =T40 -> 2024 | U52: =G52-P52 -> 21.072562 | V52: =SUMIFS(AN52:DP52,$AN$6:$DP$6,">"&T52) -> 21.072562 | W52: =ROUND(V52/U52-1,4) -> 0 | X52: =_xlfn.XLOOKUP(T52,$H$33:$O$33,H52:O52) -> 2.0091541 | Y52: =IF(OR(AH40>2100,Y27=0),0,Y40) -> -0.040183082 | Z52: =X52-Y52 -> 2.0493372 | AA52: =-2*X52*(T52+1)+Y52*4202-2*U52 -> -8348.0685 | AB52: =X52*(T52+1)*(T52+1)+Y52*(T52*(T52+1)-2101*(2*T52+1))+U52*(2*T52+1) -> 8501251.4 | AC52: =(-AA52-SQRT(AA52^2-4*Z52*AB52))/(2*Z52) -> 2024.5102 | AD52: =(-AA52+SQRT(AA52^2-4*Z52*AB52))/(2*Z52) -> 2049.0354 | AE52: =AD52 -> 2049.0354 | AF52: =(Y52*(T52+0.5)-X52*AG52)/(Y52-X52) -> 2048.5544 | AG52: =AD52 -> 2049.0354 | AH52: =ROUNDDOWN(AG52,0) -> 2049 | AI52: =IF($Y$2=0,ROUNDUP(AF52,0),ROUND(AF52,0)) -> 2049 | AJ52: {=IFERROR(INDEX($AN$6:$DP$6,MATCH(_xlfn.AGGREGATE(14,6,(AN52:DP52)/(AN52:DP52<=0),1),AN52:DP52,0)),"-")} -> 2049 | AL52: E(t) | AM52: =H52 -> 1.858002 | AN52: =I52 -> 1.7841991 | AO52: =J52 -> 1.9384596 | AP52: =K52 -> 1.8954729 | AQ52: =L52 -> 1.9483024 | AR52: =M52 -> 2.0091541 | AS52: =IF(AS$6<=$T52,0,IF(AS$6<$AH52,$X52+($Y52-$X52)/($AG52-($T52+0.5))*(AS$6+0.5-($T52+0.5)), IF(AS$6=$AH52,($X52+($Y52-$X52)/($AG52-($T52+0.5))*(0.5*($AG52+$AH52)-($T52+0.5)))*($AG52-$AH52)+$Y52*($AH52+1-$AG52), $Y52))) -> 1.9256285 | AT52: =IF(AT$6<=$T52,0,IF(AT$6<$AH52,$X52+($Y52-$X52)/($AG52-($T52+0.5))*(AT$6+0.5-($T52+0.5)), IF(AT$6=$AH52,($X52+($Y52-$X52)/($AG52-($T52+0.5))*(0.5*($AG52+$AH52)-($T52+0.5)))*($AG52-$AH52)+$Y52*($AH52+1-$AG52), $Y52))) -> 1.842103 | AU52: =IF(AU$6<=$T52,0,IF(AU$6<$AH52,$X52+($Y52-$X52)/($AG52-($T52+0.5))*(AU$6+0.5-($T52+0.5)), IF(AU$6=$AH52,($X52+($Y52-$X52)/($AG52-($T52+0.5))*(0.5*($AG52+$AH52)-($T52+0.5)))*($AG52-$AH52)+$Y52*($AH52+1-$AG52), $Y52))) -> 1.7585774 | AV52: =IF(AV$6<=$T52,0,IF(AV$6<$AH52,$X52+($Y52-$X52)/($AG52-($T52+0.5))*(AV$6+0.5-($T52+0.5)), IF(AV$6=$AH52,($X52+($Y52-$X52)/($AG52-($T52+0.5))*(0.5*($AG52+$AH52)-($T52+0.5)))*($AG52-$AH52)+$Y52*($AH52+1-$AG52), $Y52))) -> 1.6750518 | AW52: =IF(AW$6<=$T52,0,IF(AW$6<$AH52,$X52+($Y52-$X52)/($AG52-($T52+0.5))*(AW$6+0.5-($T52+0.5)), IF(AW$6=$AH52,($X52+($Y52-$X52)/($AG52-($T52+0.5))*(0.5*($AG52+$AH52)-($T52+0.5)))*($AG52-$AH52)+$Y52*($AH52+1-$AG52), $Y52))) -> 1.5915263 | AX52: =IF(AX$6<=$T52,0,IF(AX$6<$AH52,$X52+($Y52-$X52)/($AG52-($T52+0.5))*(AX$6+0.5-($T52+0.5)), IF(AX$6=$AH52,($X52+($Y52-$X52)/($AG52-($T52+0.5))*(0.5*($AG52+$AH52)-($T52+0.5)))*($AG52-$AH52)+$Y52*($AH52+1-$AG52), $Y52))) -> 1.5080007 | AY52: =IF(AY$6<=$T52,0,IF(AY$6<$AH52,$X52+($Y52-$X52)/($AG52-($T52+0.5))*(AY$6+0.5-($T52+0.5)), IF(AY$6=$AH52,($X52+($Y52-$X52)/($AG52-($T52+0.5))*(0.5*($AG52+$AH52)-($T52+0.5)))*($AG52-$AH52)+$Y52*($AH52+1-$AG52), $Y52))) -> 1.4244752 | AZ52: =IF(AZ$6<=$T52,0,IF(AZ$6<$AH52,$X52+($Y52-$X52)/($AG52-($T52+0.5))*(AZ$6+0.5-($T52+0.5)), IF(AZ$6=$AH52,($X52+($Y52-$X52)/($AG52-($T52+0.5))*(0.5*($AG52+$AH52)-($T52+0.5)))*($AG52-$AH52)+$Y52*($AH52+1-$AG52), $Y52))) -> 1.3409496 | ... DP52: =IF(DP$6<=$T52,0,IF(DP$6<$AH52,$X52+($Y52-$X52)/($AG52-($T52+0.5))*(DP$6+0.5-($T52+0.5)), IF(DP$6=$AH52,($X52+($Y52-$X52)/($AG52-($T52+0.5))*(0.5*($AG52+$AH52)-($T52+0.5)))*($AG52-$AH52)+$Y52*($AH52+1-$AG52), $Y52))) -> -0.040183082
B53: =S53 -> Japan | C53: =C16 -> 668.55 | D53: =D16 -> 0.15 | E53: =E16 -> 0.016449536 | F53: =F16 -> 0.030629496 | G53: =G16 -> 19.055347 | H53: =H16 -> 1.123813 | I53: =I16 -> 1.0602269 | J53: =J16 -> 1.080206 | ... M53: =M16 -> 0.97226697 | P53: =SUM(I53:O53) -> 5.1656413 | Q53: =SUMIF(AO53:DQ53,"<0") -> -0.87140647 | R53: =-Q53/U53 -> 0.062737574 | S53: Japan | T53: =T41 -> 2024 | U53: =G53-P53 -> 13.889706 | V53: =SUMIFS(AN53:DP53,$AN$6:$DP$6,">"&T53) -> 13.889706 | W53: =ROUND(V53/U53-1,4) -> 0 | X53: =_xlfn.XLOOKUP(T53,$H$33:$O$33,H53:O53) -> 0.97226697 | Y53: =IF(OR(AH41>2100,Y28=0),0,Y41) -> -0.019445339 | Z53: =X53-Y53 -> 0.99171231 | AA53: =-2*X53*(T53+1)+Y53*4202-2*U53 -> -4047.17 | AB53: =X53*(T53+1)*(T53+1)+Y53*(T53*(T53+1)-2101*(2*T53+1))+U53*(2*T53+1) -> 4128863.5 | AC53: =(-AA53-SQRT(AA53^2-4*Z53*AB53))/(2*Z53) -> 2024.5078 | AD53: =(-AA53+SQRT(AA53^2-4*Z53*AB53))/(2*Z53) -> 2056.4841 | AE53: =AD53 -> 2056.4841 | AF53: =(Y53*(T53+0.5)-X53*AG53)/(Y53-X53) -> 2055.857 | AG53: =AD53 -> 2056.4841 | AH53: =ROUNDDOWN(AG53,0) -> 2056 | AI53: =IF($Y$2=0,ROUNDUP(AF53,0),ROUND(AF53,0)) -> 2056 | AJ53: {=IFERROR(INDEX($AN$6:$DP$6,MATCH(_xlfn.AGGREGATE(14,6,(AN53:DP53)/(AN53:DP53<=0),1),AN53:DP53,0)),"-")} -> 2056 | AL53: E(t) | AM53: =H53 -> 1.123813 | AN53: =I53 -> 1.0602269 | AO53: =J53 -> 1.080206 | AP53: =K53 -> 1.0505032 | AQ53: =L53 -> 1.0024382 | AR53: =M53 -> 0.97226697 | AS53: =IF(AS$6<=$T53,0,IF(AS$6<$AH53,$X53+($Y53-$X53)/($AG53-($T53+0.5))*(AS$6+0.5-($T53+0.5)), IF(AS$6=$AH53,($X53+($Y53-$X53)/($AG53-($T53+0.5))*(0.5*($AG53+$AH53)-($T53+0.5)))*($AG53-$AH53)+$Y53*($AH53+1-$AG53), $Y53))) -> 0.94126059 | AT53: =IF(AT$6<=$T53,0,IF(AT$6<$AH53,$X53+($Y53-$X53)/($AG53-($T53+0.5))*(AT$6+0.5-($T53+0.5)), IF(AT$6=$AH53,($X53+($Y53-$X53)/($AG53-($T53+0.5))*(0.5*($AG53+$AH53)-($T53+0.5)))*($AG53-$AH53)+$Y53*($AH53+1-$AG53), $Y53))) -> 0.91025422 | AU53: =IF(AU$6<=$T53,0,IF(AU$6<$AH53,$X53+($Y53-$X53)/($AG53-($T53+0.5))*(AU$6+0.5-($T53+0.5)), IF(AU$6=$AH53,($X53+($Y53-$X53)/($AG53-($T53+0.5))*(0.5*($AG53+$AH53)-($T53+0.5)))*($AG53-$AH53)+$Y53*($AH53+1-$AG53), $Y53))) -> 0.87924784 | AV53: =IF(AV$6<=$T53,0,IF(AV$6<$AH53,$X53+($Y53-$X53)/($AG53-($T53+0.5))*(AV$6+0.5-($T53+0.5)), IF(AV$6=$AH53,($X53+($Y53-$X53)/($AG53-($T53+0.5))*(0.5*($AG53+$AH53)-($T53+0.5)))*($AG53-$AH53)+$Y53*($AH53+1-$AG53), $Y53))) -> 0.84824146 | AW53: =IF(AW$6<=$T53,0,IF(AW$6<$AH53,$X53+($Y53-$X53)/($AG53-($T53+0.5))*(AW$6+0.5-($T53+0.5)), IF(AW$6=$AH53,($X53+($Y53-$X53)/($AG53-($T53+0.5))*(0.5*($AG53+$AH53)-($T53+0.5)))*($AG53-$AH53)+$Y53*($AH53+1-$AG53), $Y53))) -> 0.81723508 | AX53: =IF(AX$6<=$T53,0,IF(AX$6<$AH53,$X53+($Y53-$X53)/($AG53-($T53+0.5))*(AX$6+0.5-($T53+0.5)), IF(AX$6=$AH53,($X53+($Y53-$X53)/($AG53-($T53+0.5))*(0.5*($AG53+$AH53)-($T53+0.5)))*($AG53-$AH53)+$Y53*($AH53+1-$AG53), $Y53))) -> 0.7862287 | AY53: =IF(AY$6<=$T53,0,IF(AY$6<$AH53,$X53+($Y53-$X53)/($AG53-($T53+0.5))*(AY$6+0.5-($T53+0.5)), IF(AY$6=$AH53,($X53+($Y53-$X53)/($AG53-($T53+0.5))*(0.5*($AG53+$AH53)-($T53+0.5)))*($AG53-$AH53)+$Y53*($AH53+1-$AG53), $Y53))) -> 0.75522233 | AZ53: =IF(AZ$6<=$T53,0,IF(AZ$6<$AH53,$X53+($Y53-$X53)/($AG53-($T53+0.5))*(AZ$6+0.5-($T53+0.5)), IF(AZ$6=$AH53,($X53+($Y53-$X53)/($AG53-($T53+0.5))*(0.5*($AG53+$AH53)-($T53+0.5)))*($AG53-$AH53)+$Y53*($AH53+1-$AG53), $Y53))) -> 0.72421595 | ... DP53: =IF(DP$6<=$T53,0,IF(DP$6<$AH53,$X53+($Y53-$X53)/($AG53-($T53+0.5))*(DP$6+0.5-($T53+0.5)), IF(DP$6=$AH53,($X53+($Y53-$X53)/($AG53-($T53+0.5))*(0.5*($AG53+$AH53)-($T53+0.5)))*($AG53-$AH53)+$Y53*($AH53+1-$AG53), $Y53))) -> -0.019445339
B54: =S54 -> Global | C54: =C17 -> 668.55 | D54: =D17 -> 0.15 | E54: =E17 -> 1 | F54: =F17 -> 1 | G54: =G17 -> 668.55 | H54: =H17 -> 36.690548 | I54: =I17 -> 35.278461 | J54: =J17 -> 37.236275 | ... M54: =M17 -> 38.320611 | P54: =SUM(I54:O54) -> 186.08225 | Q54: =SUMIF(AO54:DQ54,"<0") -> -36.770651 | R54: =-Q54/U54 -> 0.076213696 | S54: Global | T54: =T42 -> 2024 | U54: =G54-P54 -> 482.46775 | V54: =SUMIFS(AN54:DP54,$AN$6:$DP$6,">"&T54) -> 482.46775 | W54: =ROUND(V54/U54-1,4) -> 0 | X54: =_xlfn.XLOOKUP(T54,$H$33:$O$33,H54:O54) -> 38.320611 | Y54: =IF(OR(AH42>2100,Y29=0),0,Y42) -> -0.76641222 | Z54: =X54-Y54 -> 39.087023 | AA54: =-2*X54*(T54+1)+Y54*4202-2*U54 -> -159383.87 | AB54: =X54*(T54+1)*(T54+1)+Y54*(T54*(T54+1)-2101*(2*T54+1))+U54*(2*T54+1) -> 1.6247058e+08 | AC54: =(-AA54-SQRT(AA54^2-4*Z54*AB54))/(2*Z54) -> 2024.5087 | AD54: =(-AA54+SQRT(AA54^2-4*Z54*AB54))/(2*Z54) -> 2053.1585 | AE54: =AD54 -> 2053.1585 | AF54: =(Y54*(T54+0.5)-X54*AG54)/(Y54-X54) -> 2052.5966 | AG54: =AD54 -> 2053.1585 | AH54: =ROUNDDOWN(AG54,0) -> 2053 | AI54: =IF($Y$2=0,ROUNDUP(AF54,0),ROUND(AF54,0)) -> 2053 | AJ54: {=IFERROR(INDEX($AN$6:$DP$6,MATCH(_xlfn.AGGREGATE(14,6,(AN54:DP54)/(AN54:DP54<=0),1),AN54:DP54,0)),"-")} -> 2053 | AL54: E(t) | AM54: =H54 -> 36.690548 | AN54: =I54 -> 35.278461 | AO54: =J54 -> 37.236275 | AP54: =K54 -> 37.417336 | AQ54: =L54 -> 37.829568 | AR54: =M54 -> 38.320611 | AS54: =IF(AS$6<=$T54,0,IF(AS$6<$AH54,$X54+($Y54-$X54)/($AG54-($T54+0.5))*(AS$6+0.5-($T54+0.5)), IF(AS$6=$AH54,($X54+($Y54-$X54)/($AG54-($T54+0.5))*(0.5*($AG54+$AH54)-($T54+0.5)))*($AG54-$AH54)+$Y54*($AH54+1-$AG54), $Y54))) -> 36.956723 | AT54: =IF(AT$6<=$T54,0,IF(AT$6<$AH54,$X54+($Y54-$X54)/($AG54-($T54+0.5))*(AT$6+0.5-($T54+0.5)), IF(AT$6=$AH54,($X54+($Y54-$X54)/($AG54-($T54+0.5))*(0.5*($AG54+$AH54)-($T54+0.5)))*($AG54-$AH54)+$Y54*($AH54+1-$AG54), $Y54))) -> 35.592834 | AU54: =IF(AU$6<=$T54,0,IF(AU$6<$AH54,$X54+($Y54-$X54)/($AG54-($T54+0.5))*(AU$6+0.5-($T54+0.5)), IF(AU$6=$AH54,($X54+($Y54-$X54)/($AG54-($T54+0.5))*(0.5*($AG54+$AH54)-($T54+0.5)))*($AG54-$AH54)+$Y54*($AH54+1-$AG54), $Y54))) -> 34.228946 | AV54: =IF(AV$6<=$T54,0,IF(AV$6<$AH54,$X54+($Y54-$X54)/($AG54-($T54+0.5))*(AV$6+0.5-($T54+0.5)), IF(AV$6=$AH54,($X54+($Y54-$X54)/($AG54-($T54+0.5))*(0.5*($AG54+$AH54)-($T54+0.5)))*($AG54-$AH54)+$Y54*($AH54+1-$AG54), $Y54))) -> 32.865057 | AW54: =IF(AW$6<=$T54,0,IF(AW$6<$AH54,$X54+($Y54-$X54)/($AG54-($T54+0.5))*(AW$6+0.5-($T54+0.5)), IF(AW$6=$AH54,($X54+($Y54-$X54)/($AG54-($T54+0.5))*(0.5*($AG54+$AH54)-($T54+0.5)))*($AG54-$AH54)+$Y54*($AH54+1-$AG54), $Y54))) -> 31.501169 | AX54: =IF(AX$6<=$T54,0,IF(AX$6<$AH54,$X54+($Y54-$X54)/($AG54-($T54+0.5))*(AX$6+0.5-($T54+0.5)), IF(AX$6=$AH54,($X54+($Y54-$X54)/($AG54-($T54+0.5))*(0.5*($AG54+$AH54)-($T54+0.5)))*($AG54-$AH54)+$Y54*($AH54+1-$AG54), $Y54))) -> 30.13728 | AY54: =IF(AY$6<=$T54,0,IF(AY$6<$AH54,$X54+($Y54-$X54)/($AG54-($T54+0.5))*(AY$6+0.5-($T54+0.5)), IF(AY$6=$AH54,($X54+($Y54-$X54)/($AG54-($T54+0.5))*(0.5*($AG54+$AH54)-($T54+0.5)))*($AG54-$AH54)+$Y54*($AH54+1-$AG54), $Y54))) -> 28.773392 | AZ54: =IF(AZ$6<=$T54,0,IF(AZ$6<$AH54,$X54+($Y54-$X54)/($AG54-($T54+0.5))*(AZ$6+0.5-($T54+0.5)), IF(AZ$6=$AH54,($X54+($Y54-$X54)/($AG54-($T54+0.5))*(0.5*($AG54+$AH54)-($T54+0.5)))*($AG54-$AH54)+$Y54*($AH54+1-$AG54), $Y54))) -> 27.409503 | ... DP54: =IF(DP$6<=$T54,0,IF(DP$6<$AH54,$X54+($Y54-$X54)/($AG54-($T54+0.5))*(DP$6+0.5-($T54+0.5)), IF(DP$6=$AH54,($X54+($Y54-$X54)/($AG54-($T54+0.5))*(0.5*($AG54+$AH54)-($T54+0.5)))*($AG54-$AH54)+$Y54*($AH54+1-$AG54), $Y54))) -> -0.76641222
B55: =S55 -> Germany | C55: =C18 -> 668.55 | D55: =D18 -> 0.15 | E55: =E18 -> 0.010690001 | F55: =F18 -> 0.018983097 | G55: =G18 -> 11.859497 | H55: =H18 -> 0.69650021 | I55: =I18 -> 0.64208778 | J55: =J18 -> 0.67066699 | ... M55: =M18 -> 0.57993561 | P55: =SUM(I55:O55) -> 3.1404386 | Q55: =SUMIF(AO55:DQ55,"<0") -> -0.5023238 | R55: =-Q55/U55 -> 0.057612161 | S55: Germany | T55: =T43 -> 2024 | U55: =G55-P55 -> 8.7190584 | V55: =SUMIFS(AN55:DP55,$AN$6:$DP$6,">"&T55) -> 8.7190584 | W55: =ROUND(V55/U55-1,4) -> 0 | X55: =_xlfn.XLOOKUP(T55,$H$33:$O$33,H55:O55) -> 0.57993561 | Y55: =IF(OR(AH43>2100,Y30=0),0,Y43) -> -0.011598712 | Z55: =X55-Y55 -> 0.59153432 | AA55: =-2*X55*(T55+1)+Y55*4202-2*U55 -> -2414.9151 | AB55: =X55*(T55+1)*(T55+1)+Y55*(T55*(T55+1)-2101*(2*T55+1))+U55*(2*T55+1) -> 2464533.1 | AC55: =(-AA55-SQRT(AA55^2-4*Z55*AB55))/(2*Z55) -> 2024.5075 | AD55: =(-AA55+SQRT(AA55^2-4*Z55*AB55))/(2*Z55) -> 2057.9524 | AE55: =AD55 -> 2057.9524 | AF55: =(Y55*(T55+0.5)-X55*AG55)/(Y55-X55) -> 2057.2965 | AG55: =AD55 -> 2057.9524 | AH55: =ROUNDDOWN(AG55,0) -> 2057 | AI55: =IF($Y$2=0,ROUNDUP(AF55,0),ROUND(AF55,0)) -> 2057 | AJ55: {=IFERROR(INDEX($AN$6:$DP$6,MATCH(_xlfn.AGGREGATE(14,6,(AN55:DP55)/(AN55:DP55<=0),1),AN55:DP55,0)),"-")} -> 2057 | AL55: E(t) | AM55: =H55 -> 0.69650021 | AN55: =I55 -> 0.64208778 | AO55: =J55 -> 0.67066699 | AP55: =K55 -> 0.65808856 | AQ55: =L55 -> 0.58965963 | AR55: =M55 -> 0.57993561 | AS55: =IF(AS$6<=$T55,0,IF(AS$6<$AH55,$X55+($Y55-$X55)/($AG55-($T55+0.5))*(AS$6+0.5-($T55+0.5)), IF(AS$6=$AH55,($X55+($Y55-$X55)/($AG55-($T55+0.5))*(0.5*($AG55+$AH55)-($T55+0.5)))*($AG55-$AH55)+$Y55*($AH55+1-$AG55), $Y55))) -> 0.56225273 | AT55: =IF(AT$6<=$T55,0,IF(AT$6<$AH55,$X55+($Y55-$X55)/($AG55-($T55+0.5))*(AT$6+0.5-($T55+0.5)), IF(AT$6=$AH55,($X55+($Y55-$X55)/($AG55-($T55+0.5))*(0.5*($AG55+$AH55)-($T55+0.5)))*($AG55-$AH55)+$Y55*($AH55+1-$AG55), $Y55))) -> 0.54456986 | AU55: =IF(AU$6<=$T55,0,IF(AU$6<$AH55,$X55+($Y55-$X55)/($AG55-($T55+0.5))*(AU$6+0.5-($T55+0.5)), IF(AU$6=$AH55,($X55+($Y55-$X55)/($AG55-($T55+0.5))*(0.5*($AG55+$AH55)-($T55+0.5)))*($AG55-$AH55)+$Y55*($AH55+1-$AG55), $Y55))) -> 0.52688699 | AV55: =IF(AV$6<=$T55,0,IF(AV$6<$AH55,$X55+($Y55-$X55)/($AG55-($T55+0.5))*(AV$6+0.5-($T55+0.5)), IF(AV$6=$AH55,($X55+($Y55-$X55)/($AG55-($T55+0.5))*(0.5*($AG55+$AH55)-($T55+0.5)))*($AG55-$AH55)+$Y55*($AH55+1-$AG55), $Y55))) -> 0.50920411 | AW55: =IF(AW$6<=$T55,0,IF(AW$6<$AH55,$X55+($Y55-$X55)/($AG55-($T55+0.5))*(AW$6+0.5-($T55+0.5)), IF(AW$6=$AH55,($X55+($Y55-$X55)/($AG55-($T55+0.5))*(0.5*($AG55+$AH55)-($T55+0.5)))*($AG55-$AH55)+$Y55*($AH55+1-$AG55), $Y55))) -> 0.49152124 | AX55: =IF(AX$6<=$T55,0,IF(AX$6<$AH55,$X55+($Y55-$X55)/($AG55-($T55+0.5))*(AX$6+0.5-($T55+0.5)), IF(AX$6=$AH55,($X55+($Y55-$X55)/($AG55-($T55+0.5))*(0.5*($AG55+$AH55)-($T55+0.5)))*($AG55-$AH55)+$Y55*($AH55+1-$AG55), $Y55))) -> 0.47383837 | AY55: =IF(AY$6<=$T55,0,IF(AY$6<$AH55,$X55+($Y55-$X55)/($AG55-($T55+0.5))*(AY$6+0.5-($T55+0.5)), IF(AY$6=$AH55,($X55+($Y55-$X55)/($AG55-($T55+0.5))*(0.5*($AG55+$AH55)-($T55+0.5)))*($AG55-$AH55)+$Y55*($AH55+1-$AG55), $Y55))) -> 0.45615549 | AZ55: =IF(AZ$6<=$T55,0,IF(AZ$6<$AH55,$X55+($Y55-$X55)/($AG55-($T55+0.5))*(AZ$6+0.5-($T55+0.5)), IF(AZ$6=$AH55,($X55+($Y55-$X55)/($AG55-($T55+0.5))*(0.5*($AG55+$AH55)-($T55+0.5)))*($AG55-$AH55)+$Y55*($AH55+1-$AG55), $Y55))) -> 0.43847262 | ... DP55: =IF(DP$6<=$T55,0,IF(DP$6<$AH55,$X55+($Y55-$X55)/($AG55-($T55+0.5))*(DP$6+0.5-($T55+0.5)), IF(DP$6=$AH55,($X55+($Y55-$X55)/($AG55-($T55+0.5))*(0.5*($AG55+$AH55)-($T55+0.5)))*($AG55-$AH55)+$Y55*($AH55+1-$AG55), $Y55))) -> -0.011598712
C57: all countries
B59: Base year 2019; without net negative emissions
B60: =S60 -> Afghanistan | C60: ='web app'!$C$29 -> 668.55 | D60: ='web app'!$C$17 -> 0.15 | E60: =VLOOKUP($S60,'data countries EDGAR'!$A$15:$AA$223,'data countries EDGAR'!$AA$12,FALSE) -> 0.0048249744 | F60: =VLOOKUP($S60,'data countries EDGAR'!$A$15:$AA$223,'data countries EDGAR'!$Z$12,FALSE) -> 0.00032991161 | G60: =C60*(D60*E60+(1-D60)*F60) -> 0.67133854 | H60: =VLOOKUP($S60,'data countries EDGAR'!$A$15:$AA$223,'data countries EDGAR'!M$12,FALSE)/1000 -> 0.012104638 | I60: =VLOOKUP($S60,'data countries EDGAR'!$A$15:$AA$223,'data countries EDGAR'!N$12,FALSE)/1000 -> 0.012143568 | J60: =VLOOKUP($S60,'data countries EDGAR'!$A$15:$AA$223,'data countries EDGAR'!O$12,FALSE)/1000 -> 0.012486391 | K60: =VLOOKUP($S60,'data countries EDGAR'!$A$15:$AA$223,'data countries EDGAR'!P$12,FALSE)/1000 -> 0.011297964 | L60: =VLOOKUP($S60,'data countries EDGAR'!$A$15:$AA$223,'data countries EDGAR'!Q$12,FALSE)/1000 -> 0.011648639 | M60: =VLOOKUP($S60,'data countries EDGAR'!$A$15:$AA$223,'data countries EDGAR'!R$12,FALSE)/1000 -> 0.012068415 | P60: =SUM(I60:O60) -> 0.059644977 | Q60: =SUMIF(AO60:DQ60,"<0") -> 0 | R60: =-Q60/U60 -> 0 | S60: ='data countries EDGAR'!A15 -> Afghanistan | T60: 2019 | U60: =G60 -> 0.67133854 | V60: =SUMIFS(AN60:DP60,$AN$6:$DP$6,">"&T60) -> 0.62129593 | W60: =SUM(AN60:DP60)/U60-1 -> -0.074541533 | X60: =_xlfn.XLOOKUP(T60,$H$33:$O$33,H60:O60) -> 0.012104638 | Y60: 0 | Z60: =X60-Y60 -> 0.012104638 | AA60: =-2*X60*(T60+1)+Y60*4202-2*U60 -> -50.245414 | AB60: =X60*(T60+1)*(T60+1)+Y60*(T60*(T60+1)-2101*(2*T60+1))+U60*(2*T60+1) -> 52103.3 | AC60: =(-AA60-SQRT(AA60^2-4*Z60*AB60))/(2*Z60) -> 2019.5022 | AD60: =(-AA60+SQRT(AA60^2-4*Z60*AB60))/(2*Z60) -> 2131.4203 | AE60: =AD60 -> 2131.4203 | AF60: =(Y60*(T60+0.5)-X60*AG60)/(Y60-X60) -> 2131.4203 | AG60: =AD60 -> 2131.4203 | AH60: =ROUNDDOWN(AG60,0) -> 2131 | AI60: =IF($Y$2=0,ROUNDUP(AF60,0),ROUND(AF60,0)) -> 2131 | AJ60: {=IFERROR(INDEX($AN$6:$DP$6,MATCH(_xlfn.AGGREGATE(14,6,(AN60:DP60)/(AN60:DP60<=0),1),AN60:DP60,0)),"-")} -> - | AL60: E(t) | AM60: =H60 -> 0.012104638 | AN60: =IF(AN$6<=$T60,0,IF(AN$6<$AH60,$X60+($Y60-$X60)/($AG60-($T60+0.5))*(AN$6+0.5-($T60+0.5)), IF(AN$6=$AH60,($X60+($Y60-$X60)/($AG60-($T60+0.5))*(0.5*($AG60+$AH60)-($T60+0.5)))*($AG60-$AH60)+$Y60*($AH60+1-$AG60), $Y60))) -> 0.011996484 | AO60: =IF(AO$6<=$T60,0,IF(AO$6<$AH60,$X60+($Y60-$X60)/($AG60-($T60+0.5))*(AO$6+0.5-($T60+0.5)), IF(AO$6=$AH60,($X60+($Y60-$X60)/($AG60-($T60+0.5))*(0.5*($AG60+$AH60)-($T60+0.5)))*($AG60-$AH60)+$Y60*($AH60+1-$AG60), $Y60))) -> 0.01188833 | AP60: =IF(AP$6<=$T60,0,IF(AP$6<$AH60,$X60+($Y60-$X60)/($AG60-($T60+0.5))*(AP$6+0.5-($T60+0.5)), IF(AP$6=$AH60,($X60+($Y60-$X60)/($AG60-($T60+0.5))*(0.5*($AG60+$AH60)-($T60+0.5)))*($AG60-$AH60)+$Y60*($AH60+1-$AG60), $Y60))) -> 0.011780175 | AQ60: =IF(AQ$6<=$T60,0,IF(AQ$6<$AH60,$X60+($Y60-$X60)/($AG60-($T60+0.5))*(AQ$6+0.5-($T60+0.5)), IF(AQ$6=$AH60,($X60+($Y60-$X60)/($AG60-($T60+0.5))*(0.5*($AG60+$AH60)-($T60+0.5)))*($AG60-$AH60)+$Y60*($AH60+1-$AG60), $Y60))) -> 0.011672021 | AR60: =IF(AR$6<=$T60,0,IF(AR$6<$AH60,$X60+($Y60-$X60)/($AG60-($T60+0.5))*(AR$6+0.5-($T60+0.5)), IF(AR$6=$AH60,($X60+($Y60-$X60)/($AG60-($T60+0.5))*(0.5*($AG60+$AH60)-($T60+0.5)))*($AG60-$AH60)+$Y60*($AH60+1-$AG60), $Y60))) -> 0.011563867 | AS60: =IF(AS$6<=$T60,0,IF(AS$6<$AH60,$X60+($Y60-$X60)/($AG60-($T60+0.5))*(AS$6+0.5-($T60+0.5)), IF(AS$6=$AH60,($X60+($Y60-$X60)/($AG60-($T60+0.5))*(0.5*($AG60+$AH60)-($T60+0.5)))*($AG60-$AH60)+$Y60*($AH60+1-$AG60), $Y60))) -> 0.011455713 | AT60: =IF(AT$6<=$T60,0,IF(AT$6<$AH60,$X60+($Y60-$X60)/($AG60-($T60+0.5))*(AT$6+0.5-($T60+0.5)), IF(AT$6=$AH60,($X60+($Y60-$X60)/($AG60-($T60+0.5))*(0.5*($AG60+$AH60)-($T60+0.5)))*($AG60-$AH60)+$Y60*($AH60+1-$AG60), $Y60))) -> 0.011347559 | AU60: =IF(AU$6<=$T60,0,IF(AU$6<$AH60,$X60+($Y60-$X60)/($AG60-($T60+0.5))*(AU$6+0.5-($T60+0.5)), IF(AU$6=$AH60,($X60+($Y60-$X60)/($AG60-($T60+0.5))*(0.5*($AG60+$AH60)-($T60+0.5)))*($AG60-$AH60)+$Y60*($AH60+1-$AG60), $Y60))) -> 0.011239405 | ... DP60: =IF(DP$6<=$T60,0,IF(DP$6<$AH60,$X60+($Y60-$X60)/($AG60-($T60+0.5))*(DP$6+0.5-($T60+0.5)), IF(DP$6=$AH60,($X60+($Y60-$X60)/($AG60-($T60+0.5))*(0.5*($AG60+$AH60)-($T60+0.5)))*($AG60-$AH60)+$Y60*($AH60+1-$AG60), $Y60))) -> 0.0033441567
B61: =S61 -> Albania | C61: ='web app'!$C$29 -> 668.55 | D61: ='web app'!$C$17 -> 0.15 | E61: =VLOOKUP($S61,'data countries EDGAR'!$A$15:$AA$223,'data countries EDGAR'!$AA$12,FALSE) -> 0.00038103247 | F61: =VLOOKUP($S61,'data countries EDGAR'!$A$15:$AA$223,'data countries EDGAR'!$Z$12,FALSE) -> 0.00013583852 | G61: =C61*(D61*E61+(1-D61)*F61) -> 0.11540351 | H61: =VLOOKUP($S61,'data countries EDGAR'!$A$15:$AA$223,'data countries EDGAR'!M$12,FALSE)/1000 -> 0.0049839897 | I61: =VLOOKUP($S61,'data countries EDGAR'!$A$15:$AA$223,'data countries EDGAR'!N$12,FALSE)/1000 -> 0.0045676479 | J61: =VLOOKUP($S61,'data countries EDGAR'!$A$15:$AA$223,'data countries EDGAR'!O$12,FALSE)/1000 -> 0.0051122437 | K61: =VLOOKUP($S61,'data countries EDGAR'!$A$15:$AA$223,'data countries EDGAR'!P$12,FALSE)/1000 -> 0.0045238828 | L61: =VLOOKUP($S61,'data countries EDGAR'!$A$15:$AA$223,'data countries EDGAR'!Q$12,FALSE)/1000 -> 0.0042225662 | M61: =VLOOKUP($S61,'data countries EDGAR'!$A$15:$AA$223,'data countries EDGAR'!R$12,FALSE)/1000 -> 0.0042437062 | P61: =SUM(I61:O61) -> 0.022670047 | Q61: =SUMIF(AO61:DQ61,"<0") -> 0 | R61: =-Q61/U61 -> 0 | S61: ='data countries EDGAR'!A16 -> Albania | T61: 2019 | U61: =G61 -> 0.11540351 | V61: =SUMIFS(AN61:DP61,$AN$6:$DP$6,">"&T61) -> 0.11540351 | W61: =SUM(AN61:DP61)/U61-1 -> 5.3934635e-13 | X61: =_xlfn.XLOOKUP(T61,$H$33:$O$33,H61:O61) -> 0.0049839897 | Y61: 0 | Z61: =X61-Y61 -> 0.0049839897 | AA61: =-2*X61*(T61+1)+Y61*4202-2*U61 -> -20.366126 | AB61: =X61*(T61+1)*(T61+1)+Y61*(T61*(T61+1)-2101*(2*T61+1))+U61*(2*T61+1) -> 20802.787 | AC61: =(-AA61-SQRT(AA61^2-4*Z61*AB61))/(2*Z61) -> 2019.5053 | AD61: =(-AA61+SQRT(AA61^2-4*Z61*AB61))/(2*Z61) -> 2066.8044 | AE61: =AD61 -> 2066.8044 | AF61: =(Y61*(T61+0.5)-X61*AG61)/(Y61-X61) -> 2066.8044 | AG61: =AD61 -> 2066.8044 | AH61: =ROUNDDOWN(AG61,0) -> 2066 | AI61: =IF($Y$2=0,ROUNDUP(AF61,0),ROUND(AF61,0)) -> 2067 | AJ61: {=IFERROR(INDEX($AN$6:$DP$6,MATCH(_xlfn.AGGREGATE(14,6,(AN61:DP61)/(AN61:DP61<=0),1),AN61:DP61,0)),"-")} -> 2067 | AL61: E(t) | AM61: =H61 -> 0.0049839897 | AN61: =IF(AN$6<=$T61,0,IF(AN$6<$AH61,$X61+($Y61-$X61)/($AG61-($T61+0.5))*(AN$6+0.5-($T61+0.5)), IF(AN$6=$AH61,($X61+($Y61-$X61)/($AG61-($T61+0.5))*(0.5*($AG61+$AH61)-($T61+0.5)))*($AG61-$AH61)+$Y61*($AH61+1-$AG61), $Y61))) -> 0.0048786298 | AO61: =IF(AO$6<=$T61,0,IF(AO$6<$AH61,$X61+($Y61-$X61)/($AG61-($T61+0.5))*(AO$6+0.5-($T61+0.5)), IF(AO$6=$AH61,($X61+($Y61-$X61)/($AG61-($T61+0.5))*(0.5*($AG61+$AH61)-($T61+0.5)))*($AG61-$AH61)+$Y61*($AH61+1-$AG61), $Y61))) -> 0.0047732698 | AP61: =IF(AP$6<=$T61,0,IF(AP$6<$AH61,$X61+($Y61-$X61)/($AG61-($T61+0.5))*(AP$6+0.5-($T61+0.5)), IF(AP$6=$AH61,($X61+($Y61-$X61)/($AG61-($T61+0.5))*(0.5*($AG61+$AH61)-($T61+0.5)))*($AG61-$AH61)+$Y61*($AH61+1-$AG61), $Y61))) -> 0.0046679099 | AQ61: =IF(AQ$6<=$T61,0,IF(AQ$6<$AH61,$X61+($Y61-$X61)/($AG61-($T61+0.5))*(AQ$6+0.5-($T61+0.5)), IF(AQ$6=$AH61,($X61+($Y61-$X61)/($AG61-($T61+0.5))*(0.5*($AG61+$AH61)-($T61+0.5)))*($AG61-$AH61)+$Y61*($AH61+1-$AG61), $Y61))) -> 0.0045625499 | AR61: =IF(AR$6<=$T61,0,IF(AR$6<$AH61,$X61+($Y61-$X61)/($AG61-($T61+0.5))*(AR$6+0.5-($T61+0.5)), IF(AR$6=$AH61,($X61+($Y61-$X61)/($AG61-($T61+0.5))*(0.5*($AG61+$AH61)-($T61+0.5)))*($AG61-$AH61)+$Y61*($AH61+1-$AG61), $Y61))) -> 0.00445719 | AS61: =IF(AS$6<=$T61,0,IF(AS$6<$AH61,$X61+($Y61-$X61)/($AG61-($T61+0.5))*(AS$6+0.5-($T61+0.5)), IF(AS$6=$AH61,($X61+($Y61-$X61)/($AG61-($T61+0.5))*(0.5*($AG61+$AH61)-($T61+0.5)))*($AG61-$AH61)+$Y61*($AH61+1-$AG61), $Y61))) -> 0.00435183 | AT61: =IF(AT$6<=$T61,0,IF(AT$6<$AH61,$X61+($Y61-$X61)/($AG61-($T61+0.5))*(AT$6+0.5-($T61+0.5)), IF(AT$6=$AH61,($X61+($Y61-$X61)/($AG61-($T61+0.5))*(0.5*($AG61+$AH61)-($T61+0.5)))*($AG61-$AH61)+$Y61*($AH61+1-$AG61), $Y61))) -> 0.0042464701 | AU61: =IF(AU$6<=$T61,0,IF(AU$6<$AH61,$X61+($Y61-$X61)/($AG61-($T61+0.5))*(AU$6+0.5-($T61+0.5)), IF(AU$6=$AH61,($X61+($Y61-$X61)/($AG61-($T61+0.5))*(0.5*($AG61+$AH61)-($T61+0.5)))*($AG61-$AH61)+$Y61*($AH61+1-$AG61), $Y61))) -> 0.0041411101 | ... DP61: =IF(DP$6<=$T61,0,IF(DP$6<$AH61,$X61+($Y61-$X61)/($AG61-($T61+0.5))*(DP$6+0.5-($T61+0.5)), IF(DP$6=$AH61,($X61+($Y61-$X61)/($AG61-($T61+0.5))*(0.5*($AG61+$AH61)-($T61+0.5)))*($AG61-$AH61)+$Y61*($AH61+1-$AG61), $Y61))) -> 0
B62: =S62 -> Algeria | C62: ='web app'!$C$29 -> 668.55 | D62: ='web app'!$C$17 -> 0.15 | E62: =VLOOKUP($S62,'data countries EDGAR'!$A$15:$AA$223,'data countries EDGAR'!$AA$12,FALSE) -> 0.0055342828 | F62: =VLOOKUP($S62,'data countries EDGAR'!$A$15:$AA$223,'data countries EDGAR'!$Z$12,FALSE) -> 0.0049518573 | G62: =C62*(D62*E62+(1-D62)*F62) -> 3.3689713 | H62: =VLOOKUP($S62,'data countries EDGAR'!$A$15:$AA$223,'data countries EDGAR'!M$12,FALSE)/1000 -> 0.18168636 | I62: =VLOOKUP($S62,'data countries EDGAR'!$A$15:$AA$223,'data countries EDGAR'!N$12,FALSE)/1000 -> 0.1719505 | J62: =VLOOKUP($S62,'data countries EDGAR'!$A$15:$AA$223,'data countries EDGAR'!O$12,FALSE)/1000 -> 0.18132147 | K62: =VLOOKUP($S62,'data countries EDGAR'!$A$15:$AA$223,'data countries EDGAR'!P$12,FALSE)/1000 -> 0.18918864 | L62: =VLOOKUP($S62,'data countries EDGAR'!$A$15:$AA$223,'data countries EDGAR'!Q$12,FALSE)/1000 -> 0.19057859 | M62: =VLOOKUP($S62,'data countries EDGAR'!$A$15:$AA$223,'data countries EDGAR'!R$12,FALSE)/1000 -> 0.18635838 | P62: =SUM(I62:O62) -> 0.91939758 | Q62: =SUMIF(AO62:DQ62,"<0") -> 0 | R62: =-Q62/U62 -> 0 | S62: ='data countries EDGAR'!A17 -> Algeria | T62: 2019 | U62: =G62 -> 3.3689713 | V62: =SUMIFS(AN62:DP62,$AN$6:$DP$6,">"&T62) -> 3.3689713 | W62: =SUM(AN62:DP62)/U62-1 -> 4.9515947e-14 | X62: =_xlfn.XLOOKUP(T62,$H$33:$O$33,H62:O62) -> 0.18168636 | Y62: 0 | Z62: =X62-Y62 -> 0.18168636 | AA62: =-2*X62*(T62+1)+Y62*4202-2*U62 -> -740.75082 | AB62: =X62*(T62+1)*(T62+1)+Y62*(T62*(T62+1)-2101*(2*T62+1))+U62*(2*T62+1) -> 754960.28 | AC62: =(-AA62-SQRT(AA62^2-4*Z62*AB62))/(2*Z62) -> 2019.5066 | AD62: =(-AA62+SQRT(AA62^2-4*Z62*AB62))/(2*Z62) -> 2057.579 | AE62: =AD62 -> 2057.579 | AF62: =(Y62*(T62+0.5)-X62*AG62)/(Y62-X62) -> 2057.579 | AG62: =AD62 -> 2057.579 | AH62: =ROUNDDOWN(AG62,0) -> 2057 | AI62: =IF($Y$2=0,ROUNDUP(AF62,0),ROUND(AF62,0)) -> 2058 | AJ62: {=IFERROR(INDEX($AN$6:$DP$6,MATCH(_xlfn.AGGREGATE(14,6,(AN62:DP62)/(AN62:DP62<=0),1),AN62:DP62,0)),"-")} -> 2058 | AL62: E(t) | AM62: =H62 -> 0.18168636 | AN62: =IF(AN$6<=$T62,0,IF(AN$6<$AH62,$X62+($Y62-$X62)/($AG62-($T62+0.5))*(AN$6+0.5-($T62+0.5)), IF(AN$6=$AH62,($X62+($Y62-$X62)/($AG62-($T62+0.5))*(0.5*($AG62+$AH62)-($T62+0.5)))*($AG62-$AH62)+$Y62*($AH62+1-$AG62), $Y62))) -> 0.17691506 | AO62: =IF(AO$6<=$T62,0,IF(AO$6<$AH62,$X62+($Y62-$X62)/($AG62-($T62+0.5))*(AO$6+0.5-($T62+0.5)), IF(AO$6=$AH62,($X62+($Y62-$X62)/($AG62-($T62+0.5))*(0.5*($AG62+$AH62)-($T62+0.5)))*($AG62-$AH62)+$Y62*($AH62+1-$AG62), $Y62))) -> 0.17214376 | AP62: =IF(AP$6<=$T62,0,IF(AP$6<$AH62,$X62+($Y62-$X62)/($AG62-($T62+0.5))*(AP$6+0.5-($T62+0.5)), IF(AP$6=$AH62,($X62+($Y62-$X62)/($AG62-($T62+0.5))*(0.5*($AG62+$AH62)-($T62+0.5)))*($AG62-$AH62)+$Y62*($AH62+1-$AG62), $Y62))) -> 0.16737246 | AQ62: =IF(AQ$6<=$T62,0,IF(AQ$6<$AH62,$X62+($Y62-$X62)/($AG62-($T62+0.5))*(AQ$6+0.5-($T62+0.5)), IF(AQ$6=$AH62,($X62+($Y62-$X62)/($AG62-($T62+0.5))*(0.5*($AG62+$AH62)-($T62+0.5)))*($AG62-$AH62)+$Y62*($AH62+1-$AG62), $Y62))) -> 0.16260116 | AR62: =IF(AR$6<=$T62,0,IF(AR$6<$AH62,$X62+($Y62-$X62)/($AG62-($T62+0.5))*(AR$6+0.5-($T62+0.5)), IF(AR$6=$AH62,($X62+($Y62-$X62)/($AG62-($T62+0.5))*(0.5*($AG62+$AH62)-($T62+0.5)))*($AG62-$AH62)+$Y62*($AH62+1-$AG62), $Y62))) -> 0.15782986 | AS62: =IF(AS$6<=$T62,0,IF(AS$6<$AH62,$X62+($Y62-$X62)/($AG62-($T62+0.5))*(AS$6+0.5-($T62+0.5)), IF(AS$6=$AH62,($X62+($Y62-$X62)/($AG62-($T62+0.5))*(0.5*($AG62+$AH62)-($T62+0.5)))*($AG62-$AH62)+$Y62*($AH62+1-$AG62), $Y62))) -> 0.15305856 | AT62: =IF(AT$6<=$T62,0,IF(AT$6<$AH62,$X62+($Y62-$X62)/($AG62-($T62+0.5))*(AT$6+0.5-($T62+0.5)), IF(AT$6=$AH62,($X62+($Y62-$X62)/($AG62-($T62+0.5))*(0.5*($AG62+$AH62)-($T62+0.5)))*($AG62-$AH62)+$Y62*($AH62+1-$AG62), $Y62))) -> 0.14828726 | AU62: =IF(AU$6<=$T62,0,IF(AU$6<$AH62,$X62+($Y62-$X62)/($AG62-($T62+0.5))*(AU$6+0.5-($T62+0.5)), IF(AU$6=$AH62,($X62+($Y62-$X62)/($AG62-($T62+0.5))*(0.5*($AG62+$AH62)-($T62+0.5)))*($AG62-$AH62)+$Y62*($AH62+1-$AG62), $Y62))) -> 0.14351596 | ... DP62: =IF(DP$6<=$T62,0,IF(DP$6<$AH62,$X62+($Y62-$X62)/($AG62-($T62+0.5))*(DP$6+0.5-($T62+0.5)), IF(DP$6=$AH62,($X62+($Y62-$X62)/($AG62-($T62+0.5))*(0.5*($AG62+$AH62)-($T62+0.5)))*($AG62-$AH62)+$Y62*($AH62+1-$AG62), $Y62))) -> 0
B63: =S63 -> Angola | C63: ='web app'!$C$29 -> 668.55 | D63: ='web app'!$C$17 -> 0.15 | E63: =VLOOKUP($S63,'data countries EDGAR'!$A$15:$AA$223,'data countries EDGAR'!$AA$12,FALSE) -> 0.0041219641 | F63: =VLOOKUP($S63,'data countries EDGAR'!$A$15:$AA$223,'data countries EDGAR'!$Z$12,FALSE) -> 0.00073578242 | G63: =C63*(D63*E63+(1-D63)*F63) -> 0.8314821 | H63: =VLOOKUP($S63,'data countries EDGAR'!$A$15:$AA$223,'data countries EDGAR'!M$12,FALSE)/1000 -> 0.02699626 | I63: =VLOOKUP($S63,'data countries EDGAR'!$A$15:$AA$223,'data countries EDGAR'!N$12,FALSE)/1000 -> 0.020538039 | J63: =VLOOKUP($S63,'data countries EDGAR'!$A$15:$AA$223,'data countries EDGAR'!O$12,FALSE)/1000 -> 0.025564111 | K63: =VLOOKUP($S63,'data countries EDGAR'!$A$15:$AA$223,'data countries EDGAR'!P$12,FALSE)/1000 -> 0.026683914 | L63: =VLOOKUP($S63,'data countries EDGAR'!$A$15:$AA$223,'data countries EDGAR'!Q$12,FALSE)/1000 -> 0.027336005 | M63: =VLOOKUP($S63,'data countries EDGAR'!$A$15:$AA$223,'data countries EDGAR'!R$12,FALSE)/1000 -> 0.028100364 | P63: =SUM(I63:O63) -> 0.12822243 | Q63: =SUMIF(AO63:DQ63,"<0") -> 0 | R63: =-Q63/U63 -> 0 | S63: ='data countries EDGAR'!A18 -> Angola | T63: 2019 | U63: =G63 -> 0.8314821 | V63: =SUMIFS(AN63:DP63,$AN$6:$DP$6,">"&T63) -> 0.8314821 | W63: =SUM(AN63:DP63)/U63-1 -> -6.2727601e-14 | X63: =_xlfn.XLOOKUP(T63,$H$33:$O$33,H63:O63) -> 0.02699626 | Y63: 0 | Z63: =X63-Y63 -> 0.02699626 | AA63: =-2*X63*(T63+1)+Y63*4202-2*U63 -> -110.72785 | AB63: =X63*(T63+1)*(T63+1)+Y63*(T63*(T63+1)-2101*(2*T63+1))+U63*(2*T63+1) -> 113513.89 | AC63: =(-AA63-SQRT(AA63^2-4*Z63*AB63))/(2*Z63) -> 2019.504 | AD63: =(-AA63+SQRT(AA63^2-4*Z63*AB63))/(2*Z63) -> 2082.0958 | AE63: =AD63 -> 2082.0958 | AF63: =(Y63*(T63+0.5)-X63*AG63)/(Y63-X63) -> 2082.0958 | AG63: =AD63 -> 2082.0958 | AH63: =ROUNDDOWN(AG63,0) -> 2082 | AI63: =IF($Y$2=0,ROUNDUP(AF63,0),ROUND(AF63,0)) -> 2082 | AJ63: {=IFERROR(INDEX($AN$6:$DP$6,MATCH(_xlfn.AGGREGATE(14,6,(AN63:DP63)/(AN63:DP63<=0),1),AN63:DP63,0)),"-")} -> 2083 | AL63: E(t) | AM63: =H63 -> 0.02699626 | AN63: =IF(AN$6<=$T63,0,IF(AN$6<$AH63,$X63+($Y63-$X63)/($AG63-($T63+0.5))*(AN$6+0.5-($T63+0.5)), IF(AN$6=$AH63,($X63+($Y63-$X63)/($AG63-($T63+0.5))*(0.5*($AG63+$AH63)-($T63+0.5)))*($AG63-$AH63)+$Y63*($AH63+1-$AG63), $Y63))) -> 0.026564981 | AO63: =IF(AO$6<=$T63,0,IF(AO$6<$AH63,$X63+($Y63-$X63)/($AG63-($T63+0.5))*(AO$6+0.5-($T63+0.5)), IF(AO$6=$AH63,($X63+($Y63-$X63)/($AG63-($T63+0.5))*(0.5*($AG63+$AH63)-($T63+0.5)))*($AG63-$AH63)+$Y63*($AH63+1-$AG63), $Y63))) -> 0.026133702 | AP63: =IF(AP$6<=$T63,0,IF(AP$6<$AH63,$X63+($Y63-$X63)/($AG63-($T63+0.5))*(AP$6+0.5-($T63+0.5)), IF(AP$6=$AH63,($X63+($Y63-$X63)/($AG63-($T63+0.5))*(0.5*($AG63+$AH63)-($T63+0.5)))*($AG63-$AH63)+$Y63*($AH63+1-$AG63), $Y63))) -> 0.025702423 | AQ63: =IF(AQ$6<=$T63,0,IF(AQ$6<$AH63,$X63+($Y63-$X63)/($AG63-($T63+0.5))*(AQ$6+0.5-($T63+0.5)), IF(AQ$6=$AH63,($X63+($Y63-$X63)/($AG63-($T63+0.5))*(0.5*($AG63+$AH63)-($T63+0.5)))*($AG63-$AH63)+$Y63*($AH63+1-$AG63), $Y63))) -> 0.025271144 | AR63: =IF(AR$6<=$T63,0,IF(AR$6<$AH63,$X63+($Y63-$X63)/($AG63-($T63+0.5))*(AR$6+0.5-($T63+0.5)), IF(AR$6=$AH63,($X63+($Y63-$X63)/($AG63-($T63+0.5))*(0.5*($AG63+$AH63)-($T63+0.5)))*($AG63-$AH63)+$Y63*($AH63+1-$AG63), $Y63))) -> 0.024839864 | AS63: =IF(AS$6<=$T63,0,IF(AS$6<$AH63,$X63+($Y63-$X63)/($AG63-($T63+0.5))*(AS$6+0.5-($T63+0.5)), IF(AS$6=$AH63,($X63+($Y63-$X63)/($AG63-($T63+0.5))*(0.5*($AG63+$AH63)-($T63+0.5)))*($AG63-$AH63)+$Y63*($AH63+1-$AG63), $Y63))) -> 0.024408585 | AT63: =IF(AT$6<=$T63,0,IF(AT$6<$AH63,$X63+($Y63-$X63)/($AG63-($T63+0.5))*(AT$6+0.5-($T63+0.5)), IF(AT$6=$AH63,($X63+($Y63-$X63)/($AG63-($T63+0.5))*(0.5*($AG63+$AH63)-($T63+0.5)))*($AG63-$AH63)+$Y63*($AH63+1-$AG63), $Y63))) -> 0.023977306 | AU63: =IF(AU$6<=$T63,0,IF(AU$6<$AH63,$X63+($Y63-$X63)/($AG63-($T63+0.5))*(AU$6+0.5-($T63+0.5)), IF(AU$6=$AH63,($X63+($Y63-$X63)/($AG63-($T63+0.5))*(0.5*($AG63+$AH63)-($T63+0.5)))*($AG63-$AH63)+$Y63*($AH63+1-$AG63), $Y63))) -> 0.023546027 | ... DP63: =IF(DP$6<=$T63,0,IF(DP$6<$AH63,$X63+($Y63-$X63)/($AG63-($T63+0.5))*(DP$6+0.5-($T63+0.5)), IF(DP$6=$AH63,($X63+($Y63-$X63)/($AG63-($T63+0.5))*(0.5*($AG63+$AH63)-($T63+0.5)))*($AG63-$AH63)+$Y63*($AH63+1-$AG63), $Y63))) -> 0
B64: =S64 -> Anguilla | C64: ='web app'!$C$29 -> 668.55 | D64: ='web app'!$C$17 -> 0.15 | E64: =VLOOKUP($S64,'data countries EDGAR'!$A$15:$AA$223,'data countries EDGAR'!$AA$12,FALSE) -> 1.9676462e-06 | F64: =VLOOKUP($S64,'data countries EDGAR'!$A$15:$AA$223,'data countries EDGAR'!$Z$12,FALSE) -> 7.5433389e-07 | G64: =C64*(D64*E64+(1-D64)*F64) -> 0.00062598391 | H64: =VLOOKUP($S64,'data countries EDGAR'!$A$15:$AA$223,'data countries EDGAR'!M$12,FALSE)/1000 -> 2.7676923e-05 | I64: =VLOOKUP($S64,'data countries EDGAR'!$A$15:$AA$223,'data countries EDGAR'!N$12,FALSE)/1000 -> 2.2876156e-05 | J64: =VLOOKUP($S64,'data countries EDGAR'!$A$15:$AA$223,'data countries EDGAR'!O$12,FALSE)/1000 -> 2.2090328e-05 | K64: =VLOOKUP($S64,'data countries EDGAR'!$A$15:$AA$223,'data countries EDGAR'!P$12,FALSE)/1000 -> 2.1933841e-05 | L64: =VLOOKUP($S64,'data countries EDGAR'!$A$15:$AA$223,'data countries EDGAR'!Q$12,FALSE)/1000 -> 2.1917944e-05 | M64: =VLOOKUP($S64,'data countries EDGAR'!$A$15:$AA$223,'data countries EDGAR'!R$12,FALSE)/1000 -> 2.2768634e-05 | P64: =SUM(I64:O64) -> 0.0001115869 | Q64: =SUMIF(AO64:DQ64,"<0") -> 0 | R64: =-Q64/U64 -> 0 | S64: ='data countries EDGAR'!A19 -> Anguilla | T64: 2019 | U64: =G64 -> 0.00062598391 | V64: =SUMIFS(AN64:DP64,$AN$6:$DP$6,">"&T64) -> 0.00062598391 | W64: =SUM(AN64:DP64)/U64-1 -> -2.0095037e-14 | X64: =_xlfn.XLOOKUP(T64,$H$33:$O$33,H64:O64) -> 2.7676923e-05 | Y64: 0 | Z64: =X64-Y64 -> 2.7676923e-05 | AA64: =-2*X64*(T64+1)+Y64*4202-2*U64 -> -0.11306674 | AB64: =X64*(T64+1)*(T64+1)+Y64*(T64*(T64+1)-2101*(2*T64+1))+U64*(2*T64+1) -> 115.46127 | AC64: =(-AA64-SQRT(AA64^2-4*Z64*AB64))/(2*Z64) -> 2019.5054 | AD64: =(-AA64+SQRT(AA64^2-4*Z64*AB64))/(2*Z64) -> 2065.7297 | AE64: =AD64 -> 2065.7297 | AF64: =(Y64*(T64+0.5)-X64*AG64)/(Y64-X64) -> 2065.7297 | AG64: =AD64 -> 2065.7297 | AH64: =ROUNDDOWN(AG64,0) -> 2065 | AI64: =IF($Y$2=0,ROUNDUP(AF64,0),ROUND(AF64,0)) -> 2066 | AJ64: {=IFERROR(INDEX($AN$6:$DP$6,MATCH(_xlfn.AGGREGATE(14,6,(AN64:DP64)/(AN64:DP64<=0),1),AN64:DP64,0)),"-")} -> 2066 | AL64: E(t) | AM64: =H64 -> 2.7676923e-05 | AN64: =IF(AN$6<=$T64,0,IF(AN$6<$AH64,$X64+($Y64-$X64)/($AG64-($T64+0.5))*(AN$6+0.5-($T64+0.5)), IF(AN$6=$AH64,($X64+($Y64-$X64)/($AG64-($T64+0.5))*(0.5*($AG64+$AH64)-($T64+0.5)))*($AG64-$AH64)+$Y64*($AH64+1-$AG64), $Y64))) -> 2.707824e-05 | AO64: =IF(AO$6<=$T64,0,IF(AO$6<$AH64,$X64+($Y64-$X64)/($AG64-($T64+0.5))*(AO$6+0.5-($T64+0.5)), IF(AO$6=$AH64,($X64+($Y64-$X64)/($AG64-($T64+0.5))*(0.5*($AG64+$AH64)-($T64+0.5)))*($AG64-$AH64)+$Y64*($AH64+1-$AG64), $Y64))) -> 2.6479557e-05 | AP64: =IF(AP$6<=$T64,0,IF(AP$6<$AH64,$X64+($Y64-$X64)/($AG64-($T64+0.5))*(AP$6+0.5-($T64+0.5)), IF(AP$6=$AH64,($X64+($Y64-$X64)/($AG64-($T64+0.5))*(0.5*($AG64+$AH64)-($T64+0.5)))*($AG64-$AH64)+$Y64*($AH64+1-$AG64), $Y64))) -> 2.5880874e-05 | AQ64: =IF(AQ$6<=$T64,0,IF(AQ$6<$AH64,$X64+($Y64-$X64)/($AG64-($T64+0.5))*(AQ$6+0.5-($T64+0.5)), IF(AQ$6=$AH64,($X64+($Y64-$X64)/($AG64-($T64+0.5))*(0.5*($AG64+$AH64)-($T64+0.5)))*($AG64-$AH64)+$Y64*($AH64+1-$AG64), $Y64))) -> 2.5282191e-05 | AR64: =IF(AR$6<=$T64,0,IF(AR$6<$AH64,$X64+($Y64-$X64)/($AG64-($T64+0.5))*(AR$6+0.5-($T64+0.5)), IF(AR$6=$AH64,($X64+($Y64-$X64)/($AG64-($T64+0.5))*(0.5*($AG64+$AH64)-($T64+0.5)))*($AG64-$AH64)+$Y64*($AH64+1-$AG64), $Y64))) -> 2.4683508e-05 | AS64: =IF(AS$6<=$T64,0,IF(AS$6<$AH64,$X64+($Y64-$X64)/($AG64-($T64+0.5))*(AS$6+0.5-($T64+0.5)), IF(AS$6=$AH64,($X64+($Y64-$X64)/($AG64-($T64+0.5))*(0.5*($AG64+$AH64)-($T64+0.5)))*($AG64-$AH64)+$Y64*($AH64+1-$AG64), $Y64))) -> 2.4084825e-05 | AT64: =IF(AT$6<=$T64,0,IF(AT$6<$AH64,$X64+($Y64-$X64)/($AG64-($T64+0.5))*(AT$6+0.5-($T64+0.5)), IF(AT$6=$AH64,($X64+($Y64-$X64)/($AG64-($T64+0.5))*(0.5*($AG64+$AH64)-($T64+0.5)))*($AG64-$AH64)+$Y64*($AH64+1-$AG64), $Y64))) -> 2.3486142e-05 | AU64: =IF(AU$6<=$T64,0,IF(AU$6<$AH64,$X64+($Y64-$X64)/($AG64-($T64+0.5))*(AU$6+0.5-($T64+0.5)), IF(AU$6=$AH64,($X64+($Y64-$X64)/($AG64-($T64+0.5))*(0.5*($AG64+$AH64)-($T64+0.5)))*($AG64-$AH64)+$Y64*($AH64+1-$AG64), $Y64))) -> 2.2887458e-05 | ... DP64: =IF(DP$6<=$T64,0,IF(DP$6<$AH64,$X64+($Y64-$X64)/($AG64-($T64+0.5))*(DP$6+0.5-($T64+0.5)), IF(DP$6=$AH64,($X64+($Y64-$X64)/($AG64-($T64+0.5))*(0.5*($AG64+$AH64)-($T64+0.5)))*($AG64-$AH64)+$Y64*($AH64+1-$AG64), $Y64))) -> 0
B65: =S65 -> Antigua and Barbuda | C65: ='web app'!$C$29 -> 668.55 | D65: ='web app'!$C$17 -> 0.15 | E65: =VLOOKUP($S65,'data countries EDGAR'!$A$15:$AA$223,'data countries EDGAR'!$AA$12,FALSE) -> 1.3496803e-05 | F65: =VLOOKUP($S65,'data countries EDGAR'!$A$15:$AA$223,'data countries EDGAR'!$Z$12,FALSE) -> 9.3380381e-06 | G65: =C65*(D65*E65+(1-D65)*F65) -> 0.0066599967 | H65: =VLOOKUP($S65,'data countries EDGAR'!$A$15:$AA$223,'data countries EDGAR'!M$12,FALSE)/1000 -> 0.00034261773 | I65: =VLOOKUP($S65,'data countries EDGAR'!$A$15:$AA$223,'data countries EDGAR'!N$12,FALSE)/1000 -> 0.00032601816 | J65: =VLOOKUP($S65,'data countries EDGAR'!$A$15:$AA$223,'data countries EDGAR'!O$12,FALSE)/1000 -> 0.00033153928 | K65: =VLOOKUP($S65,'data countries EDGAR'!$A$15:$AA$223,'data countries EDGAR'!P$12,FALSE)/1000 -> 0.00034301061 | L65: =VLOOKUP($S65,'data countries EDGAR'!$A$15:$AA$223,'data countries EDGAR'!Q$12,FALSE)/1000 -> 0.00034409458 | M65: =VLOOKUP($S65,'data countries EDGAR'!$A$15:$AA$223,'data countries EDGAR'!R$12,FALSE)/1000 -> 0.00035618735 | P65: =SUM(I65:O65) -> 0.00170085 | Q65: =SUMIF(AO65:DQ65,"<0") -> 0 | R65: =-Q65/U65 -> 0 | S65: ='data countries EDGAR'!A20 -> Antigua and Barbuda | T65: 2019 | U65: =G65 -> 0.0066599967 | V65: =SUMIFS(AN65:DP65,$AN$6:$DP$6,">"&T65) -> 0.0066599967 | W65: =SUM(AN65:DP65)/U65-1 -> -2.2715163e-13 | X65: =_xlfn.XLOOKUP(T65,$H$33:$O$33,H65:O65) -> 0.00034261773 | Y65: 0 | Z65: =X65-Y65 -> 0.00034261773 | AA65: =-2*X65*(T65+1)+Y65*4202-2*U65 -> -1.3974956 | AB65: =X65*(T65+1)*(T65+1)+Y65*(T65*(T65+1)-2101*(2*T65+1))+U65*(2*T65+1) -> 1424.9171 | AC65: =(-AA65-SQRT(AA65^2-4*Z65*AB65))/(2*Z65) -> 2019.5063 | AD65: =(-AA65+SQRT(AA65^2-4*Z65*AB65))/(2*Z65) -> 2059.3709 | AE65: =AD65 -> 2059.3709 | AF65: =(Y65*(T65+0.5)-X65*AG65)/(Y65-X65) -> 2059.3709 | AG65: =AD65 -> 2059.3709 | AH65: =ROUNDDOWN(AG65,0) -> 2059 | AI65: =IF($Y$2=0,ROUNDUP(AF65,0),ROUND(AF65,0)) -> 2059 | AJ65: {=IFERROR(INDEX($AN$6:$DP$6,MATCH(_xlfn.AGGREGATE(14,6,(AN65:DP65)/(AN65:DP65<=0),1),AN65:DP65,0)),"-")} -> 2060 | AL65: E(t) | AM65: =H65 -> 0.00034261773 | AN65: =IF(AN$6<=$T65,0,IF(AN$6<$AH65,$X65+($Y65-$X65)/($AG65-($T65+0.5))*(AN$6+0.5-($T65+0.5)), IF(AN$6=$AH65,($X65+($Y65-$X65)/($AG65-($T65+0.5))*(0.5*($AG65+$AH65)-($T65+0.5)))*($AG65-$AH65)+$Y65*($AH65+1-$AG65), $Y65))) -> 0.00033402454 | AO65: =IF(AO$6<=$T65,0,IF(AO$6<$AH65,$X65+($Y65-$X65)/($AG65-($T65+0.5))*(AO$6+0.5-($T65+0.5)), IF(AO$6=$AH65,($X65+($Y65-$X65)/($AG65-($T65+0.5))*(0.5*($AG65+$AH65)-($T65+0.5)))*($AG65-$AH65)+$Y65*($AH65+1-$AG65), $Y65))) -> 0.00032543136 | AP65: =IF(AP$6<=$T65,0,IF(AP$6<$AH65,$X65+($Y65-$X65)/($AG65-($T65+0.5))*(AP$6+0.5-($T65+0.5)), IF(AP$6=$AH65,($X65+($Y65-$X65)/($AG65-($T65+0.5))*(0.5*($AG65+$AH65)-($T65+0.5)))*($AG65-$AH65)+$Y65*($AH65+1-$AG65), $Y65))) -> 0.00031683817 | AQ65: =IF(AQ$6<=$T65,0,IF(AQ$6<$AH65,$X65+($Y65-$X65)/($AG65-($T65+0.5))*(AQ$6+0.5-($T65+0.5)), IF(AQ$6=$AH65,($X65+($Y65-$X65)/($AG65-($T65+0.5))*(0.5*($AG65+$AH65)-($T65+0.5)))*($AG65-$AH65)+$Y65*($AH65+1-$AG65), $Y65))) -> 0.00030824498 | AR65: =IF(AR$6<=$T65,0,IF(AR$6<$AH65,$X65+($Y65-$X65)/($AG65-($T65+0.5))*(AR$6+0.5-($T65+0.5)), IF(AR$6=$AH65,($X65+($Y65-$X65)/($AG65-($T65+0.5))*(0.5*($AG65+$AH65)-($T65+0.5)))*($AG65-$AH65)+$Y65*($AH65+1-$AG65), $Y65))) -> 0.0002996518 | AS65: =IF(AS$6<=$T65,0,IF(AS$6<$AH65,$X65+($Y65-$X65)/($AG65-($T65+0.5))*(AS$6+0.5-($T65+0.5)), IF(AS$6=$AH65,($X65+($Y65-$X65)/($AG65-($T65+0.5))*(0.5*($AG65+$AH65)-($T65+0.5)))*($AG65-$AH65)+$Y65*($AH65+1-$AG65), $Y65))) -> 0.00029105861 | AT65: =IF(AT$6<=$T65,0,IF(AT$6<$AH65,$X65+($Y65-$X65)/($AG65-($T65+0.5))*(AT$6+0.5-($T65+0.5)), IF(AT$6=$AH65,($X65+($Y65-$X65)/($AG65-($T65+0.5))*(0.5*($AG65+$AH65)-($T65+0.5)))*($AG65-$AH65)+$Y65*($AH65+1-$AG65), $Y65))) -> 0.00028246542 | AU65: =IF(AU$6<=$T65,0,IF(AU$6<$AH65,$X65+($Y65-$X65)/($AG65-($T65+0.5))*(AU$6+0.5-($T65+0.5)), IF(AU$6=$AH65,($X65+($Y65-$X65)/($AG65-($T65+0.5))*(0.5*($AG65+$AH65)-($T65+0.5)))*($AG65-$AH65)+$Y65*($AH65+1-$AG65), $Y65))) -> 0.00027387224 | ... DP65: =IF(DP$6<=$T65,0,IF(DP$6<$AH65,$X65+($Y65-$X65)/($AG65-($T65+0.5))*(DP$6+0.5-($T65+0.5)), IF(DP$6=$AH65,($X65+($Y65-$X65)/($AG65-($T65+0.5))*(0.5*($AG65+$AH65)-($T65+0.5)))*($AG65-$AH65)+$Y65*($AH65+1-$AG65), $Y65))) -> 0
B66: =S66 -> Argentina | C66: ='web app'!$C$29 -> 668.55 | D66: ='web app'!$C$17 -> 0.15 | E66: =VLOOKUP($S66,'data countries EDGAR'!$A$15:$AA$223,'data countries EDGAR'!$AA$12,FALSE) -> 0.0058484478 | F66: =VLOOKUP($S66,'data countries EDGAR'!$A$15:$AA$223,'data countries EDGAR'!$Z$12,FALSE) -> 0.0049949845 | G66: =C66*(D66*E66+(1-D66)*F66) -> 3.4249843 | H66: =VLOOKUP($S66,'data countries EDGAR'!$A$15:$AA$223,'data countries EDGAR'!M$12,FALSE)/1000 -> 0.18326872 | I66: =VLOOKUP($S66,'data countries EDGAR'!$A$15:$AA$223,'data countries EDGAR'!N$12,FALSE)/1000 -> 0.16811543 | J66: =VLOOKUP($S66,'data countries EDGAR'!$A$15:$AA$223,'data countries EDGAR'!O$12,FALSE)/1000 -> 0.18567596 | K66: =VLOOKUP($S66,'data countries EDGAR'!$A$15:$AA$223,'data countries EDGAR'!P$12,FALSE)/1000 -> 0.19504106 | L66: =VLOOKUP($S66,'data countries EDGAR'!$A$15:$AA$223,'data countries EDGAR'!Q$12,FALSE)/1000 -> 0.18989079 | M66: =VLOOKUP($S66,'data countries EDGAR'!$A$15:$AA$223,'data countries EDGAR'!R$12,FALSE)/1000 -> 0.18327199 | P66: =SUM(I66:O66) -> 0.92199522 | Q66: =SUMIF(AO66:DQ66,"<0") -> 0 | R66: =-Q66/U66 -> 0 | S66: ='data countries EDGAR'!A21 -> Argentina | T66: 2019 | U66: =G66 -> 3.4249843 | V66: =SUMIFS(AN66:DP66,$AN$6:$DP$6,">"&T66) -> 3.4249843 | W66: =SUM(AN66:DP66)/U66-1 -> -2.4913405e-13 | X66: =_xlfn.XLOOKUP(T66,$H$33:$O$33,H66:O66) -> 0.18326872 | Y66: 0 | Z66: =X66-Y66 -> 0.18326872 | AA66: =-2*X66*(T66+1)+Y66*4202-2*U66 -> -747.25558 | AB66: =X66*(T66+1)*(T66+1)+Y66*(T66*(T66+1)-2101*(2*T66+1))+U66*(2*T66+1) -> 761643.18 | AC66: =(-AA66-SQRT(AA66^2-4*Z66*AB66))/(2*Z66) -> 2019.5065 | AD66: =(-AA66+SQRT(AA66^2-4*Z66*AB66))/(2*Z66) -> 2057.8701 | AE66: =AD66 -> 2057.8701 | AF66: =(Y66*(T66+0.5)-X66*AG66)/(Y66-X66) -> 2057.8701 | AG66: =AD66 -> 2057.8701 | AH66: =ROUNDDOWN(AG66,0) -> 2057 | AI66: =IF($Y$2=0,ROUNDUP(AF66,0),ROUND(AF66,0)) -> 2058 | AJ66: {=IFERROR(INDEX($AN$6:$DP$6,MATCH(_xlfn.AGGREGATE(14,6,(AN66:DP66)/(AN66:DP66<=0),1),AN66:DP66,0)),"-")} -> 2058 | AL66: E(t) | AM66: =H66 -> 0.18326872 | AN66: =IF(AN$6<=$T66,0,IF(AN$6<$AH66,$X66+($Y66-$X66)/($AG66-($T66+0.5))*(AN$6+0.5-($T66+0.5)), IF(AN$6=$AH66,($X66+($Y66-$X66)/($AG66-($T66+0.5))*(0.5*($AG66+$AH66)-($T66+0.5)))*($AG66-$AH66)+$Y66*($AH66+1-$AG66), $Y66))) -> 0.17849238 | AO66: =IF(AO$6<=$T66,0,IF(AO$6<$AH66,$X66+($Y66-$X66)/($AG66-($T66+0.5))*(AO$6+0.5-($T66+0.5)), IF(AO$6=$AH66,($X66+($Y66-$X66)/($AG66-($T66+0.5))*(0.5*($AG66+$AH66)-($T66+0.5)))*($AG66-$AH66)+$Y66*($AH66+1-$AG66), $Y66))) -> 0.17371604 | AP66: =IF(AP$6<=$T66,0,IF(AP$6<$AH66,$X66+($Y66-$X66)/($AG66-($T66+0.5))*(AP$6+0.5-($T66+0.5)), IF(AP$6=$AH66,($X66+($Y66-$X66)/($AG66-($T66+0.5))*(0.5*($AG66+$AH66)-($T66+0.5)))*($AG66-$AH66)+$Y66*($AH66+1-$AG66), $Y66))) -> 0.1689397 | AQ66: =IF(AQ$6<=$T66,0,IF(AQ$6<$AH66,$X66+($Y66-$X66)/($AG66-($T66+0.5))*(AQ$6+0.5-($T66+0.5)), IF(AQ$6=$AH66,($X66+($Y66-$X66)/($AG66-($T66+0.5))*(0.5*($AG66+$AH66)-($T66+0.5)))*($AG66-$AH66)+$Y66*($AH66+1-$AG66), $Y66))) -> 0.16416336 | AR66: =IF(AR$6<=$T66,0,IF(AR$6<$AH66,$X66+($Y66-$X66)/($AG66-($T66+0.5))*(AR$6+0.5-($T66+0.5)), IF(AR$6=$AH66,($X66+($Y66-$X66)/($AG66-($T66+0.5))*(0.5*($AG66+$AH66)-($T66+0.5)))*($AG66-$AH66)+$Y66*($AH66+1-$AG66), $Y66))) -> 0.15938702 | AS66: =IF(AS$6<=$T66,0,IF(AS$6<$AH66,$X66+($Y66-$X66)/($AG66-($T66+0.5))*(AS$6+0.5-($T66+0.5)), IF(AS$6=$AH66,($X66+($Y66-$X66)/($AG66-($T66+0.5))*(0.5*($AG66+$AH66)-($T66+0.5)))*($AG66-$AH66)+$Y66*($AH66+1-$AG66), $Y66))) -> 0.15461068 | AT66: =IF(AT$6<=$T66,0,IF(AT$6<$AH66,$X66+($Y66-$X66)/($AG66-($T66+0.5))*(AT$6+0.5-($T66+0.5)), IF(AT$6=$AH66,($X66+($Y66-$X66)/($AG66-($T66+0.5))*(0.5*($AG66+$AH66)-($T66+0.5)))*($AG66-$AH66)+$Y66*($AH66+1-$AG66), $Y66))) -> 0.14983434 | AU66: =IF(AU$6<=$T66,0,IF(AU$6<$AH66,$X66+($Y66-$X66)/($AG66-($T66+0.5))*(AU$6+0.5-($T66+0.5)), IF(AU$6=$AH66,($X66+($Y66-$X66)/($AG66-($T66+0.5))*(0.5*($AG66+$AH66)-($T66+0.5)))*($AG66-$AH66)+$Y66*($AH66+1-$AG66), $Y66))) -> 0.145058 | ... DP66: =IF(DP$6<=$T66,0,IF(DP$6<$AH66,$X66+($Y66-$X66)/($AG66-($T66+0.5))*(DP$6+0.5-($T66+0.5)), IF(DP$6=$AH66,($X66+($Y66-$X66)/($AG66-($T66+0.5))*(0.5*($AG66+$AH66)-($T66+0.5)))*($AG66-$AH66)+$Y66*($AH66+1-$AG66), $Y66))) -> 0
B67: =S67 -> Armenia | C67: ='web app'!$C$29 -> 668.55 | D67: ='web app'!$C$17 -> 0.15 | E67: =VLOOKUP($S67,'data countries EDGAR'!$A$15:$AA$223,'data countries EDGAR'!$AA$12,FALSE) -> 0.00038080917 | F67: =VLOOKUP($S67,'data countries EDGAR'!$A$15:$AA$223,'data countries EDGAR'!$Z$12,FALSE) -> 0.00017510385 | G67: =C67*(D67*E67+(1-D67)*F67) -> 0.13769432 | H67: =VLOOKUP($S67,'data countries EDGAR'!$A$15:$AA$223,'data countries EDGAR'!M$12,FALSE)/1000 -> 0.006424656 | I67: =VLOOKUP($S67,'data countries EDGAR'!$A$15:$AA$223,'data countries EDGAR'!N$12,FALSE)/1000 -> 0.0069145279 | J67: =VLOOKUP($S67,'data countries EDGAR'!$A$15:$AA$223,'data countries EDGAR'!O$12,FALSE)/1000 -> 0.0074634303 | K67: =VLOOKUP($S67,'data countries EDGAR'!$A$15:$AA$223,'data countries EDGAR'!P$12,FALSE)/1000 -> 0.0077741889 | L67: =VLOOKUP($S67,'data countries EDGAR'!$A$15:$AA$223,'data countries EDGAR'!Q$12,FALSE)/1000 -> 0.0074987034 | M67: =VLOOKUP($S67,'data countries EDGAR'!$A$15:$AA$223,'data countries EDGAR'!R$12,FALSE)/1000 -> 0.0074935904 | P67: =SUM(I67:O67) -> 0.037144441 | Q67: =SUMIF(AO67:DQ67,"<0") -> 0 | R67: =-Q67/U67 -> 0 | S67: ='data countries EDGAR'!A22 -> Armenia | T67: 2019 | U67: =G67 -> 0.13769432 | V67: =SUMIFS(AN67:DP67,$AN$6:$DP$6,">"&T67) -> 0.13769432 | W67: =SUM(AN67:DP67)/U67-1 -> -9.0483177e-14 | X67: =_xlfn.XLOOKUP(T67,$H$33:$O$33,H67:O67) -> 0.006424656 | Y67: 0 | Z67: =X67-Y67 -> 0.006424656 | AA67: =-2*X67*(T67+1)+Y67*4202-2*U67 -> -26.230999 | AB67: =X67*(T67+1)*(T67+1)+Y67*(T67*(T67+1)-2101*(2*T67+1))+U67*(2*T67+1) -> 26771.314 | AC67: =(-AA67-SQRT(AA67^2-4*Z67*AB67))/(2*Z67) -> 2019.5057 | AD67: =(-AA67+SQRT(AA67^2-4*Z67*AB67))/(2*Z67) -> 2063.3586 | AE67: =AD67 -> 2063.3586 | AF67: =(Y67*(T67+0.5)-X67*AG67)/(Y67-X67) -> 2063.3586 | AG67: =AD67 -> 2063.3586 | AH67: =ROUNDDOWN(AG67,0) -> 2063 | AI67: =IF($Y$2=0,ROUNDUP(AF67,0),ROUND(AF67,0)) -> 2063 | AJ67: {=IFERROR(INDEX($AN$6:$DP$6,MATCH(_xlfn.AGGREGATE(14,6,(AN67:DP67)/(AN67:DP67<=0),1),AN67:DP67,0)),"-")} -> 2064 | AL67: E(t) | AM67: =H67 -> 0.006424656 | AN67: =IF(AN$6<=$T67,0,IF(AN$6<$AH67,$X67+($Y67-$X67)/($AG67-($T67+0.5))*(AN$6+0.5-($T67+0.5)), IF(AN$6=$AH67,($X67+($Y67-$X67)/($AG67-($T67+0.5))*(0.5*($AG67+$AH67)-($T67+0.5)))*($AG67-$AH67)+$Y67*($AH67+1-$AG67), $Y67))) -> 0.0062781705 | AO67: =IF(AO$6<=$T67,0,IF(AO$6<$AH67,$X67+($Y67-$X67)/($AG67-($T67+0.5))*(AO$6+0.5-($T67+0.5)), IF(AO$6=$AH67,($X67+($Y67-$X67)/($AG67-($T67+0.5))*(0.5*($AG67+$AH67)-($T67+0.5)))*($AG67-$AH67)+$Y67*($AH67+1-$AG67), $Y67))) -> 0.0061316849 | AP67: =IF(AP$6<=$T67,0,IF(AP$6<$AH67,$X67+($Y67-$X67)/($AG67-($T67+0.5))*(AP$6+0.5-($T67+0.5)), IF(AP$6=$AH67,($X67+($Y67-$X67)/($AG67-($T67+0.5))*(0.5*($AG67+$AH67)-($T67+0.5)))*($AG67-$AH67)+$Y67*($AH67+1-$AG67), $Y67))) -> 0.0059851994 | AQ67: =IF(AQ$6<=$T67,0,IF(AQ$6<$AH67,$X67+($Y67-$X67)/($AG67-($T67+0.5))*(AQ$6+0.5-($T67+0.5)), IF(AQ$6=$AH67,($X67+($Y67-$X67)/($AG67-($T67+0.5))*(0.5*($AG67+$AH67)-($T67+0.5)))*($AG67-$AH67)+$Y67*($AH67+1-$AG67), $Y67))) -> 0.0058387139 | AR67: =IF(AR$6<=$T67,0,IF(AR$6<$AH67,$X67+($Y67-$X67)/($AG67-($T67+0.5))*(AR$6+0.5-($T67+0.5)), IF(AR$6=$AH67,($X67+($Y67-$X67)/($AG67-($T67+0.5))*(0.5*($AG67+$AH67)-($T67+0.5)))*($AG67-$AH67)+$Y67*($AH67+1-$AG67), $Y67))) -> 0.0056922284 | AS67: =IF(AS$6<=$T67,0,IF(AS$6<$AH67,$X67+($Y67-$X67)/($AG67-($T67+0.5))*(AS$6+0.5-($T67+0.5)), IF(AS$6=$AH67,($X67+($Y67-$X67)/($AG67-($T67+0.5))*(0.5*($AG67+$AH67)-($T67+0.5)))*($AG67-$AH67)+$Y67*($AH67+1-$AG67), $Y67))) -> 0.0055457428 | AT67: =IF(AT$6<=$T67,0,IF(AT$6<$AH67,$X67+($Y67-$X67)/($AG67-($T67+0.5))*(AT$6+0.5-($T67+0.5)), IF(AT$6=$AH67,($X67+($Y67-$X67)/($AG67-($T67+0.5))*(0.5*($AG67+$AH67)-($T67+0.5)))*($AG67-$AH67)+$Y67*($AH67+1-$AG67), $Y67))) -> 0.0053992573 | AU67: =IF(AU$6<=$T67,0,IF(AU$6<$AH67,$X67+($Y67-$X67)/($AG67-($T67+0.5))*(AU$6+0.5-($T67+0.5)), IF(AU$6=$AH67,($X67+($Y67-$X67)/($AG67-($T67+0.5))*(0.5*($AG67+$AH67)-($T67+0.5)))*($AG67-$AH67)+$Y67*($AH67+1-$AG67), $Y67))) -> 0.0052527718 | ... DP67: =IF(DP$6<=$T67,0,IF(DP$6<$AH67,$X67+($Y67-$X67)/($AG67-($T67+0.5))*(DP$6+0.5-($T67+0.5)), IF(DP$6=$AH67,($X67+($Y67-$X67)/($AG67-($T67+0.5))*(0.5*($AG67+$AH67)-($T67+0.5)))*($AG67-$AH67)+$Y67*($AH67+1-$AG67), $Y67))) -> 0
