Workbook

Sheet Kredit
B2: Bedarfsgerechter staatlicher Kredit energetische Gebäudesanierung
B4: Kredit | C4: 40000 | I4: Eingabefelder
B6: Nettovermögen ohne Kredit | E6: 450000 | G6: Nettovermögen mit Kredit | J6: =MAX(0,E6-C4) -> 410000
B8: Progressive KRV? | F8: ja | H8: KRE = Kreditrate Einkommen
B9: Kredit in die Basis KRV miteinbeziehen? | F9: ja | H9: KRV = Kreditrate Vermögen
F11: Freibetrag Vermögen (F) | J11: 500000
F12: Kreditrate Vermögen (KRV) p.a. in % | J12: 0.01
B13: Zinssatz p.a. | E13: 0.04 | F13: KRV p.a. in % | J13: =IF($F$8="ja",('Progression KRV'!$E$5*J14^2+'Progression KRV'!$E$6*J14),$J$12) -> 0
B14: Zinsen p.a. im ersten Jahr | E14: =E13*C4 -> 1600 | F14: =IF(F9="ja","Basis KRV (V + Kredit - F)","Basis KRV (V - F)") -> Basis KRV (V + Kredit - F) | J14: =IF(F9="ja",MAX(0,$J$6-$J$11+$C$4),MAX(J6-J11,0)) -> 0
B16: zu versteuerndes Einkommen (Basis KRE) | D16: KRE in % p.a. | E16: Bedienung des Kredits p.a. | H16: Belastung p.m. | I16: tats. Zinssatz p.a. | J16: Tilgung im ersten Jahr | L16: KRE in % p.a.
B17: im Jahr | C17: im Monat | E17: KRE | F17: KRV | G17: KRE + KRV
B18: 0 | C18: =B18/12 -> 0 | D18: =ROUND(L18,4) -> 0 | E18: =L18*B18 -> 0 | F18: =MAX($J$14*$J$13,0) -> 0 | G18: =MIN(E18+F18,$C$4+$E$14) -> 0 | H18: =G18/12 -> 0 | I18: =IF(G18<$E$14,G18/$C$4,$E$13) -> 0 | J18: =IF(G18>$E$14,IF(G18-$E$14>$C$4,$C$4,G18-$E$14),0) -> 0 | L18: =('Progression KRE'!$E$5*B18^2+'Progression KRE'!$E$6*B18) -> 0
B19: =B18+2500 -> 2500 | C19: =B19/12 -> 208.33333 | D19: =ROUND(L19,4) -> 0.0002 | E19: =L19*B19 -> 0.58617188 | F19: =MAX($J$14*$J$13,0) -> 0 | G19: =MIN(E19+F19,$C$4+$E$14) -> 0.58617188 | H19: =G19/12 -> 0.048847656 | I19: =IF(G19<$E$14,G19/$C$4,$E$13) -> 1.4654297e-05 | J19: =IF(G19>$E$14,IF(G19-$E$14>$C$4,$C$4,G19-$E$14),0) -> 0 | L19: =('Progression KRE'!$E$5*B19^2+'Progression KRE'!$E$6*B19) -> 0.00023446875
B20: =B19+2500 -> 5000 | C20: =B20/12 -> 416.66667 | D20: =ROUND(L20,4) -> 0.0009 | E20: =L20*B20 -> 4.6884375 | F20: =MAX($J$14*$J$13,0) -> 0 | G20: =MIN(E20+F20,$C$4+$E$14) -> 4.6884375 | H20: =G20/12 -> 0.39070312 | I20: =IF(G20<$E$14,G20/$C$4,$E$13) -> 0.00011721094 | J20: =IF(G20>$E$14,IF(G20-$E$14>$C$4,$C$4,G20-$E$14),0) -> 0 | L20: =('Progression KRE'!$E$5*B20^2+'Progression KRE'!$E$6*B20) -> 0.0009376875
B21: =B20+2500 -> 7500 | C21: =B21/12 -> 625 | D21: =ROUND(L21,4) -> 0.0021 | E21: =L21*B21 -> 15.822422 | F21: =MAX($J$14*$J$13,0) -> 0 | G21: =MIN(E21+F21,$C$4+$E$14) -> 15.822422 | H21: =G21/12 -> 1.3185352 | I21: =IF(G21<$E$14,G21/$C$4,$E$13) -> 0.00039556055 | J21: =IF(G21>$E$14,IF(G21-$E$14>$C$4,$C$4,G21-$E$14),0) -> 0 | L21: =('Progression KRE'!$E$5*B21^2+'Progression KRE'!$E$6*B21) -> 0.0021096562
B22: =B21+2500 -> 10000 | C22: =B22/12 -> 833.33333 | D22: =ROUND(L22,4) -> 0.0038 | E22: =L22*B22 -> 37.50375 | F22: =MAX($J$14*$J$13,0) -> 0 | G22: =MIN(E22+F22,$C$4+$E$14) -> 37.50375 | H22: =G22/12 -> 3.1253125 | I22: =IF(G22<$E$14,G22/$C$4,$E$13) -> 0.00093759375 | J22: =IF(G22>$E$14,IF(G22-$E$14>$C$4,$C$4,G22-$E$14),0) -> 0 | L22: =('Progression KRE'!$E$5*B22^2+'Progression KRE'!$E$6*B22) -> 0.003750375
B23: =B22+2500 -> 12500 | C23: =B23/12 -> 1041.6667 | D23: =ROUND(L23,4) -> 0.0059 | E23: =L23*B23 -> 73.248047 | F23: =MAX($J$14*$J$13,0) -> 0 | G23: =MIN(E23+F23,$C$4+$E$14) -> 73.248047 | H23: =G23/12 -> 6.1040039 | I23: =IF(G23<$E$14,G23/$C$4,$E$13) -> 0.0018312012 | J23: =IF(G23>$E$14,IF(G23-$E$14>$C$4,$C$4,G23-$E$14),0) -> 0 | L23: =('Progression KRE'!$E$5*B23^2+'Progression KRE'!$E$6*B23) -> 0.0058598437
B24: =B23+2500 -> 15000 | C24: =B24/12 -> 1250 | D24: =ROUND(L24,4) -> 0.0084 | E24: =L24*B24 -> 126.57094 | F24: =MAX($J$14*$J$13,0) -> 0 | G24: =MIN(E24+F24,$C$4+$E$14) -> 126.57094 | H24: =G24/12 -> 10.547578 | I24: =IF(G24<$E$14,G24/$C$4,$E$13) -> 0.0031642734 | J24: =IF(G24>$E$14,IF(G24-$E$14>$C$4,$C$4,G24-$E$14),0) -> 0 | L24: =('Progression KRE'!$E$5*B24^2+'Progression KRE'!$E$6*B24) -> 0.0084380625
B25: =B24+2500 -> 17500 | C25: =B25/12 -> 1458.3333 | D25: =ROUND(L25,4) -> 0.0115 | E25: =L25*B25 -> 200.98805 | F25: =MAX($J$14*$J$13,0) -> 0 | G25: =MIN(E25+F25,$C$4+$E$14) -> 200.98805 | H25: =G25/12 -> 16.749004 | I25: =IF(G25<$E$14,G25/$C$4,$E$13) -> 0.0050247012 | J25: =IF(G25>$E$14,IF(G25-$E$14>$C$4,$C$4,G25-$E$14),0) -> 0 | L25: =('Progression KRE'!$E$5*B25^2+'Progression KRE'!$E$6*B25) -> 0.011485031
B26: =B25+2500 -> 20000 | C26: =B26/12 -> 1666.6667 | D26: =ROUND(L26,4) -> 0.015 | E26: =L26*B26 -> 300.015 | F26: =MAX($J$14*$J$13,0) -> 0 | G26: =MIN(E26+F26,$C$4+$E$14) -> 300.015 | H26: =G26/12 -> 25.00125 | I26: =IF(G26<$E$14,G26/$C$4,$E$13) -> 0.007500375 | J26: =IF(G26>$E$14,IF(G26-$E$14>$C$4,$C$4,G26-$E$14),0) -> 0 | L26: =('Progression KRE'!$E$5*B26^2+'Progression KRE'!$E$6*B26) -> 0.01500075
B27: =B26+2500 -> 22500 | C27: =B27/12 -> 1875 | D27: =ROUND(L27,4) -> 0.019 | E27: =L27*B27 -> 427.16742 | F27: =MAX($J$14*$J$13,0) -> 0 | G27: =MIN(E27+F27,$C$4+$E$14) -> 427.16742 | H27: =G27/12 -> 35.597285 | I27: =IF(G27<$E$14,G27/$C$4,$E$13) -> 0.010679186 | J27: =IF(G27>$E$14,IF(G27-$E$14>$C$4,$C$4,G27-$E$14),0) -> 0 | L27: =('Progression KRE'!$E$5*B27^2+'Progression KRE'!$E$6*B27) -> 0.018985219
B28: =B27+2500 -> 25000 | C28: =B28/12 -> 2083.3333 | D28: =ROUND(L28,4) -> 0.0234 | E28: =L28*B28 -> 585.96094 | F28: =MAX($J$14*$J$13,0) -> 0 | G28: =MIN(E28+F28,$C$4+$E$14) -> 585.96094 | H28: =G28/12 -> 48.830078 | I28: =IF(G28<$E$14,G28/$C$4,$E$13) -> 0.014649023 | J28: =IF(G28>$E$14,IF(G28-$E$14>$C$4,$C$4,G28-$E$14),0) -> 0 | L28: =('Progression KRE'!$E$5*B28^2+'Progression KRE'!$E$6*B28) -> 0.023438437
B29: =B28+2500 -> 27500 | C29: =B29/12 -> 2291.6667 | D29: =ROUND(L29,4) -> 0.0284 | E29: =L29*B29 -> 779.91117 | F29: =MAX($J$14*$J$13,0) -> 0 | G29: =MIN(E29+F29,$C$4+$E$14) -> 779.91117 | H29: =G29/12 -> 64.992598 | I29: =IF(G29<$E$14,G29/$C$4,$E$13) -> 0.019497779 | J29: =IF(G29>$E$14,IF(G29-$E$14>$C$4,$C$4,G29-$E$14),0) -> 0 | L29: =('Progression KRE'!$E$5*B29^2+'Progression KRE'!$E$6*B29) -> 0.028360406
B30: =B29+2500 -> 30000 | C30: =B30/12 -> 2500 | D30: =ROUND(L30,4) -> 0.0338 | E30: =L30*B30 -> 1012.5337 | F30: =MAX($J$14*$J$13,0) -> 0 | G30: =MIN(E30+F30,$C$4+$E$14) -> 1012.5337 | H30: =G30/12 -> 84.377812 | I30: =IF(G30<$E$14,G30/$C$4,$E$13) -> 0.025313344 | J30: =IF(G30>$E$14,IF(G30-$E$14>$C$4,$C$4,G30-$E$14),0) -> 0 | L30: =('Progression KRE'!$E$5*B30^2+'Progression KRE'!$E$6*B30) -> 0.033751125
... B34: =B33+2500 -> 40000 | C34: =B34/12 -> 3333.3333 | D34: =ROUND(L34,4) -> 0.06 | E34: =L34*B34 -> 2400.06 | F34: =MAX($J$14*$J$13,0) -> 0 | G34: =MIN(E34+F34,$C$4+$E$14) -> 2400.06 | H34: =G34/12 -> 200.005 | I34: =IF(G34<$E$14,G34/$C$4,$E$13) -> 0.04 | J34: =IF(G34>$E$14,IF(G34-$E$14>$C$4,$C$4,G34-$E$14),0) -> 800.06 | L34: =('Progression KRE'!$E$5*B34^2+'Progression KRE'!$E$6*B34) -> 0.0600015
B35: =B34+5000 -> 45000 | C35: =B35/12 -> 3750 | D35: =ROUND(L35,4) -> 0.0759 | E35: =L35*B35 -> 3417.2634 | F35: =MAX($J$14*$J$13,0) -> 0 | G35: =MIN(E35+F35,$C$4+$E$14) -> 3417.2634 | H35: =G35/12 -> 284.77195 | I35: =IF(G35<$E$14,G35/$C$4,$E$13) -> 0.04 | J35: =IF(G35>$E$14,IF(G35-$E$14>$C$4,$C$4,G35-$E$14),0) -> 1817.2634 | L35: =('Progression KRE'!$E$5*B35^2+'Progression KRE'!$E$6*B35) -> 0.075939188
B36: =B35+5000 -> 50000 | C36: =B36/12 -> 4166.6667 | D36: =ROUND(L36,4) -> 0.0938 | E36: =L36*B36 -> 4687.5938 | F36: =MAX($J$14*$J$13,0) -> 0 | G36: =MIN(E36+F36,$C$4+$E$14) -> 4687.5938 | H36: =G36/12 -> 390.63281 | I36: =IF(G36<$E$14,G36/$C$4,$E$13) -> 0.04 | J36: =IF(G36>$E$14,IF(G36-$E$14>$C$4,$C$4,G36-$E$14),0) -> 3087.5938 | L36: =('Progression KRE'!$E$5*B36^2+'Progression KRE'!$E$6*B36) -> 0.093751875
B37: =B36+5000 -> 55000 | C37: =B37/12 -> 4583.3333 | D37: =ROUND(L37,4) -> 0.1134 | E37: =L37*B37 -> 6239.1759 | F37: =MAX($J$14*$J$13,0) -> 0 | G37: =MIN(E37+F37,$C$4+$E$14) -> 6239.1759 | H37: =G37/12 -> 519.93133 | I37: =IF(G37<$E$14,G37/$C$4,$E$13) -> 0.04 | J37: =IF(G37>$E$14,IF(G37-$E$14>$C$4,$C$4,G37-$E$14),0) -> 4639.1759 | L37: =('Progression KRE'!$E$5*B37^2+'Progression KRE'!$E$6*B37) -> 0.11343956
B38: =B37+5000 -> 60000 | C38: =B38/12 -> 5000 | D38: =ROUND(L38,4) -> 0.135 | E38: =L38*B38 -> 8100.135 | F38: =MAX($J$14*$J$13,0) -> 0 | G38: =MIN(E38+F38,$C$4+$E$14) -> 8100.135 | H38: =G38/12 -> 675.01125 | I38: =IF(G38<$E$14,G38/$C$4,$E$13) -> 0.04 | J38: =IF(G38>$E$14,IF(G38-$E$14>$C$4,$C$4,G38-$E$14),0) -> 6500.135 | L38: =('Progression KRE'!$E$5*B38^2+'Progression KRE'!$E$6*B38) -> 0.13500225
B39: =B38+5000 -> 65000 | C39: =B39/12 -> 5416.6667 | D39: =ROUND(L39,4) -> 0.1584 | E39: =L39*B39 -> 10298.596 | F39: =MAX($J$14*$J$13,0) -> 0 | G39: =MIN(E39+F39,$C$4+$E$14) -> 10298.596 | H39: =G39/12 -> 858.21633 | I39: =IF(G39<$E$14,G39/$C$4,$E$13) -> 0.04 | J39: =IF(G39>$E$14,IF(G39-$E$14>$C$4,$C$4,G39-$E$14),0) -> 8698.5959 | L39: =('Progression KRE'!$E$5*B39^2+'Progression KRE'!$E$6*B39) -> 0.15843994
B40: =B39+5000 -> 70000 | C40: =B40/12 -> 5833.3333 | D40: =ROUND(L40,4) -> 0.1838 | E40: =L40*B40 -> 12862.684 | F40: =MAX($J$14*$J$13,0) -> 0 | G40: =MIN(E40+F40,$C$4+$E$14) -> 12862.684 | H40: =G40/12 -> 1071.8903 | I40: =IF(G40<$E$14,G40/$C$4,$E$13) -> 0.04 | J40: =IF(G40>$E$14,IF(G40-$E$14>$C$4,$C$4,G40-$E$14),0) -> 11262.684 | L40: =('Progression KRE'!$E$5*B40^2+'Progression KRE'!$E$6*B40) -> 0.18375263
B41: =B40+5000 -> 75000 | C41: =B41/12 -> 6250 | D41: =ROUND(L41,4) -> 0.2109 | E41: =L41*B41 -> 15820.523 | F41: =MAX($J$14*$J$13,0) -> 0 | G41: =MIN(E41+F41,$C$4+$E$14) -> 15820.523 | H41: =G41/12 -> 1318.377 | I41: =IF(G41<$E$14,G41/$C$4,$E$13) -> 0.04 | J41: =IF(G41>$E$14,IF(G41-$E$14>$C$4,$C$4,G41-$E$14),0) -> 14220.523 | L41: =('Progression KRE'!$E$5*B41^2+'Progression KRE'!$E$6*B41) -> 0.21094031
B42: =B41+5000 -> 80000 | C42: =B42/12 -> 6666.6667 | D42: =ROUND(L42,4) -> 0.24 | E42: =L42*B42 -> 19200.24 | F42: =MAX($J$14*$J$13,0) -> 0 | G42: =MIN(E42+F42,$C$4+$E$14) -> 19200.24 | H42: =G42/12 -> 1600.02 | I42: =IF(G42<$E$14,G42/$C$4,$E$13) -> 0.04 | J42: =IF(G42>$E$14,IF(G42-$E$14>$C$4,$C$4,G42-$E$14),0) -> 17600.24 | L42: =('Progression KRE'!$E$5*B42^2+'Progression KRE'!$E$6*B42) -> 0.240003
B43: =B42+5000 -> 85000 | C43: =B43/12 -> 7083.3333 | D43: =ROUND(L43,4) -> 0.2709 | E43: =L43*B43 -> 23029.958 | F43: =MAX($J$14*$J$13,0) -> 0 | G43: =MIN(E43+F43,$C$4+$E$14) -> 23029.958 | H43: =G43/12 -> 1919.1632 | I43: =IF(G43<$E$14,G43/$C$4,$E$13) -> 0.04 | J43: =IF(G43>$E$14,IF(G43-$E$14>$C$4,$C$4,G43-$E$14),0) -> 21429.958 | L43: =('Progression KRE'!$E$5*B43^2+'Progression KRE'!$E$6*B43) -> 0.27094069
B44: =B43+5000 -> 90000 | C44: =B44/12 -> 7500 | D44: =ROUND(L44,4) -> 0.3038 | E44: =L44*B44 -> 27337.804 | F44: =MAX($J$14*$J$13,0) -> 0 | G44: =MIN(E44+F44,$C$4+$E$14) -> 27337.804 | H44: =G44/12 -> 2278.1503 | I44: =IF(G44<$E$14,G44/$C$4,$E$13) -> 0.04 | J44: =IF(G44>$E$14,IF(G44-$E$14>$C$4,$C$4,G44-$E$14),0) -> 25737.804 | L44: =('Progression KRE'!$E$5*B44^2+'Progression KRE'!$E$6*B44) -> 0.30375338
B45: =B44+5000 -> 95000 | C45: =B45/12 -> 7916.6667 | D45: =ROUND(L45,4) -> 0.3384 | E45: =L45*B45 -> 32151.901 | F45: =MAX($J$14*$J$13,0) -> 0 | G45: =MIN(E45+F45,$C$4+$E$14) -> 32151.901 | H45: =G45/12 -> 2679.3251 | I45: =IF(G45<$E$14,G45/$C$4,$E$13) -> 0.04 | J45: =IF(G45>$E$14,IF(G45-$E$14>$C$4,$C$4,G45-$E$14),0) -> 30551.901 | L45: =('Progression KRE'!$E$5*B45^2+'Progression KRE'!$E$6*B45) -> 0.33844106
B46: =B45+5000 -> 100000 | C46: =B46/12 -> 8333.3333 | D46: =ROUND(L46,4) -> 0.375 | E46: =L46*B46 -> 37500.375 | F46: =MAX($J$14*$J$13,0) -> 0 | G46: =MIN(E46+F46,$C$4+$E$14) -> 37500.375 | H46: =G46/12 -> 3125.0312 | I46: =IF(G46<$E$14,G46/$C$4,$E$13) -> 0.04 | J46: =IF(G46>$E$14,IF(G46-$E$14>$C$4,$C$4,G46-$E$14),0) -> 35900.375 | L46: =('Progression KRE'!$E$5*B46^2+'Progression KRE'!$E$6*B46) -> 0.37500375
... B50: =B49+5000 -> 120000 | C50: =B50/12 -> 10000 | D50: =ROUND(L50,4) -> 0.54 | E50: =L50*B50 -> 64800.54 | F50: =MAX($J$14*$J$13,0) -> 0 | G50: =MIN(E50+F50,$C$4+$E$14) -> 41600 | H50: =G50/12 -> 3466.6667 | I50: =IF(G50<$E$14,G50/$C$4,$E$13) -> 0.04 | J50: =IF(G50>$E$14,IF(G50-$E$14>$C$4,$C$4,G50-$E$14),0) -> 40000 | L50: =('Progression KRE'!$E$5*B50^2+'Progression KRE'!$E$6*B50) -> 0.5400045
B52: Beschreibung des Modells: | F52: hier
B54: KRE | C54: Kreditrate Einkommen (Parametereingabe in Blatt "Progression KRE")
B55: KRV | C55: Kreditrate Vermögen (Paramtereingangabe bei Progression Blatt "Progression KRV")
B56: p.a. | C56: im Jahr
B57: p.m. | C57: im Monat

Sheet Progression KRE
B2: Bestimmung der Parameter der progressiven Kreditrate Einkommen (KRE)
B4: zu versteuerndes Einkommen p.a. (E) | C4: Kreditrate Einkommen (KRE) in % p.a. | D4: KRE in % = aE^2 + bE | G4: Ein- gabe- felder
B5: 0 | C5: 0 | D5: a | E5: =(C5-C6)/(B5^2-B6^2) -> 3.75e-11
B6: 40000 | C6: 0.06 | D6: b | E6: =-((C5+C6)*E5)/(C5-C6) -> 3.75e-11

Sheet Progression KRV
B2: Bestimmung der Parameter der progressiven Kreditrate Vermögen (KRV) | J2: 0 | K2: =('Progression KRV'!$E$5*J2^2+'Progression KRV'!$E$6*J2) -> 0
J3: =J2+5000 -> 5000 | K3: =('Progression KRV'!$E$5*J3^2+'Progression KRV'!$E$6*J3) -> 3.75075e-05
B4: Basis KRV (BV) | C4: Kreditrate Vermögen (KRV) in % p.a. | D4: KRV in % = aBV^2 + bBV | G4: Ein- gabe- felder | J4: =J3+5000 -> 10000 | K4: =('Progression KRV'!$E$5*J4^2+'Progression KRV'!$E$6*J4) -> 0.000150015
B5: 0 | C5: 0 | D5: a | E5: =(C5-C6)/(B5^2-B6^2) -> 1.5e-12 | J5: =J4+5000 -> 15000 | K5: =('Progression KRV'!$E$5*J5^2+'Progression KRV'!$E$6*J5) -> 0.0003375225
B6: 100000 | C6: 0.015 | D6: b | E6: =-((C5+C6)*E5)/(C5-C6) -> 1.5e-12 | J6: =J5+5000 -> 20000 | K6: =('Progression KRV'!$E$5*J6^2+'Progression KRV'!$E$6*J6) -> 0.00060003
J7: =J6+5000 -> 25000 | K7: =('Progression KRV'!$E$5*J7^2+'Progression KRV'!$E$6*J7) -> 0.0009375375
J8: =J7+5000 -> 30000 | K8: =('Progression KRV'!$E$5*J8^2+'Progression KRV'!$E$6*J8) -> 0.001350045
J9: =J8+5000 -> 35000 | K9: =('Progression KRV'!$E$5*J9^2+'Progression KRV'!$E$6*J9) -> 0.0018375525
J10: =J9+5000 -> 40000 | K10: =('Progression KRV'!$E$5*J10^2+'Progression KRV'!$E$6*J10) -> 0.00240006
J11: =J10+5000 -> 45000 | K11: =('Progression KRV'!$E$5*J11^2+'Progression KRV'!$E$6*J11) -> 0.0030375675
J12: =J11+5000 -> 50000 | K12: =('Progression KRV'!$E$5*J12^2+'Progression KRV'!$E$6*J12) -> 0.003750075
J13: =J12+5000 -> 55000 | K13: =('Progression KRV'!$E$5*J13^2+'Progression KRV'!$E$6*J13) -> 0.0045375825
J14: =J13+5000 -> 60000 | K14: =('Progression KRV'!$E$5*J14^2+'Progression KRV'!$E$6*J14) -> 0.00540009
J15: =J14+5000 -> 65000 | K15: =('Progression KRV'!$E$5*J15^2+'Progression KRV'!$E$6*J15) -> 0.0063375975
J16: =J15+5000 -> 70000 | K16: =('Progression KRV'!$E$5*J16^2+'Progression KRV'!$E$6*J16) -> 0.007350105
J17: =J16+5000 -> 75000 | K17: =('Progression KRV'!$E$5*J17^2+'Progression KRV'!$E$6*J17) -> 0.0084376125
J18: =J17+5000 -> 80000 | K18: =('Progression KRV'!$E$5*J18^2+'Progression KRV'!$E$6*J18) -> 0.00960012
... J27: =J26+5000 -> 125000 | K27: =('Progression KRV'!$E$5*J27^2+'Progression KRV'!$E$6*J27) -> 0.023437687

Sheet Impressum
B2: Andreas Wolfsteiner
B4: www.klima-retten.info
B6: Auf Anfrage übersende ich gerne eine bearbeitbare Version.
B8: klima-retten@email.de
