Workbook

Sheet KTF Stand 8-25
B2: Klima- und Transformationsfonds (KTF) nach 2. Entwurf Bundeshaushalt 2025 / 1. Entwurf Bundeshaushalt 2026
B4: Stand: | D4: Kabinettsvorlage 28.07.2025
B5: Mrd. € | C5: Ist | D5: Entwurf | E5: Entwurf | F5: Finanzplan
C6: 2024 | D6: =C6+1 -> 2025 | E6: =D6+1 -> 2026 | F6: =E6+1 -> 2027 | G6: =F6+1 -> 2028 | H6: =G6+1 -> 2029 | I6: 2030
B7: Einnahmen | C7: =SUM(C9:C11) -> 18.49314 | D7: =SUM(D9:D12) -> 30.745599 | E7: =SUM(E9:E12) -> 30.978426 | F7: =SUM(F9:F12) -> 35.894535 | G7: =SUM(G9:G12) -> 37.637845 | H7: =SUM(H9:H12) -> 37.68113
B8: CO2-Preis | C8: =SUM(C9:C10) -> 18.49314 | D8: =SUM(D9:D10) -> 20.745599 | E8: =SUM(E9:E10) -> 20.978426 | F8: =SUM(F9:F10) -> 25.894535 | G8: =SUM(G9:G10) -> 27.637845 | H8: =SUM(H9:H10) -> 27.68113
B9: EU-ETS 1 | C9: =5505298/1000000 -> 5.505298 | D9: =5332000/1000000 -> 5.332 | E9: =4265000/1000000 -> 4.265 | F9: =4640000/1000000 -> 4.64 | G9: =7486000/1000000 -> 7.486 | H9: =9528000/1000000 -> 9.528
B10: nEHS / EU-ETS 2 | C10: =12987842/1000000 -> 12.987842 | D10: =15413599/1000000 -> 15.413599 | E10: =16713426/1000000 -> 16.713426 | F10: =21254535/1000000 -> 21.254535 | G10: =20151845/1000000 -> 20.151845 | H10: =18153130/1000000 -> 18.15313
B11: Bundeszuschuss | C11: 0 | D11: 0 | E11: 0 | F11: 0 | G11: 0 | H11: 0
B12: Zuweisung Sondervermögen-IK | D12: 10 | E12: =D12 -> 10 | F12: =E12 -> 10 | G12: =F12 -> 10 | H12: =G12 -> 10
B13: Programmausgaben | C13: ='KTF Ausgaben Stand 8-25'!F156 -> 47.5057 | D13: =36703305/1000000 -> 36.703305 | E13: =35660806/1000000 -> 35.660806 | F13: =36670268/1000000 -> 36.670268 | G13: =39018306/1000000 -> 39.018306 | H13: =39506826/1000000 -> 39.506826
B14: Jahressaldo (Einnahmen - Ausgaben) | C14: =C7-C13 -> -29.01256 | D14: =D7-D13 -> -5.957706 | E14: =E7-E13 -> -4.68238 | F14: =F7-F13 -> -0.775733 | G14: =G7-G13 -> -1.380461 | H14: =H7-H13 -> -1.825696
B15: Entnahme Rücklage | C15: =29012560/1000000 -> 29.01256 | D15: =5957706/1000000 -> 5.957706 | E15: =2100000/1000000 -> 2.1 | F15: 0 | G15: 0 | H15: 0
B16: Zuführung Rücklage | C16: =D15*-1 -> -5.957706 | D16: =-2100000/1000000 -> -2.1 | E16: 0 | F16: 0 | G16: 0 | H16: 0
B17: Globale Minderausgaben | C17: =D15 -> 5.957706 | D17: =2031759/1000000 -> 2.031759 | E17: =2582380/1000000 -> 2.58238 | F17: =775733/1000000 -> 0.775733 | G17: =1380461/1000000 -> 1.380461 | H17: =1825696/1000000 -> 1.825696
B18: Saldo | C18: =SUM(C14:C17) -> 0 | D18: =SUM(D14:D17) -> -0.068241 | E18: =SUM(E14:E17) -> 0 | F18: =SUM(F14:F17) -> 4.6629367e-15 | G18: =SUM(G14:G17) -> -3.9968029e-15 | H18: =SUM(H14:H17) -> 6.4392935e-15
B20: vollständiges Klimageld (ETS 1 + nEHS/ETS 2) | C20: =C8/Klimageld!$C$12*1000 -> 221.47473 | D20: =D8/Klimageld!$C$12*1000 -> 248.45029 | E20: =E8/Klimageld!$C$12*1000 -> 251.23863 | F20: =F8/Klimageld!$C$12*1000 -> 310.11419 | G20: =G8/Klimageld!$C$12*1000 -> 330.99216 | H20: =H8/Klimageld!$C$12*1000 -> 331.51054
B21: Klimageld nEHS/ETS 2 | C21: =C10/Klimageld!$C$12*1000 -> 155.54302 | D21: =D10/Klimageld!$C$12*1000 -> 184.594 | E21: =E10/Klimageld!$C$12*1000 -> 200.16079 | F21: =F10/Klimageld!$C$12*1000 -> 254.54533 | G21: =G10/Klimageld!$C$12*1000 -> 241.33946 | H21: =H10/Klimageld!$C$12*1000 -> 217.40275
B23: 2. Entwurf Bundeshaushalt 2025 KTF: | C23: https://klima-retten.info/PDF/epl60_2EBH25.pdf
B25: Ist-Einnahmen ETS 1 und nEHS 2025: | D25: 21.4 | E25: lt. UBA
B27: Pogrammausgaben Eckwerte BH27 4/26 | F27: 40.9 | G27: 44.3 | H27: 45.05 | I27: 44..6

Sheet KTF Ausgaben Stand 8-25
B2: Ausgaben KTF
E19: Soll | F19: Ist | G19: Entwurf | H19: Entwurf | L19: Gruppierung
B20: Mrd. € | C20: Titel | E20: 2024 | F20: 2024 | G20: 2025 | H20: 2026 | I20: Veränderung 25 vs. Soll 24 | J20: Anteil 2025
B21: Zuweisungen und Zuschüsse | C21: 683 01 | D21: Ausgleich der Gasspeicherumlage | E21: 0 | F21: 0 | G21: 3.4 | H21: 0 | I21: neu | J21: =G21/$G$62 -> 0.09263471 | L21: Gasspeicherumlage
C22: 683 02 | D22: Energieforschung | H22: =543112/1000000 -> 0.543112 | J22: =G22/$G$62 -> 0 | L22: Sonstiges
C23: 683 03 | D23: Zuschüsse an stromintensive Unternehmen zum Ausgleich von emissionshandelsbedingten Strompreiserhöhungen | E23: 3.896383 | F23: 2.4 | G23: 2.85 | H23: 3 | I23: =(G23-E23)/E23 -> -0.2685524 | J23: =G23/$G$62 -> 0.077649683 | L23: Entlastung Wirtschaft
C24: 683 04 | D24: Maßnahmen zur Weiterentwicklung der Elektromobilität | F24: 0.3 | G24: 0.3 | H24: =88313/1000000 -> 0.088313 | J24: =G24/$G$62 -> 0.0081736508 | L24: Mobilität
C25: 683 05 | D25: Klimaneutrales Fliegen | F25: =63259/1000000 -> 0.063259 | G25: =105721/1000000 -> 0.105721 | H25: =115981/1000000 -> 0.115981 | J25: =G25/$G$62 -> 0.0028804218 | L25: Mobilität
C26: 683 06 | D26: Industriestrompreis zur Entlastung des Strompreises energieintensiver Unternehmen | J26: =G26/$G$62 -> 0 | L26: Entlastung Wirtschaft
C27: 683 07 | D27: =D147 -> Zuschüsse zur Entlastung beim Strompreis (EEG-Differenzkosten) | E27: 10.6 | I27: =(G27-E27)/E27 -> -1 | J27: =G27/$G$62 -> 0 | L27: EEG-Differenzkosten
C28: 683 09 | D28: Zuschuss zu den Übertragungsnetzkosten | H28: 6.5 | J28: =G28/$G$62 -> 0 | L28: Entlastung Wirtschaft
C29: 683 12 | D29: Batterieforschung | H29: 0.2 | J29: =G29/$G$62 -> 0 | L29: Sonstiges
C30: 685 03 | D30: Anpassung urbaner und ländlicher Räume an den Klimawandel | F30: =52178/1000000 -> 0.052178 | G30: 0.248 | H30: 0.125 | J30: =G30/$G$62 -> 0.0067568847 | L30: Sonstiges
C31: 685 04 | D31: Energieforschung und Energietechnologien | H31: 0.492 | J31: =G31/$G$62 -> 0 | L31: Sonstiges
C32: 686 05 | D32: Nationale Klimaschutzinitiative | F32: 0.271 | G32: 0.37 | H32: 0.402 | J32: =G32/$G$62 -> 0.010080836 | L32: Sonstiges
C33: 686 08 | D33: Energieeffizienz in Industrie und Gewerbe | E33: 0.854 | F33: 0.555 | G33: 0.918317 | I33: =(G33-E33)/E33 -> 0.075312646 | J33: =G33/$G$62 -> 0.025020008 | L33: Defossilisierung Wirtschaft
C34: 686 13 | D34: Programme und Maßnahmen der Energiewende | F34: =84824/1000000 -> 0.084824 | G34: 0.122 | H34: 0.139 | J34: =G34/$G$62 -> 0.0033239513 | L34: Sonstiges
C35: 686 14 | D35: Beratung Energieeffizienz | F35: 0.237 | G35: =0.306 -> 0.306 | H35: 0.196 | J35: =G35/$G$62 -> 0.0083371239 | L35: Sonstiges
C36: 686 16 | D36: Umsetzung der Carbon Management Strategie | F36: =6821/1000000 -> 0.006821 | G36: =25000/1000000 -> 0.025 | H36: 0.15 | J36: =G36/$G$62 -> 0.00068113757 | L36: Sonstiges
C37: 686 31 | D37: Maßnahmen zum Natürlichen Klimaschutz | E37: 0.742393 | F37: 0.23 | G37: 0.579024 | H37: 0.822 | I37: =(G37-E37)/E37 -> -0.2200573 | J37: =G37/$G$62 -> 0.0157758 | L37: Sonstiges
C38: 697 01 | D38: Ausgleichszahlungen für Betreiber von Kohlekraftwerken | E38: 0.45773 | F38: 0.364 | G38: 0.833083 | H38: 0.435 | I38: =(G38-E38)/E38 -> 0.82003146 | J38: =G38/$G$62 -> 0.022697765 | L38: Sonstiges
C39: 697 02 | D39: Finanzielle Kompensationen nach § 11 BEHG | E39: 0.4914 | F39: 0.107 | G39: 0.31535 | H39: 0.294 | I39: =(G39-E39)/E39 -> -0.35826211 | J39: =G39/$G$62 -> 0.0085918693 | L39: Entlastung Wirtschaft
C40: 882 03 | D40: Finanzhilfen an die Länder für Investitionen in den Radverkehr durch das Sonderprogramm "Stadt und Land" | H40: 0.281 | J40: =G40/$G$62 -> 0 | L40: Mobilität
B41: Ausgaben für Investitionen | C41: 891 03 | D41: Sanierung kommunaler Einrichtungen in den Bereichen Sport, Jugend und Kultur | E41: 0.124605 | F41: 0.025 | G41: 0.229413 | H41: 0.213 | I41: =(G41-E41)/E41 -> 0.84112195 | J41: =G41/$G$62 -> 0.0062504725 | L41: Gebäude
C42: 892 01 | D42: Dekarbonisierung der Industrie | E42: 0.659 | F42: 0.041 | G42: 0.553 | H42: 0.701 | I42: =(G42-E42)/E42 -> -0.16084977 | J42: =G42/$G$62 -> 0.015066763 | L42: Defossilisierung Wirtschaft
C43: 892 02 | D43: Wasserstoffeinsatz in der Industrieproduktion | E43: 1.270575 | F43: 0.921 | G43: 0.71795 | H43: 1.259 | I43: =(G43-E43)/E43 -> -0.43494087 | J43: =G43/$G$62 -> 0.019560909 | L43: Wasserstoff
C44: 892 03 | D44: Umsetzung der Nationalen Wasserstoffstrategie | E44: 0.644498 | F44: 0.115 | G44: 0.490615 | H44: 0.901 | I44: =(G44-E44)/E44 -> -0.23876412 | J44: =G44/$G$62 -> 0.013367052 | L44: Wasserstoff
C45: 892 04 | D45: Förderung von Erzeugungsanlagen für erneuerbare Kraftstoffe und Antriebstechnologien für die Luft- sowie Schifffahrt | F45: 0.025 | G45: 0.038 | H45: 0.15 | J45: =G45/$G$62 -> 0.0010353291 | L45: Mobilität
C46: 892 05 | D46: Wasserstoff- und Brennstoffzellenanwendungen im Verkehr | E46: 0.102007 | F46: 0.086 | G46: 0.128638 | H46: 0.108 | I46: =(G46-E46)/E46 -> 0.26107032 | J46: =G46/$G$62 -> 0.003504807 | L46: Wasserstoff
C47: 892 07 | D47: DEU-FRA-Projekte IPCEI Wasserstoff | E47: 0.669385 | F47: 0.267 | G47: 0.528061 | H47: 0.68 | I47: =(G47-E47)/E47 -> -0.21112514 | J47: =G47/$G$62 -> 0.014387287 | L47: Wasserstoff
C48: 892 10 | D48: Mikroelektronik für die Digitalisierung | E48: 4.821057 | F48: 0.587 | G48: 2.9 | I48: =(G48-E48)/E48 -> -0.39847216 | J48: =G48/$G$62 -> 0.079011958 | L48: Chip-Fabriken
C49: 892 11 | D49: Negativemissionen | H49: 0.112 | J49: =G49/$G$62 -> 0 | L49: Sonstiges
C50: 892 13 | D50: Energieeffizienz in Industrie und Gewerbe | H50: 0.973 | J50: =G50/$G$62 -> 0 | L50: Defossilisierung Wirtschaft
C51: 893 01 | D51: Zuschüsse zum Kauf elektrisch betriebener Fahrzeuge | E51: 0.20964 | F51: 0.235 | G51: 0.00125 | H51: 0 | I51: =(G51-E51)/E51 -> -0.9940374 | J51: =G51/$G$62 -> 3.4056879e-05 | L51: Mobilität
C52: 893 02 | D52: Zuschüsse zur Errichtung von Tank- und Ladeinfrastruktur | E52: 1.8086 | F52: 0.398 | G52: 1.575141 | H52: 1.714 | I52: =(G52-E52)/E52 -> -0.12908272 | J52: =G52/$G$62 -> 0.042915509 | L52: Mobilität
C53: 893 03 | D53: Transformation Wärmenetze | E53: 0.75 | F53: 0.127 | G53: 0.979 | I53: =(G53-E53)/E53 -> 0.30533333 | J53: =G53/$G$62 -> 0.026673347 | L53: Gebäude
C54: 893 04 | D54: Industrielle Fertigung für mobile und stationäre Energiespeicher | E54: 0.511907 | F54: 0.137 | G54: 0.325 | H54: 0.52 | I54: =(G54-E54)/E54 -> -0.36511905 | J54: =G54/$G$62 -> 0.0088547884 | L54: Defossilisierung Wirtschaft
C55: 893 08 | D55: Zuschüsse für die Anschaffung von Nutzfahrzeugen mit alternativen, klimaschonenden Antrieben | E55: 0.328083 | F55: 0.292 | G55: 0.325289 | H55: 0.296 | I55: =(G55-E55)/E55 -> -0.0085161377 | J55: =G55/$G$62 -> 0.0088626624 | L55: Mobilität
C56: 893 09 | D56: Förderung des Ankaufs von Bussen mit alternativen Antrieben | E56: 0.459621 | F56: 0.232 | G56: 0.462078 | H56: 0.403 | I56: =(G56-E56)/E56 -> 0.0053457087 | J56: =G56/$G$62 -> 0.012589547 | L56: Mobilität
C57: 893 10 | D57: Förderung von Maßnahmen der Energieeffizienz und erneuerbarer Energien im Gebäudebereich | E57: 16.741923 | F57: 14.117 | G57: 15.3207 | H57: 12.065 | I57: =(G57-E57)/E57 -> -0.084890069 | J57: =G57/$G$62 -> 0.41742018 | L57: Gebäude
...

Sheet Klimageld
B2: Klimageld / Klimadividende
B4: Md. € | C4: Ist | D4: Ist | E4: Entwurf | F4: Plan | G4: Plan | H4: Plan | M4: Deutschland indirekt zurechenbare Einnahmen 2025
B5: Jahr | C5: 2024 | D5: 2025 | E5: =D5+1 -> 2026 | F5: =E5+1 -> 2027 | G5: =F5+1 -> 2028 | H5: =G5+1 -> 2029 | N5: Mrd. €
B6: Einnahmen EU-ETS 1 in Mrd. € | C6: ='KTF Stand 8-25'!C9 -> 5.505298 | D6: 5.4 | E6: ='KTF Stand 8-25'!E9 -> 4.265 | F6: ='KTF Stand 8-25'!F9 -> 4.64 | G6: ='KTF Stand 8-25'!G9 -> 7.486 | H6: ='KTF Stand 8-25'!H9 -> 9.528 | M6: Einnahmen EU-ETS 1 EU gesamt | N6: 43 | O6: Quelle
B7: Einnahmen nEHS bzw. EU-ETS 2 in Mrd. € | C7: ='KTF Stand 8-25'!C10 -> 12.987842 | D7: 16 | E7: ='KTF Stand 8-25'!E10 -> 16.713426 | F7: ='KTF Stand 8-25'!F10 -> 21.254535 | G7: ='KTF Stand 8-25'!G10 -> 20.151845 | H7: ='KTF Stand 8-25'!H10 -> 18.15313 | M7: EU-weit direkt an Mitgliedstaaten | N7: 24
B8: Einnahmen Deutschland CO₂-Bepreisung | C8: =SUM(C6:C7) -> 18.49314 | D8: =SUM(D6:D7) -> 21.4 | E8: =SUM(E6:E7) -> 20.978426 | F8: =SUM(F6:F7) -> 25.894535 | G8: =SUM(G6:G7) -> 27.637845 | H8: =SUM(H6:H7) -> 27.68113 | M8: direkt an Deutschland | N8: =D6 -> 5.4
B9: EU-ETS 1 Deutschland zurechenbar | D9: =N11 -> 4.275 | M9: Anteil Deutschland direkt | N9: =N8/N7 -> 0.225
B10: Öffentliche Einnahmen CO₂-Bepreisung | D10: =SUM(D8:D9) -> 25.675 | M10: Einnahmen, die auf EU-Ebene verbleiben | N10: =N6-N7 -> 19
M11: davon Deutschland zurechenbar | N11: =N10*N9 -> 4.275
B12: Bürger in Mill. | C12: 83.5 | J12: Quelle
B14: Jahr | C14: 2024 | D14: 2025 | E14: =D14+1 -> 2026 | F14: =E14+1 -> 2027 | G14: =F14+1 -> 2028 | H14: =G14+1 -> 2029 | I14: verwendete Einnahmen
B15: Klimageld pro Kopf im Jahr | C15: =C7/$C$12*1000 -> 155.54302 | D15: =D7/$C$12*1000 -> 191.61677 | E15: =E7/$C$12*1000 -> 200.16079 | F15: =F7/$C$12*1000 -> 254.54533 | G15: =G7/$C$12*1000 -> 241.33946 | H15: =H7/$C$12*1000 -> 217.40275 | I15: nur nEHS/ETS 2
C16: =C8/$C$12*1000 -> 221.47473 | D16: =D8/$C$12*1000 -> 256.28743 | E16: =E8/$C$12*1000 -> 251.23863 | F16: =F8/$C$12*1000 -> 310.11419 | G16: =G8/$C$12*1000 -> 330.99216 | H16: =H8/$C$12*1000 -> 331.51054 | I16: ETS 1 direkt + nEHS/ETS 2
D17: =D10/$C$12*1000 -> 307.48503 | I17: öffentliche Einnahmen gesamt
B19: Ausführliches Paper Umsetzung und Finanzierung Klimageld:
B20: zenodo
B22: Tool zur Berechnung eines EU-Klimageldes mit Solidaritätsmechanismus:
B23: http://EU-Klimadividende.klima-retten.info

Sheet EEG-Soli
B2: Vorschlag EEG-Soli
B4: Jahr | C4: 2024
B5: EEG-Differenzkosten | C5: ='KTF Ausgaben Stand 8-25'!E171 -> 18.5 | D5: Mrd. €
B6: Einnahmen CO2-Bepreisung | C6: ='KTF Stand 8-25'!C8 -> 18.49314 | D6: Mrd. €
B8: Jahr | C8: 2022
B9: Lohnsteuer | C9: =227204544/1000000 -> 227.20454 | D9: Mrd. €
B10: Veranlagte Einkommensteuer | C10: =76973016/1000000 -> 76.973016 | D10: Mrd. €
B11: Nicht veranlagte Steuern vom Ertrag u. Abg.st. | C11: =39161295/1000000 -> 39.161295 | D11: Mrd. €
B12: Körperschaftsteuer | C12: =46333813/1000000 -> 46.333813 | D12: Mrd. €
B13: Gesamteinnahmen | C13: =SUM(C9:C12) -> 389.67267 | D13: Mrd. € | F13: Quelle
B15: ≈ EEG-Soli (Ergänzungsabgabe) | C15: =C5/C13 -> 0.047475744 | F15: Aufschlag auf die Einkommen- und Körperschaftsteuer
B16: Beispiel Durchschnittssteuersatz vor dem Soli | C16: 0.25
B17: Durchschnittssteuersatz einschl. EEG-Soli | C17: =(C16*100+(C16*100*C15))/100 -> 0.26186894
B19: Wenn grundsätzlich für die EEG-Differenzkosten eine alternative Finanzierung gefunden werden kann, dann macht dies aus der Sicht des Gesamthaushaltes ein vollständiges Klimageld leichter finanzierbar.
B24: Mit der Marktintegration EE-Stroms würde der EEG-Soli von selbst auslaufen.

Sheet KTF 1. Entwurf BH25
B2: Klima- und Transformationsfonds (KTF) nach 1. Entwurf Bundeshaushalt 2025
B4: Stand: | C4: 19.08.2024 | E4: Kab.vorlage 16.08.2024 | H4: 45666
B5: Mrd. € | C5: Soll | D5: Entwurf | E5: Finanzplan | H5: Ist
C6: 2024 | D6: =C6+1 -> 2025 | E6: =D6+1 -> 2026 | F6: =E6+1 -> 2027 | G6: =F6+1 -> 2028 | H6: 2024
B7: Einnahmen | C7: =SUM(C9:C11) -> 29.211 | D7: =SUM(D9:D11) -> 22.15 | E7: =SUM(E9:E11) -> 23.93392 | F7: =SUM(F9:F11) -> 27.574249 | G7: =SUM(G9:G11) -> 29.614937
B8: CO2-Preis | C8: =SUM(C9:C10) -> 18.836 | D8: =SUM(D9:D10) -> 22.15 | E8: =SUM(E9:E10) -> 23.93392 | F8: =SUM(F9:F10) -> 27.574249 | G8: =SUM(G9:G10) -> 29.614937 | H8: =SUM(H9:H10) -> 18.5
B9: EU-ETS 1 | C9: 6.581 | D9: 6.74 | E9: 6.48492 | F9: 7.663278 | G9: 10.884049 | H9: 5.5
B10: nEHS / EU-ETS 2 | C10: 12.255 | D10: 15.41 | E10: 17.449 | F10: 19.910971 | G10: 18.730888 | H10: 13
B11: Bundeszuschuss | C11: 10.375 | D11: 0 | E11: 0 | F11: 0 | G11: 0
B12: Programmausgaben (ab 2025 ohne EEG) | C12: 57.906664 | D12: =7.545+26.925 -> 34.47 | E12: 33.93687 | F12: 30.174249 | G12: 31.814937
B13: Kontostand 1.1. | C13: =29.013 -> 29.013 | D13: =C18 -> 0.317336 | E13: =D18 -> -0.002664 | F13: =E18 -> -1.005614 | G13: =F18 -> -1.005614
B14: Jahressaldo (Einnahmen - Ausgaben) | C14: =C7-C12 -> -28.695664 | D14: =D7-D12 -> -12.32 | E14: =E7-E12 -> -10.00295 | F14: =F7-F12 -> -2.6 | G14: =G7-G12 -> -2.2
B15: Globale Minderausgaben | D15: 9 | E15: 9 | F15: 9 | G15: 9
B16: Globale Mehreinnahmen | D16: 3
B17: Globale Mehrausgaben | F17: -6.4 | G17: -6.8
B18: Kontostand 31.12. | C18: =SUM(C13:C17) -> 0.317336 | D18: =SUM(D13:D17) -> -0.002664 | E18: =SUM(E13:E17) -> -1.005614 | F18: =SUM(F13:F17) -> -1.005614 | G18: =SUM(G13:G17) -> -1.005614
B20: Tatsächliche Programmausgaben ohne EEG | C20: =C12-'KTF Ausg 1. Entwurf BH25'!D6 -> 38.506664 | D20: =D12-D15-D16 -> 22.47 | E20: =E12-E15-E16 -> 24.93687 | F20: =F12-F15-F16 -> 21.174249 | G20: =G12-G15-G16 -> 22.814937
B21: Geplante Programmausgaben vor BVerG ohne EEG | C21: ='KTF vor BVerfG'!G11-'KTF Ausg Entwurf 24'!C5 -> 45 | D21: ='KTF vor BVerfG'!H11-'KTF Ausg Entwurf 24'!$C$5 -> 44.4 | E21: ='KTF vor BVerfG'!I11-'KTF Ausg Entwurf 24'!$C$5 -> 37.1 | F21: ='KTF vor BVerfG'!J11-'KTF Ausg Entwurf 24'!$C$5 -> 34.9
B23: vollständiges Klimageld (ETS 1 + nEHS/ETS 2) | C23: =C8/Klimageld!$C$12*1000 -> 225.58084 | D23: =D8/Klimageld!$C$12*1000 -> 265.26946 | E23: =E8/Klimageld!$C$12*1000 -> 286.63377 | F23: =F8/Klimageld!$C$12*1000 -> 330.23053 | G23: =G8/Klimageld!$C$12*1000 -> 354.6699 | H23: =H8/Klimageld!$C$12*1000 -> 221.55689
B24: Klimageld nEHS/ETS 2 | C24: =C10/Klimageld!$C$12*1000 -> 146.76647 | D24: =D10/Klimageld!$C$12*1000 -> 184.5509 | E24: =E10/Klimageld!$C$12*1000 -> 208.97006 | F24: =F10/Klimageld!$C$12*1000 -> 238.45474 | G24: =G10/Klimageld!$C$12*1000 -> 224.32201 | H24: =H10/Klimageld!$C$12*1000 -> 155.68862
B26: Mitteilung Bundestag zum Entwurf KTF 2025: | C26: https://www.bundestag.de/presse/hib/kurzmeldungen-1015396
B27: Kabinettsvorlage "Entwuf Wirtschaftsplan": | C27: https://www.klimareporter.de/images/dokumente/2024/08/20240816-kabinettsvorlage-hh-2025.pdf

Sheet KTF Ausg 1. Entwurf BH25
B2: Ausgaben KTF Stand 19.08.2024 (Mrd. €) | C2: Quelle: | E2: https://www.bundestag.de/presse/hib/kurzmeldungen-1015396
B4: Jahr | C4: 2025 | D4: 2024 | E4: Veränd.
B5: Gebäude | C5: 14.4 | D5: 16.5 | E5: =C5-D5 -> -2.1 | F5: =C5/D5-1 -> -0.12727273 | H5: Maßnahmen der Energieeffizienz und erneuerbarer Energien im Gebäudebereich
B6: EEG-Differenzkosten | C6: 0 | D6: 19.4 | E6: =C6-D6 -> -19.4 | F6: =C6/D6-1 -> -1 | H6: Zuschüsse zur Entlastung beim Strompreis
B7: Mikroelektronik | C7: 4.9 | D7: 4.8 | E7: =C7-D7 -> 0.1 | F7: =C7/D7-1 -> 0.020833333 | H7: Mikroelektronik für die Digitalisierung
B8: Strompreiskompensation | C8: 3.3 | D8: 3.9 | E8: =C8-D8 -> -0.6 | F8: =C8/D8-1 -> -0.15384615 | H8: Zuschüsse an stromintensive Unternehmen zum Ausgleich von emissionshandelsbedingten Strompreiserhöhungen
B9: Energieeffizienz Industrie/Gewerbe | C9: 0.8 | D9: 0.9 | E9: =C9-D9 -> -0.1 | F9: =C9/D9-1 -> -0.11111111 | H9: Energieeffizienz in Industrie und Gewerbe
B10: Dekarbonisierung Industrie | C10: 0.6 | D10: 0.7 | E10: =C10-D10 -> -0.1 | F10: =C10/D10-1 -> -0.14285714 | H10: Dekarbonisierung der Industrie
B11: Wasserstoff Industrie | C11: 1.2 | D11: 1.3 | E11: =C11-D11 -> -0.1 | F11: =C11/D11-1 -> -0.076923077 | H11: Wasserstoffeinsatz in der Industrieproduktion
B12: Wasserstoffstrategie | C12: 0.5 | D12: 0.6 | E12: =C12-D12 -> -0.1 | F12: =C12/D12-1 -> -0.16666667 | H12: Umsetzung der Nationalen Wasserstoffstrategie
B13: Wäremnetze | C13: 1 | D13: 0.8 | E13: =C13-D13 -> 0.2 | F13: =C13/D13-1 -> 0.25 | H13: Transformation der Wärmenetze
B14: E-Autos | C14: 0 | D14: 0.2 | E14: =C14-D14 -> -0.2 | F14: =C14/D14-1 -> -1 | H14: Zuschüsse zum Kauf elektrisch betriebener Fahrzeuge
B15: Ladeinfrastruktur | C15: 1.6 | D15: 1.8 | E15: =C15-D15 -> -0.2 | F15: =C15/D15-1 -> -0.11111111 | H15: Zuschüsse zur Errichtung von Tank- und Ladeinfrastruktur
B16: Nutzfahrzeuge | C16: 0.4 | D16: 0.3 | E16: =C16-D16 -> 0.1 | F16: =C16/D16-1 -> 0.33333333 | H16: Anschaffung von Nutzfahrzeugen mit alternativen, klimaschonenden Antrieben
B17: Busse | C17: 0.5 | D17: 0.5 | E17: =C17-D17 -> 0 | F17: =C17/D17-1 -> 0 | H17: Förderung des Ankaufs von Bussen mit alternativen Antrieben
B18: Sonstiges | C18: =C19-SUM(C5:C17) -> 5.27 | D18: =D19-SUM(D5:D17) -> 6.206664 | E18: =C18-D18 -> -0.936664 | F18: =C18/D18-1 -> -0.15091263 | H18: Sonstiges
B19: Gesamt ("geplante" Ausgaben) | C19: ='KTF 1. Entwurf BH25'!D12 -> 34.47 | D19: ='KTF 1. Entwurf BH25'!C12 -> 57.906664 | E19: =C19-D19 -> -23.436664 | F19: =C19/D19-1 -> -0.40473172 | H19: =CONCATENATE("Die geringeren Ausgaben in 2025 gegenüber 2024 von ",E22*-1," Mrd. € setzen sich damit zusammen aus verringerten Ansätzen um ",E20*-1," Mrd. € und einer Erhöhung der Globalen Minderausgaben (ohne weitere Spezifizierung) um ",E21," Mrd. €.") -> Die geringeren Ausgaben in 2025 gegenüber 2024 von 10 Mrd. € setzen sich damit zusammen aus verringerten Ansätzen um 4 Mrd. € und einer Erhöhung der Globalen Minderausgaben (ohne weitere Spezifizierung) um 6 Mrd. €.
B20: Gesamt ohne EEG | C20: =C19-C6 -> 34.47 | D20: =D19-D6 -> 38.506664 | E20: =ROUND(C20-D20,1) -> -4 | F20: =C20/D20-1 -> -0.10483027
B21: Globale Minderausgaben | C21: ='KTF 1. Entwurf BH25'!D15 -> 9 | D21: 3 | E21: =C21-D21 -> 6 | F21: =C21/D21-1 -> 2
B22: Gesamt ohne: EEG u. Globale Minderausgaben | C22: =C20-C21 -> 25.47 | D22: =D20-D21 -> 35.506664 | E22: =ROUND(C22-D22,1) -> -10 | F22: =C22/D22-1 -> -0.28266987
B24: Jahr | C24: 2025
B25: Geplante Ausgaben lt. Finanzplan | C25: ='KTF nach BH24'!D12 -> 57 | D25: Stand nach Verabschiedung BH24
B26: Prognostizierte EEG-Differenzkosten 2024 | C26: ='KTF Ausg Entwurf 24'!C5*-1 -> -12.6 | D26: Stand 2023
B27: Geplante Ausgaben lt. Finanzplan ohne EEG | C27: =SUM(C25:C26) -> 44.4
B28: Jetzt geplant ohne EEG | C28: =C20 -> 34.47
B29: Kürzung demgegenüber | C29: =C28-C27 -> -9.93
C30: =C29/C27 -> -0.22364865

Sheet KTF nach BH24
B2: KTF nach Verabschiedung des Bundeshaushalts 2024
C4: Stand 1.3.24 | D4: Stand vor BVerfG-Urteil
B5: Mrd. € | C5: Soll | D5: Finanzplan
C6: 2024 | D6: =C6+1 -> 2025 | E6: =D6+1 -> 2026 | F6: =E6+1 -> 2027
B7: Einnahmen | C7: =SUM(C9:C11) -> 20.442 | D7: =SUM(D9:D11) -> 23.7 | E7: =SUM(E9:E11) -> 29.3 | F7: =SUM(F9:F11) -> 34.7
B8: CO2-Preis | C8: =SUM(C9:C10) -> 20.442 | D8: =SUM(D9:D10) -> 23.7 | E8: =SUM(E9:E10) -> 29.3 | F8: =SUM(F9:F10) -> 34.7
B9: EU-ETS 1 | C9: 8.187 | D9: 10.8 | E9: 12.9 | F9: 12.8
B10: nEHS / EU-ETS 2 | C10: 12.255 | D10: 12.9 | E10: 16.4 | F10: 21.9
B11: Bundeszuschuss | C11: 0 | D11: ? | E11: ? | F11: ?
B12: Ausgaben | C12: 49.454 | D12: 57 | E12: 49.7 | F12: 47.5
B13: Info: geplante Ausgaben vor BVerfG-Urteil | C13: 57.6
B14: Kontostand 1.1. | C14: 29 | D14: =C17 -> -0.012 | E14: =D17 -> -28.112 | F14: =E17 -> -43.312
B15: Jahressaldo (Einnahmen - Ausgaben) | C15: =C7-C12 -> -29.012 | D15: =D7-D12 -> -33.3 | E15: =E7-E12 -> -20.4 | F15: =F7-F12 -> -12.8
B16: Globale Mehreinnahmen | C16: 0 | D16: 5.2 | E16: 5.2 | F16: 5.2
B17: Kontostand 31.12. | C17: =SUM(C14:C16) -> -0.012 | D17: =SUM(D14:D16) -> -28.112 | E17: =SUM(E14:E16) -> -43.312 | F17: =SUM(F14:F16) -> -50.912
B19: vollständiges Klimageld (ETS 1 + nEHS/ETS 2) | C19: =C8/Klimageld!$C$12*1000 -> 244.81437 | D19: =D8/Klimageld!$C$12*1000 -> 283.83234 | E19: =E8/Klimageld!$C$12*1000 -> 350.8982 | F19: =F8/Klimageld!$C$12*1000 -> 415.56886
B20: Klimageld nEHS/ETS 2 | C20: =C10/Klimageld!$C$12*1000 -> 146.76647 | D20: =D10/Klimageld!$C$12*1000 -> 154.49102 | E20: =E10/Klimageld!$C$12*1000 -> 196.40719 | F20: =F10/Klimageld!$C$12*1000 -> 262.27545
B22: Durch einen geringen Mittelabfluss gegenüber den eingeplanten Mitteln, ergeben sich zusätzliche Spielräume:
B24: Siehe FÖS-Papier

Sheet KTF Ausg Entwurf 24
B2: Ausgaben Klima- und Transformationsfonds 2024 (in Mrd. € / Stand: Herbst 2023)
B4: Förderung energieeffiziente Gebäude und Heizungen | C4: 18.8
B5: EEG-Differenzkosten | C5: 12.6 | E5: Wirtschaftsplan 2024 KTF
B6: Förderung Mikroelektronik (Chipfabriken) | C6: 4.1
B7: Förderung Eisenbahninfrastruktur | C7: 4
B8: Förderung Wasserstoffwirtschaft | C8: 3.7
B9: Strompreiskompensation für Unternehmen | C9: 2.6
B10: Förderung Elektormobilität + Ladeinfrastruktur | C10: 4.7
B11: Förderung Energieeffizienz in Industrie und Gewerbe | C11: 0.9
B12: Transformation der Wärmenetze | C12: 0.8
B13: Sonstiges | C13: 5.4
B14: Gesamt | C14: =SUM(C4:C13) -> 57.6

Sheet KTF nach BVerfG
B2: Klima- und Transformationsfonds (KTF) nach dem BVerfG-Urteil (Stand: Dezember 2023)
B4: Mrd. € | C4: Soll | D4: Entwurf | E4: Finanzplan | I4: Ist
C5: 2023 | D5: 2024 | E5: =D5+1 -> 2025 | F5: =E5+1 -> 2026 | G5: =F5+1 -> 2027 | I5: 2023
B6: Einnahmen | C6: =SUM(C8:C10) -> 15.9 | D6: =SUM(D8:D10) -> 19.1 | E6: =SUM(E8:E10) -> 23.7 | F6: =SUM(F8:F10) -> 29.3 | G6: =SUM(G8:G10) -> 34.7 | I6: =SUM(I8:I10) -> 18.373
B7: CO2-Preis | C7: =SUM(C8:C9) -> 15.9 | D7: =SUM(D8:D9) -> 19.1 | E7: =SUM(E8:E9) -> 23.7 | F7: =SUM(F8:F9) -> 29.3 | G7: =SUM(G8:G9) -> 34.7 | I7: =SUM(I8:I9) -> 18.373
B8: EU-ETS 1 | C8: 7.3 | D8: 8.2 | E8: 10.8 | F8: 12.9 | G8: 12.8 | I8: 7.645
B9: nEHS / EU-ETS 2 | C9: 8.6 | D9: 10.9 | E9: 12.9 | F9: 16.4 | G9: 21.9 | I9: 10.728
B10: Bundeszuschuss
B11: Ausgaben | C11: 36 | D11: 57.6 | E11: 57 | F11: 49.7 | G11: 47.5 | I11: 20.1
B12: Kontostand 1.1. | C12: =78.9-60 -> 18.9 | D12: =70.7-60 -> 10.7 | E12: =D15 -> -18.5 | F12: =E15 -> -46.6 | G12: =F15 -> -61.8
B13: Jahressaldo (Einnahmen - Ausgaben) | C13: =C6-C11 -> -20.1 | D13: =D6-D11 -> -38.5 | E13: =E6-E11 -> -33.3 | F13: =F6-F11 -> -20.4 | G13: =G6-G11 -> -12.8 | I13: =I6-I11 -> -1.727
B14: Globale Mehreinnahmen | C14: 6 | D14: 9.3 | E14: 5.2 | F14: 5.2 | G14: 5.2
B15: Kontostand 31.12. | C15: =SUM(C12:C14) -> 4.8 | D15: =SUM(D12:D14) -> -18.5 | E15: =SUM(E12:E14) -> -46.6 | F15: =SUM(F12:F14) -> -61.8 | G15: =SUM(G12:G14) -> -69.4

Sheet KTF vor BVerfG
B2: Klima- und Transformationsfonds (KTF) vor dem BVerfG-Urteil (Stand: Herbst 2023)
B4: Mrd. € | C4: Ist | D4: Ist | E4: Ist | F4: Soll | G4: Entwurf | H4: Finanzplan
C5: 2020 | D5: 2021 | E5: 2022 | F5: 2023 | G5: 2024 | H5: =G5+1 -> 2025 | I5: =H5+1 -> 2026 | J5: =I5+1 -> 2027
B6: Einnahmen | C6: =SUM(C8:C10) -> 30.3 | D6: =SUM(D8:D10) -> 15 | E6: =SUM(E8:E10) -> 19.1 | F6: =SUM(F8:F10) -> 15.9 | G6: =SUM(G8:G10) -> 19.1 | H6: =SUM(H8:H10) -> 23.7 | I6: =SUM(I8:I10) -> 29.3 | J6: =SUM(J8:J10) -> 34.7
B7: CO2-Preis | C7: =SUM(C8:C9) -> 2.6 | D7: =SUM(D8:D9) -> 12.5 | E7: =SUM(E8:E9) -> 13.2 | F7: =SUM(F8:F9) -> 15.9 | G7: =SUM(G8:G9) -> 19.1 | H7: =SUM(H8:H9) -> 23.7 | I7: =SUM(I8:I9) -> 29.3 | J7: =SUM(J8:J9) -> 34.7
B8: EU-ETS 1 | C8: 2.6 | D8: 5.3 | E8: 6.8 | F8: 7.3 | G8: 8.2 | H8: 10.8 | I8: 12.9 | J8: 12.8
B9: nEHS / EU-ETS 2 | C9: 0 | D9: 7.2 | E9: 6.4 | F9: 8.6 | G9: 10.9 | H9: 12.9 | I9: 16.4 | J9: 21.9
B10: Bundeszuschuss | C10: 27.7 | D10: 2.5 | E10: 5.9 | K10: 2024 - 2027
B11: Ausgaben | C11: 5 | D11: 21.1 | E11: 13.7 | F11: 36 | G11: 57.6 | H11: 57 | I11: 49.7 | J11: 47.5 | K11: =SUM(G11:J11) -> 211.8
B12: Kontostand 1.1. | C12: 6.2 | D12: =C16 -> 31.5 | E12: =D16 -> 85.4 | F12: 78.9 | G12: 70.7 | H12: =G16 -> 41.5 | I12: =H16 -> 13.4 | J12: =I16 -> -1.8
B13: Jahressaldo (Einnahmen - Ausgaben) | C13: =C6-C11 -> 25.3 | D13: =D6-D11 -> -6.1 | E13: =E6-E11 -> 5.4 | F13: =F6-F11 -> -20.1 | G13: =G6-G11 -> -38.5 | H13: =H6-H11 -> -33.3 | I13: =I6-I11 -> -20.4 | J13: =J6-J11 -> -12.8
B14: Kreditermächtigung | D14: 60
B15: Globale Mehreinnahmen | F15: 6 | G15: 9.3 | H15: 5.2 | I15: 5.2 | J15: 5.2
B16: Kontostand 31.12. | C16: =SUM(C12:C15) -> 31.5 | D16: =SUM(D12:D15) -> 85.4 | E16: =SUM(E12:E15) -> 90.8 | F16: =SUM(F12:F15) -> 64.8 | G16: =SUM(G12:G15) -> 41.5 | H16: =SUM(H12:H15) -> 13.4 | I16: =SUM(I12:I15) -> -1.8 | J16: =SUM(J12:J15) -> -9.4
B18: vollständiges Klimageld (ETS 1 + nEHS/ETS 2) | C18: =C7/Klimageld!$C$12*1000 -> 31.137725 | D18: =D7/Klimageld!$C$12*1000 -> 149.7006 | E18: =E7/Klimageld!$C$12*1000 -> 158.08383 | F18: =F7/Klimageld!$C$12*1000 -> 190.41916 | G18: =G7/Klimageld!$C$12*1000 -> 228.74251 | H18: =H7/Klimageld!$C$12*1000 -> 283.83234 | I18: =I7/Klimageld!$C$12*1000 -> 350.8982 | J18: =J7/Klimageld!$C$12*1000 -> 415.56886
B19: Klimageld nEHS/ETS 2 | D19: =D9/Klimageld!$C$12*1000 -> 86.227545 | E19: =E9/Klimageld!$C$12*1000 -> 76.646707 | F19: =F9/Klimageld!$C$12*1000 -> 102.99401 | G19: =G9/Klimageld!$C$12*1000 -> 130.53892 | H19: =H9/Klimageld!$C$12*1000 -> 154.49102 | I19: =I9/Klimageld!$C$12*1000 -> 196.40719 | J19: =J9/Klimageld!$C$12*1000 -> 262.27545
B21: s.a. MCC-Paper zum KTF | C21: hier | D21: Die Finanzierung der Transformation: Klimafonds, Klimageld und Kernhaushalt

Sheet Impressum
B2: Andreas Wolfsteiner
B3: www.klima-retten.info
B5: klima-retten@email.de
